Workbook
Name Segment_Région: #N/A

Sheet Accueil
G2: DISCLAIMER : les bases de données sont générées à partir d'une IA (Microsoft Copilot)
G3: Ce fichier est donc un fichier de travail permettant la compréhension et l'usage de formules.
G4: En aucun cas, il ne s'agit de données réelles et/ou confidentielles.
G5: Je vous remercie pour votre compréhension.
A9: Bonjour et bienvenue sur le fichier de démonstration "Suivre des effectifs"
A11: Le fichier se compose de 6 onglets :
A12: 1) | B12: L'onglet "Accueil" sert de page de présentation
A13: 2) | B13: L'onglet "Base de données" contient une base de données qui servira de source à notre démonstration
A14: 3) | B14: L'onglet "Entrées" contient la liste des salariés entrés en cours d'année
A15: 4) | B15: L'onglet "Sorties" contient la liste des salariés sorties en cours d'année
A16: 5) | B16: L'onglet "Entrées & Sorties" contient la liste des salariés entrés ET sorties en cours d'année
A17: 6) | B17: L'onglet "Synthèse" viendra récapituler les mouvements d'effectifs

Sheet Base de données
A1: Mois extraction | B1: Matricule | C1: Nom | D1: Prénom | E1: Sexe | F1: Contrat | G1: Service | H1: ETP | I1: Date_entrée | J1: Âge | K1: CSP | L1: Région
A2: 45658 | B2: GPNP7 | C2: Perret | D2: Agnès | E2: F | F2: Stage | G2: Commerciaux | H2: 1 | I2: 45667 | J2: 32 | K2: Non Cadre | L2: Bretagne
A3: 45658 | B3: DKKLE | C3: Baron | D3: Danielle | E3: F | F3: Alternant | G3: Marketing | H3: 1 | I3: 44294 | J3: 34 | K3: Non Cadre | L3: Île-de-France
A4: 45658 | B4: X43EK | C4: Aubry | D4: Georges | E4: H | F4: CDD | G4: Marketing | H4: 1 | I4: 45672 | J4: 28 | K4: Non Cadre | L4: Nouvelle-Aquitaine
A5: 45658 | B5: IDCZB | C5: Pages | D5: Emmanuel | E5: H | F5: Stage | G5: Commerciaux | H5: 1 | I5: 44164 | J5: 42 | K5: Non Cadre | L5: Nouvelle-Aquitaine
A6: 45658 | B6: WVLRU | C6: Brunet | D6: Charles | E6: H | F6: CDI | G6: Informatique | H6: 0.91 | I6: 44766 | J6: 41 | K6: Cadre | L6: Normandie
A7: 45658 | B7: I3SPC | C7: Boulanger | D7: Martine | E7: F | F7: CDI | G7: RH | H7: 0.91 | I7: 44884 | J7: 58 | K7: Cadre | L7: Île-de-France
A8: 45658 | B8: H1WN8 | C8: Colas | D8: Claudine | E8: F | F8: CDI | G8: Logistique | H8: 0.91 | I8: 45295 | J8: 37 | K8: Non Cadre | L8: Occitanie
A9: 45658 | B9: 61344 | C9: De Oliveira | D9: Benoît | E9: H | F9: CDI | G9: Informatique | H9: 1 | I9: 44378 | J9: 21 | K9: Non Cadre | L9: Île-de-France
A10: 45658 | B10: JHHFN | C10: Pichon | D10: Rémy | E10: H | F10: CDD | G10: Commerciaux | H10: 0.91 | I10: 45255 | J10: 33 | K10: Non Cadre | L10: Bretagne
A11: 45658 | B11: 7SPGI | C11: Rossi | D11: René | E11: H | F11: CDD | G11: Informatique | H11: 1 | I11: 45331 | J11: 42 | K11: Cadre | L11: Bretagne
A12: 45658 | B12: E3HIK | C12: Marin | D12: Éric | E12: H | F12: CDI | G12: RH | H12: 1 | I12: 44626 | J12: 64 | K12: Cadre | L12: Pays de la Loire
A13: 45658 | B13: LPLFA | C13: Étienne | D13: René | E13: H | F13: CDI | G13: Commerciaux | H13: 1 | I13: 45438 | J13: 44 | K13: Cadre | L13: Corse
... A3441: 45992 | B3441: U09KY | C3441: Cohen | D3441: Louis | E3441: H | F3441: CDI | G3441: RH | H3441: 1 | I3441: 45746 | J3441: 29 | K3441: Non Cadre | L3441: Corse

Sheet Entrées
B2: Entrée (en cours d'année)
B4: Matricule | C4: Nom Prénom | D4: Date entrée | E4: Région
B5: {=_xlfn.UNIQUE(SECRET!E:E)} -> Qui est entré ?
B6: -
B7: G45AC | C7: =IF(B7="","-",_xlfn.XLOOKUP($B7,'Base de données'!$B:$B,SECRET!$X:$X,"",0,1)) -> Breton Gabrielle | D7: =IF(B7="","-",_xlfn.XLOOKUP($B7,'Base de données'!$B:$B,'Base de données'!$A:$A,"",0,1)) -> 45689 | E7: =IF(B7="","-",_xlfn.XLOOKUP($B7,'Base de données'!$B:$B,'Base de données'!$L:$L,"",0,1)) -> Auvergne-Rhône-Alpes
B8: QJKEN | C8: =IF(B8="","-",_xlfn.XLOOKUP($B8,'Base de données'!$B:$B,SECRET!$X:$X,"",0,1)) -> Salmon Thibaut | D8: =IF(B8="","-",_xlfn.XLOOKUP($B8,'Base de données'!$B:$B,'Base de données'!$A:$A,"",0,1)) -> 45689 | E8: =IF(B8="","-",_xlfn.XLOOKUP($B8,'Base de données'!$B:$B,'Base de données'!$L:$L,"",0,1)) -> Île-de-France
B9: FUMYO | C9: =IF(B9="","-",_xlfn.XLOOKUP($B9,'Base de données'!$B:$B,SECRET!$X:$X,"",0,1)) -> Marchal Robert | D9: =IF(B9="","-",_xlfn.XLOOKUP($B9,'Base de données'!$B:$B,'Base de données'!$A:$A,"",0,1)) -> 45689 | E9: =IF(B9="","-",_xlfn.XLOOKUP($B9,'Base de données'!$B:$B,'Base de données'!$L:$L,"",0,1)) -> Île-de-France
B10: 0D66F | C10: =IF(B10="","-",_xlfn.XLOOKUP($B10,'Base de données'!$B:$B,SECRET!$X:$X,"",0,1)) -> Maréchal Paulette | D10: =IF(B10="","-",_xlfn.XLOOKUP($B10,'Base de données'!$B:$B,'Base de données'!$A:$A,"",0,1)) -> 45689 | E10: =IF(B10="","-",_xlfn.XLOOKUP($B10,'Base de données'!$B:$B,'Base de données'!$L:$L,"",0,1)) -> Île-de-France
B11: 00EBC | C11: =IF(B11="","-",_xlfn.XLOOKUP($B11,'Base de données'!$B:$B,SECRET!$X:$X,"",0,1)) -> Leconte Vincent | D11: =IF(B11="","-",_xlfn.XLOOKUP($B11,'Base de données'!$B:$B,'Base de données'!$A:$A,"",0,1)) -> 45689 | E11: =IF(B11="","-",_xlfn.XLOOKUP($B11,'Base de données'!$B:$B,'Base de données'!$L:$L,"",0,1)) -> Pays de la Loire
B12: DZOIT | C12: =IF(B12="","-",_xlfn.XLOOKUP($B12,'Base de données'!$B:$B,SECRET!$X:$X,"",0,1)) -> Meunier Marcel | D12: =IF(B12="","-",_xlfn.XLOOKUP($B12,'Base de données'!$B:$B,'Base de données'!$A:$A,"",0,1)) -> 45689 | E12: =IF(B12="","-",_xlfn.XLOOKUP($B12,'Base de données'!$B:$B,'Base de données'!$L:$L,"",0,1)) -> Hauts-de-France
B13: QOX3I | C13: =IF(B13="","-",_xlfn.XLOOKUP($B13,'Base de données'!$B:$B,SECRET!$X:$X,"",0,1)) -> Delmas Marianne | D13: =IF(B13="","-",_xlfn.XLOOKUP($B13,'Base de données'!$B:$B,'Base de données'!$A:$A,"",0,1)) -> 45689 | E13: =IF(B13="","-",_xlfn.XLOOKUP($B13,'Base de données'!$B:$B,'Base de données'!$L:$L,"",0,1)) -> Bourgogne-Franche-Comté
B14: Y221M | C14: =IF(B14="","-",_xlfn.XLOOKUP($B14,'Base de données'!$B:$B,SECRET!$X:$X,"",0,1)) -> Camus Antoinette | D14: =IF(B14="","-",_xlfn.XLOOKUP($B14,'Base de données'!$B:$B,'Base de données'!$A:$A,"",0,1)) -> 45689 | E14: =IF(B14="","-",_xlfn.XLOOKUP($B14,'Base de données'!$B:$B,'Base de données'!$L:$L,"",0,1)) -> Île-de-France
B15: 8ZRIS | C15: =IF(B15="","-",_xlfn.XLOOKUP($B15,'Base de données'!$B:$B,SECRET!$X:$X,"",0,1)) -> Perez Michel | D15: =IF(B15="","-",_xlfn.XLOOKUP($B15,'Base de données'!$B:$B,'Base de données'!$A:$A,"",0,1)) -> 45689 | E15: =IF(B15="","-",_xlfn.XLOOKUP($B15,'Base de données'!$B:$B,'Base de données'!$L:$L,"",0,1)) -> Occitanie
B16: I5UV9 | C16: =IF(B16="","-",_xlfn.XLOOKUP($B16,'Base de données'!$B:$B,SECRET!$X:$X,"",0,1)) -> Leclerc Victoire | D16: =IF(B16="","-",_xlfn.XLOOKUP($B16,'Base de données'!$B:$B,'Base de données'!$A:$A,"",0,1)) -> 45717 | E16: =IF(B16="","-",_xlfn.XLOOKUP($B16,'Base de données'!$B:$B,'Base de données'!$L:$L,"",0,1)) -> Île-de-France
B17: R8VT4 | C17: =IF(B17="","-",_xlfn.XLOOKUP($B17,'Base de données'!$B:$B,SECRET!$X:$X,"",0,1)) -> Bousquet Isabelle | D17: =IF(B17="","-",_xlfn.XLOOKUP($B17,'Base de données'!$B:$B,'Base de données'!$A:$A,"",0,1)) -> 45717 | E17: =IF(B17="","-",_xlfn.XLOOKUP($B17,'Base de données'!$B:$B,'Base de données'!$L:$L,"",0,1)) -> Normandie
B18: T0BCS | C18: =IF(B18="","-",_xlfn.XLOOKUP($B18,'Base de données'!$B:$B,SECRET!$X:$X,"",0,1)) -> Poirier Charles | D18: =IF(B18="","-",_xlfn.XLOOKUP($B18,'Base de données'!$B:$B,'Base de données'!$A:$A,"",0,1)) -> 45717 | E18: =IF(B18="","-",_xlfn.XLOOKUP($B18,'Base de données'!$B:$B,'Base de données'!$L:$L,"",0,1)) -> Île-de-France
... B92: U09KY | C92: =IF(B92="","-",_xlfn.XLOOKUP($B92,'Base de données'!$B:$B,SECRET!$X:$X,"",0,1)) -> Cohen Louis | D92: =IF(B92="","-",_xlfn.XLOOKUP($B92,'Base de données'!$B:$B,'Base de données'!$A:$A,"",0,1)) -> 45992 | E92: =IF(B92="","-",_xlfn.XLOOKUP($B92,'Base de données'!$B:$B,'Base de données'!$L:$L,"",0,1)) -> Corse
B93: 0 | C93: =IF(B93="","-",_xlfn.XLOOKUP($B93,'Base de données'!$B:$B,SECRET!$X:$X,"",0,1)) | D93: =IF(B93="","-",_xlfn.XLOOKUP($B93,'Base de données'!$B:$B,'Base de données'!$A:$A,"",0,1)) | E93: =IF(B93="","-",_xlfn.XLOOKUP($B93,'Base de données'!$B:$B,'Base de données'!$L:$L,"",0,1))
C94: =IF(B94="","-",_xlfn.XLOOKUP($B94,'Base de données'!$B:$B,SECRET!$X:$X,"",0,1)) -> - | D94: =IF(B94="","-",_xlfn.XLOOKUP($B94,'Base de données'!$B:$B,'Base de données'!$A:$A,"",0,1)) -> - | E94: =IF(B94="","-",_xlfn.XLOOKUP($B94,'Base de données'!$B:$B,'Base de données'!$L:$L,"",0,1)) -> -
C95: =IF(B95="","-",_xlfn.XLOOKUP($B95,'Base de données'!$B:$B,SECRET!$X:$X,"",0,1)) -> - | D95: =IF(B95="","-",_xlfn.XLOOKUP($B95,'Base de données'!$B:$B,'Base de données'!$A:$A,"",0,1)) -> - | E95: =IF(B95="","-",_xlfn.XLOOKUP($B95,'Base de données'!$B:$B,'Base de données'!$L:$L,"",0,1)) -> -
C96: =IF(B96="","-",_xlfn.XLOOKUP($B96,'Base de données'!$B:$B,SECRET!$X:$X,"",0,1)) -> - | D96: =IF(B96="","-",_xlfn.XLOOKUP($B96,'Base de données'!$B:$B,'Base de données'!$A:$A,"",0,1)) -> - | E96: =IF(B96="","-",_xlfn.XLOOKUP($B96,'Base de données'!$B:$B,'Base de données'!$L:$L,"",0,1)) -> -
C97: =IF(B97="","-",_xlfn.XLOOKUP($B97,'Base de données'!$B:$B,SECRET!$X:$X,"",0,1)) -> - | D97: =IF(B97="","-",_xlfn.XLOOKUP($B97,'Base de données'!$B:$B,'Base de données'!$A:$A,"",0,1)) -> - | E97: =IF(B97="","-",_xlfn.XLOOKUP($B97,'Base de données'!$B:$B,'Base de données'!$L:$L,"",0,1)) -> -
C98: =IF(B98="","-",_xlfn.XLOOKUP($B98,'Base de données'!$B:$B,SECRET!$X:$X,"",0,1)) -> - | D98: =IF(B98="","-",_xlfn.XLOOKUP($B98,'Base de données'!$B:$B,'Base de données'!$A:$A,"",0,1)) -> - | E98: =IF(B98="","-",_xlfn.XLOOKUP($B98,'Base de données'!$B:$B,'Base de données'!$L:$L,"",0,1)) -> -
C99: =IF(B99="","-",_xlfn.XLOOKUP($B99,'Base de données'!$B:$B,SECRET!$X:$X,"",0,1)) -> - | D99: =IF(B99="","-",_xlfn.XLOOKUP($B99,'Base de données'!$B:$B,'Base de données'!$A:$A,"",0,1)) -> - | E99: =IF(B99="","-",_xlfn.XLOOKUP($B99,'Base de données'!$B:$B,'Base de données'!$L:$L,"",0,1)) -> -
C100: =IF(B100="","-",_xlfn.XLOOKUP($B100,'Base de données'!$B:$B,SECRET!$X:$X,"",0,1)) -> - | D100: =IF(B100="","-",_xlfn.XLOOKUP($B100,'Base de données'!$B:$B,'Base de données'!$A:$A,"",0,1)) -> - | E100: =IF(B100="","-",_xlfn.XLOOKUP($B100,'Base de données'!$B:$B,'Base de données'!$L:$L,"",0,1)) -> -
C101: =IF(B101="","-",_xlfn.XLOOKUP($B101,'Base de données'!$B:$B,SECRET!$X:$X,"",0,1)) -> - | D101: =IF(B101="","-",_xlfn.XLOOKUP($B101,'Base de données'!$B:$B,'Base de données'!$A:$A,"",0,1)) -> - | E101: =IF(B101="","-",_xlfn.XLOOKUP($B101,'Base de données'!$B:$B,'Base de données'!$L:$L,"",0,1)) -> -
C102: =IF(B102="","-",_xlfn.XLOOKUP($B102,'Base de données'!$B:$B,SECRET!$X:$X,"",0,1)) -> - | D102: =IF(B102="","-",_xlfn.XLOOKUP($B102,'Base de données'!$B:$B,'Base de données'!$A:$A,"",0,1)) -> - | E102: =IF(B102="","-",_xlfn.XLOOKUP($B102,'Base de données'!$B:$B,'Base de données'!$L:$L,"",0,1)) -> -
C103: =IF(B103="","-",_xlfn.XLOOKUP($B103,'Base de données'!$B:$B,SECRET!$X:$X,"",0,1)) -> - | D103: =IF(B103="","-",_xlfn.XLOOKUP($B103,'Base de données'!$B:$B,'Base de données'!$A:$A,"",0,1)) -> - | E103: =IF(B103="","-",_xlfn.XLOOKUP($B103,'Base de données'!$B:$B,'Base de données'!$L:$L,"",0,1)) -> -
C104: =IF(B104="","-",_xlfn.XLOOKUP($B104,'Base de données'!$B:$B,SECRET!$X:$X,"",0,1)) -> - | D104: =IF(B104="","-",_xlfn.XLOOKUP($B104,'Base de données'!$B:$B,'Base de données'!$A:$A,"",0,1)) -> - | E104: =IF(B104="","-",_xlfn.XLOOKUP($B104,'Base de données'!$B:$B,'Base de données'!$L:$L,"",0,1)) -> -
C105: =IF(B105="","-",_xlfn.XLOOKUP($B105,'Base de données'!$B:$B,SECRET!$X:$X,"",0,1)) -> - | D105: =IF(B105="","-",_xlfn.XLOOKUP($B105,'Base de données'!$B:$B,'Base de données'!$A:$A,"",0,1)) -> - | E105: =IF(B105="","-",_xlfn.XLOOKUP($B105,'Base de données'!$B:$B,'Base de données'!$L:$L,"",0,1)) -> -
... C150: =IF(B150="","-",_xlfn.XLOOKUP($B150,'Base de données'!$B:$B,SECRET!$X:$X,"",0,1)) -> - | D150: =IF(B150="","-",_xlfn.XLOOKUP($B150,'Base de données'!$B:$B,'Base de données'!$A:$A,"",0,1)) -> - | E150: =IF(B150="","-",_xlfn.XLOOKUP($B150,'Base de données'!$B:$B,'Base de données'!$L:$L,"",0,1)) -> -

Sheet Sorties
B2: Sortie (en cours d'année)
B4: Matricule | C4: Nom Prénom | D4: Date sortie | E4: Région
B5: {=_xlfn.UNIQUE(SECRET!B:B)} -> Qui est sortie ?
B6: -
B7: I3SPC | C7: =IF(B7="","-",_xlfn.XLOOKUP($B7,'Base de données'!$B:$B,SECRET!$X:$X,"",0,1)) -> Boulanger Martine | D7: =IF(B7="","-",_xlfn.XLOOKUP($B7,'Base de données'!$B:$B,'Base de données'!$A:$A,"",0,-1)) -> 45778 | E7: =IF(B7="","-",_xlfn.XLOOKUP($B7,'Base de données'!$B:$B,'Base de données'!$L:$L,"",0,1)) -> Île-de-France
B8: JHHFN | C8: =IF(B8="","-",_xlfn.XLOOKUP($B8,'Base de données'!$B:$B,SECRET!$X:$X,"",0,1)) -> Pichon Rémy | D8: =IF(B8="","-",_xlfn.XLOOKUP($B8,'Base de données'!$B:$B,'Base de données'!$A:$A,"",0,-1)) -> 45658 | E8: =IF(B8="","-",_xlfn.XLOOKUP($B8,'Base de données'!$B:$B,'Base de données'!$L:$L,"",0,1)) -> Bretagne
B9: AQ2RR | C9: =IF(B9="","-",_xlfn.XLOOKUP($B9,'Base de données'!$B:$B,SECRET!$X:$X,"",0,1)) -> Antoine Noémi | D9: =IF(B9="","-",_xlfn.XLOOKUP($B9,'Base de données'!$B:$B,'Base de données'!$A:$A,"",0,-1)) -> 45931 | E9: =IF(B9="","-",_xlfn.XLOOKUP($B9,'Base de données'!$B:$B,'Base de données'!$L:$L,"",0,1)) -> Nouvelle-Aquitaine
B10: JU3RW | C10: =IF(B10="","-",_xlfn.XLOOKUP($B10,'Base de données'!$B:$B,SECRET!$X:$X,"",0,1)) -> Dijoux Laurent | D10: =IF(B10="","-",_xlfn.XLOOKUP($B10,'Base de données'!$B:$B,'Base de données'!$A:$A,"",0,-1)) -> 45689 | E10: =IF(B10="","-",_xlfn.XLOOKUP($B10,'Base de données'!$B:$B,'Base de données'!$L:$L,"",0,1)) -> Provence-Alpes-Côte d’Azur
B11: 1RDZB | C11: =IF(B11="","-",_xlfn.XLOOKUP($B11,'Base de données'!$B:$B,SECRET!$X:$X,"",0,1)) -> Camus Thierry | D11: =IF(B11="","-",_xlfn.XLOOKUP($B11,'Base de données'!$B:$B,'Base de données'!$A:$A,"",0,-1)) -> 45778 | E11: =IF(B11="","-",_xlfn.XLOOKUP($B11,'Base de données'!$B:$B,'Base de données'!$L:$L,"",0,1)) -> Nouvelle-Aquitaine
B12: CUQ5O | C12: =IF(B12="","-",_xlfn.XLOOKUP($B12,'Base de données'!$B:$B,SECRET!$X:$X,"",0,1)) -> Camus Christiane | D12: =IF(B12="","-",_xlfn.XLOOKUP($B12,'Base de données'!$B:$B,'Base de données'!$A:$A,"",0,-1)) -> 45870 | E12: =IF(B12="","-",_xlfn.XLOOKUP($B12,'Base de données'!$B:$B,'Base de données'!$L:$L,"",0,1)) -> Hauts-de-France
B13: NYNY1 | C13: =IF(B13="","-",_xlfn.XLOOKUP($B13,'Base de données'!$B:$B,SECRET!$X:$X,"",0,1)) -> Alexandre Hortense | D13: =IF(B13="","-",_xlfn.XLOOKUP($B13,'Base de données'!$B:$B,'Base de données'!$A:$A,"",0,-1)) -> 45931 | E13: =IF(B13="","-",_xlfn.XLOOKUP($B13,'Base de données'!$B:$B,'Base de données'!$L:$L,"",0,1)) -> Île-de-France
B14: 2UDL1 | C14: =IF(B14="","-",_xlfn.XLOOKUP($B14,'Base de données'!$B:$B,SECRET!$X:$X,"",0,1)) -> Lebreton Zacharie | D14: =IF(B14="","-",_xlfn.XLOOKUP($B14,'Base de données'!$B:$B,'Base de données'!$A:$A,"",0,-1)) -> 45870 | E14: =IF(B14="","-",_xlfn.XLOOKUP($B14,'Base de données'!$B:$B,'Base de données'!$L:$L,"",0,1)) -> Nouvelle-Aquitaine
B15: TY6IH | C15: =IF(B15="","-",_xlfn.XLOOKUP($B15,'Base de données'!$B:$B,SECRET!$X:$X,"",0,1)) -> Da Silva Xavier | D15: =IF(B15="","-",_xlfn.XLOOKUP($B15,'Base de données'!$B:$B,'Base de données'!$A:$A,"",0,-1)) -> 45658 | E15: =IF(B15="","-",_xlfn.XLOOKUP($B15,'Base de données'!$B:$B,'Base de données'!$L:$L,"",0,1)) -> Hauts-de-France
B16: QBERT | C16: =IF(B16="","-",_xlfn.XLOOKUP($B16,'Base de données'!$B:$B,SECRET!$X:$X,"",0,1)) -> Garnier Juliette | D16: =IF(B16="","-",_xlfn.XLOOKUP($B16,'Base de données'!$B:$B,'Base de données'!$A:$A,"",0,-1)) -> 45931 | E16: =IF(B16="","-",_xlfn.XLOOKUP($B16,'Base de données'!$B:$B,'Base de données'!$L:$L,"",0,1)) -> Centre-Val de Loire
B17: P0IIH | C17: =IF(B17="","-",_xlfn.XLOOKUP($B17,'Base de données'!$B:$B,SECRET!$X:$X,"",0,1)) -> Simon Aurore | D17: =IF(B17="","-",_xlfn.XLOOKUP($B17,'Base de données'!$B:$B,'Base de données'!$A:$A,"",0,-1)) -> 45658 | E17: =IF(B17="","-",_xlfn.XLOOKUP($B17,'Base de données'!$B:$B,'Base de données'!$L:$L,"",0,1)) -> Auvergne-Rhône-Alpes
B18: DOGY4 | C18: =IF(B18="","-",_xlfn.XLOOKUP($B18,'Base de données'!$B:$B,SECRET!$X:$X,"",0,1)) -> Turpin Dorothée | D18: =IF(B18="","-",_xlfn.XLOOKUP($B18,'Base de données'!$B:$B,'Base de données'!$A:$A,"",0,-1)) -> 45748 | E18: =IF(B18="","-",_xlfn.XLOOKUP($B18,'Base de données'!$B:$B,'Base de données'!$L:$L,"",0,1)) -> Île-de-France
... B70: 8Y304 | C70: =IF(B70="","-",_xlfn.XLOOKUP($B70,'Base de données'!$B:$B,SECRET!$X:$X,"",0,1)) -> Briand Stéphanie | D70: =IF(B70="","-",_xlfn.XLOOKUP($B70,'Base de données'!$B:$B,'Base de données'!$A:$A,"",0,-1)) -> 45931 | E70: =IF(B70="","-",_xlfn.XLOOKUP($B70,'Base de données'!$B:$B,'Base de données'!$L:$L,"",0,1)) -> Île-de-France
B71: 0 | C71: =IF(B71="","-",_xlfn.XLOOKUP($B71,'Base de données'!$B:$B,SECRET!$X:$X,"",0,1)) | D71: =IF(B71="","-",_xlfn.XLOOKUP($B71,'Base de données'!$B:$B,'Base de données'!$A:$A,"",0,-1)) | E71: =IF(B71="","-",_xlfn.XLOOKUP($B71,'Base de données'!$B:$B,'Base de données'!$L:$L,"",0,1))
C72: =IF(B72="","-",_xlfn.XLOOKUP($B72,'Base de données'!$B:$B,SECRET!$X:$X,"",0,1)) -> - | D72: =IF(B72="","-",_xlfn.XLOOKUP($B72,'Base de données'!$B:$B,'Base de données'!$A:$A,"",0,-1)) -> - | E72: =IF(B72="","-",_xlfn.XLOOKUP($B72,'Base de données'!$B:$B,'Base de données'!$L:$L,"",0,1)) -> -
C73: =IF(B73="","-",_xlfn.XLOOKUP($B73,'Base de données'!$B:$B,SECRET!$X:$X,"",0,1)) -> - | D73: =IF(B73="","-",_xlfn.XLOOKUP($B73,'Base de données'!$B:$B,'Base de données'!$A:$A,"",0,-1)) -> - | E73: =IF(B73="","-",_xlfn.XLOOKUP($B73,'Base de données'!$B:$B,'Base de données'!$L:$L,"",0,1)) -> -
C74: =IF(B74="","-",_xlfn.XLOOKUP($B74,'Base de données'!$B:$B,SECRET!$X:$X,"",0,1)) -> - | D74: =IF(B74="","-",_xlfn.XLOOKUP($B74,'Base de données'!$B:$B,'Base de données'!$A:$A,"",0,-1)) -> - | E74: =IF(B74="","-",_xlfn.XLOOKUP($B74,'Base de données'!$B:$B,'Base de données'!$L:$L,"",0,1)) -> -
C75: =IF(B75="","-",_xlfn.XLOOKUP($B75,'Base de données'!$B:$B,SECRET!$X:$X,"",0,1)) -> - | D75: =IF(B75="","-",_xlfn.XLOOKUP($B75,'Base de données'!$B:$B,'Base de données'!$A:$A,"",0,-1)) -> - | E75: =IF(B75="","-",_xlfn.XLOOKUP($B75,'Base de données'!$B:$B,'Base de données'!$L:$L,"",0,1)) -> -
C76: =IF(B76="","-",_xlfn.XLOOKUP($B76,'Base de données'!$B:$B,SECRET!$X:$X,"",0,1)) -> - | D76: =IF(B76="","-",_xlfn.XLOOKUP($B76,'Base de données'!$B:$B,'Base de données'!$A:$A,"",0,-1)) -> - | E76: =IF(B76="","-",_xlfn.XLOOKUP($B76,'Base de données'!$B:$B,'Base de données'!$L:$L,"",0,1)) -> -
C77: =IF(B77="","-",_xlfn.XLOOKUP($B77,'Base de données'!$B:$B,SECRET!$X:$X,"",0,1)) -> - | D77: =IF(B77="","-",_xlfn.XLOOKUP($B77,'Base de données'!$B:$B,'Base de données'!$A:$A,"",0,-1)) -> - | E77: =IF(B77="","-",_xlfn.XLOOKUP($B77,'Base de données'!$B:$B,'Base de données'!$L:$L,"",0,1)) -> -
C78: =IF(B78="","-",_xlfn.XLOOKUP($B78,'Base de données'!$B:$B,SECRET!$X:$X,"",0,1)) -> - | D78: =IF(B78="","-",_xlfn.XLOOKUP($B78,'Base de données'!$B:$B,'Base de données'!$A:$A,"",0,-1)) -> - | E78: =IF(B78="","-",_xlfn.XLOOKUP($B78,'Base de données'!$B:$B,'Base de données'!$L:$L,"",0,1)) -> -
C79: =IF(B79="","-",_xlfn.XLOOKUP($B79,'Base de données'!$B:$B,SECRET!$X:$X,"",0,1)) -> - | D79: =IF(B79="","-",_xlfn.XLOOKUP($B79,'Base de données'!$B:$B,'Base de données'!$A:$A,"",0,-1)) -> - | E79: =IF(B79="","-",_xlfn.XLOOKUP($B79,'Base de données'!$B:$B,'Base de données'!$L:$L,"",0,1)) -> -
C80: =IF(B80="","-",_xlfn.XLOOKUP($B80,'Base de données'!$B:$B,SECRET!$X:$X,"",0,1)) -> - | D80: =IF(B80="","-",_xlfn.XLOOKUP($B80,'Base de données'!$B:$B,'Base de données'!$A:$A,"",0,-1)) -> - | E80: =IF(B80="","-",_xlfn.XLOOKUP($B80,'Base de données'!$B:$B,'Base de données'!$L:$L,"",0,1)) -> -
C81: =IF(B81="","-",_xlfn.XLOOKUP($B81,'Base de données'!$B:$B,SECRET!$X:$X,"",0,1)) -> - | D81: =IF(B81="","-",_xlfn.XLOOKUP($B81,'Base de données'!$B:$B,'Base de données'!$A:$A,"",0,-1)) -> - | E81: =IF(B81="","-",_xlfn.XLOOKUP($B81,'Base de données'!$B:$B,'Base de données'!$L:$L,"",0,1)) -> -
C82: =IF(B82="","-",_xlfn.XLOOKUP($B82,'Base de données'!$B:$B,SECRET!$X:$X,"",0,1)) -> - | D82: =IF(B82="","-",_xlfn.XLOOKUP($B82,'Base de données'!$B:$B,'Base de données'!$A:$A,"",0,-1)) -> - | E82: =IF(B82="","-",_xlfn.XLOOKUP($B82,'Base de données'!$B:$B,'Base de données'!$L:$L,"",0,1)) -> -
C83: =IF(B83="","-",_xlfn.XLOOKUP($B83,'Base de données'!$B:$B,SECRET!$X:$X,"",0,1)) -> - | D83: =IF(B83="","-",_xlfn.XLOOKUP($B83,'Base de données'!$B:$B,'Base de données'!$A:$A,"",0,-1)) -> - | E83: =IF(B83="","-",_xlfn.XLOOKUP($B83,'Base de données'!$B:$B,'Base de données'!$L:$L,"",0,1)) -> -
... C150: =IF(B150="","-",_xlfn.XLOOKUP($B150,'Base de données'!$B:$B,SECRET!$X:$X,"",0,1)) -> - | D150: =IF(B150="","-",_xlfn.XLOOKUP($B150,'Base de données'!$B:$B,'Base de données'!$A:$A,"",0,-1)) -> - | E150: =IF(B150="","-",_xlfn.XLOOKUP($B150,'Base de données'!$B:$B,'Base de données'!$L:$L,"",0,1)) -> -

Sheet Entrées & Sorties
B2: Entrée ET sortie (en cours d'année)
B4: Matricule | C4: Nom Prénom | D4: Date entrée | E4: Date sortie
B5: {=_xlfn.UNIQUE(SECRET!A:A)} -> Entrée et sortie ?
B6: -
B7: G45AC | C7: =IF(B7="","-",_xlfn.XLOOKUP($B7,'Base de données'!$B:$B,SECRET!$X:$X,"",0,1)) -> Breton Gabrielle | D7: =IF(B7="","-",_xlfn.XLOOKUP($B7,'Base de données'!$B:$B,'Base de données'!$A:$A,"",0,1)) -> 45689 | E7: =IF(B7="","-",_xlfn.XLOOKUP($B7,'Base de données'!$B:$B,'Base de données'!$A:$A,"",0,-1)) -> 45748
B8: DZOIT | C8: =IF(B8="","-",_xlfn.XLOOKUP($B8,'Base de données'!$B:$B,SECRET!$X:$X,"",0,1)) -> Meunier Marcel | D8: =IF(B8="","-",_xlfn.XLOOKUP($B8,'Base de données'!$B:$B,'Base de données'!$A:$A,"",0,1)) -> 45689 | E8: =IF(B8="","-",_xlfn.XLOOKUP($B8,'Base de données'!$B:$B,'Base de données'!$A:$A,"",0,-1)) -> 45839
B9: QOX3I | C9: =IF(B9="","-",_xlfn.XLOOKUP($B9,'Base de données'!$B:$B,SECRET!$X:$X,"",0,1)) -> Delmas Marianne | D9: =IF(B9="","-",_xlfn.XLOOKUP($B9,'Base de données'!$B:$B,'Base de données'!$A:$A,"",0,1)) -> 45689 | E9: =IF(B9="","-",_xlfn.XLOOKUP($B9,'Base de données'!$B:$B,'Base de données'!$A:$A,"",0,-1)) -> 45748
B10: Y221M | C10: =IF(B10="","-",_xlfn.XLOOKUP($B10,'Base de données'!$B:$B,SECRET!$X:$X,"",0,1)) -> Camus Antoinette | D10: =IF(B10="","-",_xlfn.XLOOKUP($B10,'Base de données'!$B:$B,'Base de données'!$A:$A,"",0,1)) -> 45689 | E10: =IF(B10="","-",_xlfn.XLOOKUP($B10,'Base de données'!$B:$B,'Base de données'!$A:$A,"",0,-1)) -> 45809
B11: 8ZRIS | C11: =IF(B11="","-",_xlfn.XLOOKUP($B11,'Base de données'!$B:$B,SECRET!$X:$X,"",0,1)) -> Perez Michel | D11: =IF(B11="","-",_xlfn.XLOOKUP($B11,'Base de données'!$B:$B,'Base de données'!$A:$A,"",0,1)) -> 45689 | E11: =IF(B11="","-",_xlfn.XLOOKUP($B11,'Base de données'!$B:$B,'Base de données'!$A:$A,"",0,-1)) -> 45717
B12: 45NF8 | C12: =IF(B12="","-",_xlfn.XLOOKUP($B12,'Base de données'!$B:$B,SECRET!$X:$X,"",0,1)) -> Dupuy Mathilde | D12: =IF(B12="","-",_xlfn.XLOOKUP($B12,'Base de données'!$B:$B,'Base de données'!$A:$A,"",0,1)) -> 45748 | E12: =IF(B12="","-",_xlfn.XLOOKUP($B12,'Base de données'!$B:$B,'Base de données'!$A:$A,"",0,-1)) -> 45748
B13: 3WN6C | C13: =IF(B13="","-",_xlfn.XLOOKUP($B13,'Base de données'!$B:$B,SECRET!$X:$X,"",0,1)) -> Delorme Marc | D13: =IF(B13="","-",_xlfn.XLOOKUP($B13,'Base de données'!$B:$B,'Base de données'!$A:$A,"",0,1)) -> 45778 | E13: =IF(B13="","-",_xlfn.XLOOKUP($B13,'Base de données'!$B:$B,'Base de données'!$A:$A,"",0,-1)) -> 45778
B14: E7KKO | C14: =IF(B14="","-",_xlfn.XLOOKUP($B14,'Base de données'!$B:$B,SECRET!$X:$X,"",0,1)) -> Charrier François | D14: =IF(B14="","-",_xlfn.XLOOKUP($B14,'Base de données'!$B:$B,'Base de données'!$A:$A,"",0,1)) -> 45809 | E14: =IF(B14="","-",_xlfn.XLOOKUP($B14,'Base de données'!$B:$B,'Base de données'!$A:$A,"",0,-1)) -> 45870
B15: L8YK1 | C15: =IF(B15="","-",_xlfn.XLOOKUP($B15,'Base de données'!$B:$B,SECRET!$X:$X,"",0,1)) -> Tessier Anne | D15: =IF(B15="","-",_xlfn.XLOOKUP($B15,'Base de données'!$B:$B,'Base de données'!$A:$A,"",0,1)) -> 45809 | E15: =IF(B15="","-",_xlfn.XLOOKUP($B15,'Base de données'!$B:$B,'Base de données'!$A:$A,"",0,-1)) -> 45809
B16: PE1OL | C16: =IF(B16="","-",_xlfn.XLOOKUP($B16,'Base de données'!$B:$B,SECRET!$X:$X,"",0,1)) -> Vallée Odette | D16: =IF(B16="","-",_xlfn.XLOOKUP($B16,'Base de données'!$B:$B,'Base de données'!$A:$A,"",0,1)) -> 45839 | E16: =IF(B16="","-",_xlfn.XLOOKUP($B16,'Base de données'!$B:$B,'Base de données'!$A:$A,"",0,-1)) -> 45839
B17: BJWZO | C17: =IF(B17="","-",_xlfn.XLOOKUP($B17,'Base de données'!$B:$B,SECRET!$X:$X,"",0,1)) -> Gros Jacqueline | D17: =IF(B17="","-",_xlfn.XLOOKUP($B17,'Base de données'!$B:$B,'Base de données'!$A:$A,"",0,1)) -> 45870 | E17: =IF(B17="","-",_xlfn.XLOOKUP($B17,'Base de données'!$B:$B,'Base de données'!$A:$A,"",0,-1)) -> 45901
B18: UF9Q6 | C18: =IF(B18="","-",_xlfn.XLOOKUP($B18,'Base de données'!$B:$B,SECRET!$X:$X,"",0,1)) -> Hoareau Théophile | D18: =IF(B18="","-",_xlfn.XLOOKUP($B18,'Base de données'!$B:$B,'Base de données'!$A:$A,"",0,1)) -> 45901 | E18: =IF(B18="","-",_xlfn.XLOOKUP($B18,'Base de données'!$B:$B,'Base de données'!$A:$A,"",0,-1)) -> 45962
B19: 8Y304 | C19: =IF(B19="","-",_xlfn.XLOOKUP($B19,'Base de données'!$B:$B,SECRET!$X:$X,"",0,1)) -> Briand Stéphanie | D19: =IF(B19="","-",_xlfn.XLOOKUP($B19,'Base de données'!$B:$B,'Base de données'!$A:$A,"",0,1)) -> 45931 | E19: =IF(B19="","-",_xlfn.XLOOKUP($B19,'Base de données'!$B:$B,'Base de données'!$A:$A,"",0,-1)) -> 45931
B20: 0 | C20: =IF(B20="","-",_xlfn.XLOOKUP($B20,'Base de données'!$B:$B,SECRET!$X:$X,"",0,1)) | D20: =IF(B20="","-",_xlfn.XLOOKUP($B20,'Base de données'!$B:$B,'Base de données'!$A:$A,"",0,1)) | E20: =IF(B20="","-",_xlfn.XLOOKUP($B20,'Base de données'!$B:$B,'Base de données'!$A:$A,"",0,-1))
C21: =IF(B21="","-",_xlfn.XLOOKUP($B21,'Base de données'!$B:$B,SECRET!$X:$X,"",0,1)) -> - | D21: =IF(B21="","-",_xlfn.XLOOKUP($B21,'Base de données'!$B:$B,'Base de données'!$A:$A,"",0,1)) -> - | E21: =IF(B21="","-",_xlfn.XLOOKUP($B21,'Base de données'!$B:$B,'Base de données'!$A:$A,"",0,-1)) -> -
C22: =IF(B22="","-",_xlfn.XLOOKUP($B22,'Base de données'!$B:$B,SECRET!$X:$X,"",0,1)) -> - | D22: =IF(B22="","-",_xlfn.XLOOKUP($B22,'Base de données'!$B:$B,'Base de données'!$A:$A,"",0,1)) -> - | E22: =IF(B22="","-",_xlfn.XLOOKUP($B22,'Base de données'!$B:$B,'Base de données'!$A:$A,"",0,-1)) -> -
C23: =IF(B23="","-",_xlfn.XLOOKUP($B23,'Base de données'!$B:$B,SECRET!$X:$X,"",0,1)) -> - | D23: =IF(B23="","-",_xlfn.XLOOKUP($B23,'Base de données'!$B:$B,'Base de données'!$A:$A,"",0,1)) -> - | E23: =IF(B23="","-",_xlfn.XLOOKUP($B23,'Base de données'!$B:$B,'Base de données'!$A:$A,"",0,-1)) -> -
C24: =IF(B24="","-",_xlfn.XLOOKUP($B24,'Base de données'!$B:$B,SECRET!$X:$X,"",0,1)) -> - | D24: =IF(B24="","-",_xlfn.XLOOKUP($B24,'Base de données'!$B:$B,'Base de données'!$A:$A,"",0,1)) -> - | E24: =IF(B24="","-",_xlfn.XLOOKUP($B24,'Base de données'!$B:$B,'Base de données'!$A:$A,"",0,-1)) -> -
C25: =IF(B25="","-",_xlfn.XLOOKUP($B25,'Base de données'!$B:$B,SECRET!$X:$X,"",0,1)) -> - | D25: =IF(B25="","-",_xlfn.XLOOKUP($B25,'Base de données'!$B:$B,'Base de données'!$A:$A,"",0,1)) -> - | E25: =IF(B25="","-",_xlfn.XLOOKUP($B25,'Base de données'!$B:$B,'Base de données'!$A:$A,"",0,-1)) -> -
C26: =IF(B26="","-",_xlfn.XLOOKUP($B26,'Base de données'!$B:$B,SECRET!$X:$X,"",0,1)) -> - | D26: =IF(B26="","-",_xlfn.XLOOKUP($B26,'Base de données'!$B:$B,'Base de données'!$A:$A,"",0,1)) -> - | E26: =IF(B26="","-",_xlfn.XLOOKUP($B26,'Base de données'!$B:$B,'Base de données'!$A:$A,"",0,-1)) -> -
C27: =IF(B27="","-",_xlfn.XLOOKUP($B27,'Base de données'!$B:$B,SECRET!$X:$X,"",0,1)) -> - | D27: =IF(B27="","-",_xlfn.XLOOKUP($B27,'Base de données'!$B:$B,'Base de données'!$A:$A,"",0,1)) -> - | E27: =IF(B27="","-",_xlfn.XLOOKUP($B27,'Base de données'!$B:$B,'Base de données'!$A:$A,"",0,-1)) -> -
C28: =IF(B28="","-",_xlfn.XLOOKUP($B28,'Base de données'!$B:$B,SECRET!$X:$X,"",0,1)) -> - | D28: =IF(B28="","-",_xlfn.XLOOKUP($B28,'Base de données'!$B:$B,'Base de données'!$A:$A,"",0,1)) -> - | E28: =IF(B28="","-",_xlfn.XLOOKUP($B28,'Base de données'!$B:$B,'Base de données'!$A:$A,"",0,-1)) -> -
C29: =IF(B29="","-",_xlfn.XLOOKUP($B29,'Base de données'!$B:$B,SECRET!$X:$X,"",0,1)) -> - | D29: =IF(B29="","-",_xlfn.XLOOKUP($B29,'Base de données'!$B:$B,'Base de données'!$A:$A,"",0,1)) -> - | E29: =IF(B29="","-",_xlfn.XLOOKUP($B29,'Base de données'!$B:$B,'Base de données'!$A:$A,"",0,-1)) -> -
C30: =IF(B30="","-",_xlfn.XLOOKUP($B30,'Base de données'!$B:$B,SECRET!$X:$X,"",0,1)) -> - | D30: =IF(B30="","-",_xlfn.XLOOKUP($B30,'Base de données'!$B:$B,'Base de données'!$A:$A,"",0,1)) -> - | E30: =IF(B30="","-",_xlfn.XLOOKUP($B30,'Base de données'!$B:$B,'Base de données'!$A:$A,"",0,-1)) -> -
C31: =IF(B31="","-",_xlfn.XLOOKUP($B31,'Base de données'!$B:$B,SECRET!$X:$X,"",0,1)) -> - | D31: =IF(B31="","-",_xlfn.XLOOKUP($B31,'Base de données'!$B:$B,'Base de données'!$A:$A,"",0,1)) -> - | E31: =IF(B31="","-",_xlfn.XLOOKUP($B31,'Base de données'!$B:$B,'Base de données'!$A:$A,"",0,-1)) -> -
C32: =IF(B32="","-",_xlfn.XLOOKUP($B32,'Base de données'!$B:$B,SECRET!$X:$X,"",0,1)) -> - | D32: =IF(B32="","-",_xlfn.XLOOKUP($B32,'Base de données'!$B:$B,'Base de données'!$A:$A,"",0,1)) -> - | E32: =IF(B32="","-",_xlfn.XLOOKUP($B32,'Base de données'!$B:$B,'Base de données'!$A:$A,"",0,-1)) -> -
... C150: =IF(B150="","-",_xlfn.XLOOKUP($B150,'Base de données'!$B:$B,SECRET!$X:$X,"",0,1)) -> - | D150: =IF(B150="","-",_xlfn.XLOOKUP($B150,'Base de données'!$B:$B,'Base de données'!$A:$A,"",0,1)) -> - | E150: =IF(B150="","-",_xlfn.XLOOKUP($B150,'Base de données'!$B:$B,'Base de données'!$A:$A,"",0,-1)) -> -

Sheet SYNTHESE 
C1: F | D1: H
B2: Evolution des effectifs - HC | C2: Femme | D2: Homme | E2: total
B3: 45658 | C3: =IF(COUNTIFS('Base de données'!$A:$A,$B3,'Base de données'!$E:$E,C$1)=0,"-",COUNTIFS('Base de données'!$A:$A,$B3,'Base de données'!$E:$E,C$1)) -> 131 | D3: =IF(COUNTIFS('Base de données'!$A:$A,$B3,'Base de données'!$E:$E,D$1)=0,"-",COUNTIFS('Base de données'!$A:$A,$B3,'Base de données'!$E:$E,D$1)) -> 147 | E3: =IF(SUM(C3:D3)=0,"-",SUM(C3:D3)) -> 278 | G3: ESSAYEZ PAR VOUS-MÊMES :
B4: 45689 | C4: =IF(COUNTIFS('Base de données'!$A:$A,$B4,'Base de données'!$E:$E,C$1)=0,"-",COUNTIFS('Base de données'!$A:$A,$B4,'Base de données'!$E:$E,C$1)) -> 133 | D4: =IF(COUNTIFS('Base de données'!$A:$A,$B4,'Base de données'!$E:$E,D$1)=0,"-",COUNTIFS('Base de données'!$A:$A,$B4,'Base de données'!$E:$E,D$1)) -> 150 | E4: =IF(SUM(C4:D4)=0,"-",SUM(C4:D4)) -> 283 | G4: Après avoir examiné l'ensemble des tableaux ci-dessous : Réalisez une simulation d'une année incomplète. Dans l'onglet "Base de données" : supprimez les lignes correspondantes aux mois de décembre, novembre et octobre (par exemple). Vous constaterez que les formules s'adaptent automatiquement au dernier mois disponible. Ainsi, le fichier est exploitable dès demain dans n'importe quelle entreprise.
B5: 45717 | C5: =IF(COUNTIFS('Base de données'!$A:$A,$B5,'Base de données'!$E:$E,C$1)=0,"-",COUNTIFS('Base de données'!$A:$A,$B5,'Base de données'!$E:$E,C$1)) -> 132 | D5: =IF(COUNTIFS('Base de données'!$A:$A,$B5,'Base de données'!$E:$E,D$1)=0,"-",COUNTIFS('Base de données'!$A:$A,$B5,'Base de données'!$E:$E,D$1)) -> 150 | E5: =IF(SUM(C5:D5)=0,"-",SUM(C5:D5)) -> 282
B6: 45748 | C6: =IF(COUNTIFS('Base de données'!$A:$A,$B6,'Base de données'!$E:$E,C$1)=0,"-",COUNTIFS('Base de données'!$A:$A,$B6,'Base de données'!$E:$E,C$1)) -> 133 | D6: =IF(COUNTIFS('Base de données'!$A:$A,$B6,'Base de données'!$E:$E,D$1)=0,"-",COUNTIFS('Base de données'!$A:$A,$B6,'Base de données'!$E:$E,D$1)) -> 148 | E6: =IF(SUM(C6:D6)=0,"-",SUM(C6:D6)) -> 281
B7: 45778 | C7: =IF(COUNTIFS('Base de données'!$A:$A,$B7,'Base de données'!$E:$E,C$1)=0,"-",COUNTIFS('Base de données'!$A:$A,$B7,'Base de données'!$E:$E,C$1)) -> 131 | D7: =IF(COUNTIFS('Base de données'!$A:$A,$B7,'Base de données'!$E:$E,D$1)=0,"-",COUNTIFS('Base de données'!$A:$A,$B7,'Base de données'!$E:$E,D$1)) -> 149 | E7: =IF(SUM(C7:D7)=0,"-",SUM(C7:D7)) -> 280
B8: 45809 | C8: =IF(COUNTIFS('Base de données'!$A:$A,$B8,'Base de données'!$E:$E,C$1)=0,"-",COUNTIFS('Base de données'!$A:$A,$B8,'Base de données'!$E:$E,C$1)) -> 133 | D8: =IF(COUNTIFS('Base de données'!$A:$A,$B8,'Base de données'!$E:$E,D$1)=0,"-",COUNTIFS('Base de données'!$A:$A,$B8,'Base de données'!$E:$E,D$1)) -> 149 | E8: =IF(SUM(C8:D8)=0,"-",SUM(C8:D8)) -> 282
B9: 45839 | C9: =IF(COUNTIFS('Base de données'!$A:$A,$B9,'Base de données'!$E:$E,C$1)=0,"-",COUNTIFS('Base de données'!$A:$A,$B9,'Base de données'!$E:$E,C$1)) -> 135 | D9: =IF(COUNTIFS('Base de données'!$A:$A,$B9,'Base de données'!$E:$E,D$1)=0,"-",COUNTIFS('Base de données'!$A:$A,$B9,'Base de données'!$E:$E,D$1)) -> 150 | E9: =IF(SUM(C9:D9)=0,"-",SUM(C9:D9)) -> 285
B10: 45870 | C10: =IF(COUNTIFS('Base de données'!$A:$A,$B10,'Base de données'!$E:$E,C$1)=0,"-",COUNTIFS('Base de données'!$A:$A,$B10,'Base de données'!$E:$E,C$1)) -> 135 | D10: =IF(COUNTIFS('Base de données'!$A:$A,$B10,'Base de données'!$E:$E,D$1)=0,"-",COUNTIFS('Base de données'!$A:$A,$B10,'Base de données'!$E:$E,D$1)) -> 151 | E10: =IF(SUM(C10:D10)=0,"-",SUM(C10:D10)) -> 286
B11: 45901 | C11: =IF(COUNTIFS('Base de données'!$A:$A,$B11,'Base de données'!$E:$E,C$1)=0,"-",COUNTIFS('Base de données'!$A:$A,$B11,'Base de données'!$E:$E,C$1)) -> 141 | D11: =IF(COUNTIFS('Base de données'!$A:$A,$B11,'Base de données'!$E:$E,D$1)=0,"-",COUNTIFS('Base de données'!$A:$A,$B11,'Base de données'!$E:$E,D$1)) -> 149 | E11: =IF(SUM(C11:D11)=0,"-",SUM(C11:D11)) -> 290
B12: 45931 | C12: =IF(COUNTIFS('Base de données'!$A:$A,$B12,'Base de données'!$E:$E,C$1)=0,"-",COUNTIFS('Base de données'!$A:$A,$B12,'Base de données'!$E:$E,C$1)) -> 144 | D12: =IF(COUNTIFS('Base de données'!$A:$A,$B12,'Base de données'!$E:$E,D$1)=0,"-",COUNTIFS('Base de données'!$A:$A,$B12,'Base de données'!$E:$E,D$1)) -> 151 | E12: =IF(SUM(C12:D12)=0,"-",SUM(C12:D12)) -> 295
B13: 45962 | C13: =IF(COUNTIFS('Base de données'!$A:$A,$B13,'Base de données'!$E:$E,C$1)=0,"-",COUNTIFS('Base de données'!$A:$A,$B13,'Base de données'!$E:$E,C$1)) -> 145 | D13: =IF(COUNTIFS('Base de données'!$A:$A,$B13,'Base de données'!$E:$E,D$1)=0,"-",COUNTIFS('Base de données'!$A:$A,$B13,'Base de données'!$E:$E,D$1)) -> 153 | E13: =IF(SUM(C13:D13)=0,"-",SUM(C13:D13)) -> 298
B14: 45992 | C14: =IF(COUNTIFS('Base de données'!$A:$A,$B14,'Base de données'!$E:$E,C$1)=0,"-",COUNTIFS('Base de données'!$A:$A,$B14,'Base de données'!$E:$E,C$1)) -> 146 | D14: =IF(COUNTIFS('Base de données'!$A:$A,$B14,'Base de données'!$E:$E,D$1)=0,"-",COUNTIFS('Base de données'!$A:$A,$B14,'Base de données'!$E:$E,D$1)) -> 154 | E14: =IF(SUM(C14:D14)=0,"-",SUM(C14:D14)) -> 300
B18: Mouvements | C18: 45658 | D18: 45689 | E18: 45717 | F18: 45748 | G18: 45778 | H18: 45809 | I18: 45839 | J18: 45870 | K18: 45901 | L18: 45931 | M18: 45962 | N18: 45992 | O18: TOTAL
B19: Entrée | C19: =COUNTIF($D$56:$D$201,C$18) -> 0 | D19: =COUNTIF($D$56:$D$201,D$18) -> 9 | E19: =COUNTIF($D$56:$D$201,E$18) -> 7 | F19: =COUNTIF($D$56:$D$201,F$18) -> 5 | G19: =COUNTIF($D$56:$D$201,G$18) -> 7 | H19: =COUNTIF($D$56:$D$201,H$18) -> 7 | I19: =COUNTIF($D$56:$D$201,I$18) -> 10 | J19: =COUNTIF($D$56:$D$201,J$18) -> 8 | ... N19: =COUNTIF($D$56:$D$201,N$18) -> 5 | O19: =SUM(C19:N19) -> 86
B20: Sortie | C20: =COUNTIF($I$56:$I$201,C$18) -> 4 | D20: =COUNTIF($I$56:$I$201,D$18) -> 8 | E20: =COUNTIF($I$56:$I$201,E$18) -> 6 | F20: =COUNTIF($I$56:$I$201,F$18) -> 8 | G20: =COUNTIF($I$56:$I$201,G$18) -> 5 | H20: =COUNTIF($I$56:$I$201,H$18) -> 7 | I20: =COUNTIF($I$56:$I$201,I$18) -> 7 | J20: =COUNTIF($I$56:$I$201,J$18) -> 6 | ... N20: =COUNTIF($I$56:$I$201,N$18) -> 0 | O20: =SUM(C20:N20) -> 64
B21: Variation | C21: =C19-C20 -> -4 | D21: =D19-D20 -> 1 | E21: =E19-E20 -> 1 | F21: =F19-F20 -> -3 | G21: =G19-G20 -> 2 | H21: =H19-H20 -> 0 | I21: =I19-I20 -> 3 | J21: =J19-J20 -> 2 | ... N21: =N19-N20 -> 5
B22: * Pour information : les mouvements sont comparés au mois précédent, il n’y a donc aucune entrée en janvier et aucune sortie le dernier mois de l’extraction.
B24: Effectif fin de mois | C24: =E3 -> 278 | D24: =IF(AND(D$19=0,D$20=0),"-",C$24+D$19-C$20) -> 283 | E24: =IF(AND(E$19=0,E$20=0),"-",D$24+E$19-D$20) -> 282 | F24: =IF(AND(F$19=0,F$20=0),"-",E$24+F$19-E$20) -> 281 | G24: =IF(AND(G$19=0,G$20=0),"-",F$24+G$19-F$20) -> 280 | H24: =IF(AND(H$19=0,H$20=0),"-",G$24+H$19-G$20) -> 282 | I24: =IF(AND(I$19=0,I$20=0),"-",H$24+I$19-H$20) -> 285 | J24: =IF(AND(J$19=0,J$20=0),"-",I$24+J$19-I$20) -> 286 | K24: =IF(AND(K$19=0,K$20=0),"-",J$24+K$19-J$20) -> 290 | ... N24: =IF(AND(N$19=0,N$20=0),"-",M$24+N$19-M$20) -> 300
B25: ctrl | C25: =IF(C$24="-","-",C$24-VLOOKUP(C$18,$B$3:$E$14,4,0)) -> 0 | D25: =IF(D$24="-","-",D$24-VLOOKUP(D$18,$B$3:$E$14,4,0)) -> 0 | E25: =IF(E$24="-","-",E$24-VLOOKUP(E$18,$B$3:$E$14,4,0)) -> 0 | F25: =IF(F$24="-","-",F$24-VLOOKUP(F$18,$B$3:$E$14,4,0)) -> 0 | G25: =IF(G$24="-","-",G$24-VLOOKUP(G$18,$B$3:$E$14,4,0)) -> 0 | H25: =IF(H$24="-","-",H$24-VLOOKUP(H$18,$B$3:$E$14,4,0)) -> 0 | I25: =IF(I$24="-","-",I$24-VLOOKUP(I$18,$B$3:$E$14,4,0)) -> 0 | J25: =IF(J$24="-","-",J$24-VLOOKUP(J$18,$B$3:$E$14,4,0)) -> 0 | ... N25: =IF(N$24="-","-",N$24-VLOOKUP(N$18,$B$3:$E$14,4,0)) -> 0
V26: x
B29: Synthèse par région | H29: Région | I29: Île-de-France
C30: Entrée | D30: Sortie | E30: Variation
B31: Auvergne-Rhône-Alpes | C31: =COUNTIF($E$56:$E$201,$B31) -> 4 | D31: =COUNTIF($J$56:$J$201,$B31) -> 3 | E31: =(C31-D31) -> 1 | H31: Étiquettes de lignes | I31: Nombre de Matricule
B32: Bourgogne-Franche-Comté | C32: =COUNTIF($E$56:$E$201,$B32) -> 7 | D32: =COUNTIF($J$56:$J$201,$B32) -> 5 | E32: =(C32-D32) -> 2 | H32: 45658 | I32: 64
B33: Bretagne | C33: =COUNTIF($E$56:$E$201,$B33) -> 3 | D33: =COUNTIF($J$56:$J$201,$B33) -> 4 | E33: =(C33-D33) -> -1 | H33: 45689 | I33: 67
B34: Centre-Val de Loire | C34: =COUNTIF($E$56:$E$201,$B34) -> 6 | D34: =COUNTIF($J$56:$J$201,$B34) -> 5 | E34: =(C34-D34) -> 1 | H34: 45717 | I34: 66
B35: Corse | C35: =COUNTIF($E$56:$E$201,$B35) -> 11 | D35: =COUNTIF($J$56:$J$201,$B35) -> 2 | E35: =(C35-D35) -> 9 | H35: 45748 | I35: 63
B36: Grand Est | C36: =COUNTIF($E$56:$E$201,$B36) -> 4 | D36: =COUNTIF($J$56:$J$201,$B36) -> 2 | E36: =(C36-D36) -> 2 | H36: 45778 | I36: 61
B37: Hauts-de-France | C37: =COUNTIF($E$56:$E$201,$B37) -> 10 | D37: =COUNTIF($J$56:$J$201,$B37) -> 8 | E37: =(C37-D37) -> 2 | H37: 45809 | I37: 61
B38: Île-de-France | C38: =COUNTIF($E$56:$E$201,$B38) -> 20 | D38: =COUNTIF($J$56:$J$201,$B38) -> 20 | E38: =(C38-D38) -> 0 | H38: 45839 | I38: 60
B39: Normandie | C39: =COUNTIF($E$56:$E$201,$B39) -> 3 | D39: =COUNTIF($J$56:$J$201,$B39) -> 1 | E39: =(C39-D39) -> 2 | H39: 45870 | I39: 59
B40: Nouvelle-Aquitaine | C40: =COUNTIF($E$56:$E$201,$B40) -> 2 | D40: =COUNTIF($J$56:$J$201,$B40) -> 6 | E40: =(C40-D40) -> -4 | H40: 45901 | I40: 60
B41: Occitanie | C41: =COUNTIF($E$56:$E$201,$B41) -> 5 | D41: =COUNTIF($J$56:$J$201,$B41) -> 3 | E41: =(C41-D41) -> 2 | H41: 45931 | I41: 62
B42: Pays de la Loire | C42: =COUNTIF($E$56:$E$201,$B42) -> 8 | D42: =COUNTIF($J$56:$J$201,$B42) -> 2 | E42: =(C42-D42) -> 6 | H42: 45962 | I42: 63
B43: Provence-Alpes-Côte d’Azur | C43: =COUNTIF($E$56:$E$201,$B43) -> 3 | D43: =COUNTIF($J$56:$J$201,$B43) -> 3 | E43: =(C43-D43) -> 0 | H43: 45992 | I43: 64
B44: TOTAL | C44: =SUM(C31:C43) -> 86 | D44: =SUM(D31:D43) -> 64 | E44: =(C44-D44) -> 22 | H44: Total général | I44: 750
B46: ctrl | C46: =$C$44-$O$19 -> 0 | D46: =$D$44-$O$20 -> 0 | H46: Choisissez n'importe quelle région, puis comparez l'effectif de janvier à décembre. Vous verrez que les formules sont cohérentes avec le TCD, donc fiables. Si vous supprimez des mois (lors de votre test). Pensez à actualiser le TCD !
B51: Entrée (en cours d'année) | G51: Sortie (en cours d'année) | L51: Entrée ET sortie (en cours d'année)
B53: Matricule | C53: Nom Prénom | D53: Date entrée | E53: Région | G53: Matricule | H53: Nom Prénom | I53: Date sortie | J53: Région | L53: Matricule | M53: Nom Prénom | N53: Date entrée | O53: Date sortie
B54: {=_xlfn.UNIQUE(SECRET!E:E)} -> Qui est entré ? | G54: {=_xlfn.UNIQUE(SECRET!B:B)} -> Qui est sortie ? | L54: {=_xlfn.UNIQUE(SECRET!A:A)} -> Entrée et sortie ?
B55: - | G55: - | L55: -
B56: G45AC | C56: =IF(B56="","-",_xlfn.XLOOKUP($B56,'Base de données'!$B:$B,SECRET!$X:$X,"",0,1)) -> Breton Gabrielle | D56: =IF(B56="","-",_xlfn.XLOOKUP($B56,'Base de données'!$B:$B,'Base de données'!$A:$A,"",0,1)) -> 45689 | E56: =IF(B56="","-",_xlfn.XLOOKUP($B56,'Base de données'!$B:$B,'Base de données'!$L:$L,"",0,1)) -> Auvergne-Rhône-Alpes | G56: I3SPC | H56: =IF(G56="","-",_xlfn.XLOOKUP($G56,'Base de données'!$B:$B,SECRET!$X:$X,"",0,1)) -> Boulanger Martine | I56: =IF(G56="","-",_xlfn.XLOOKUP($G56,'Base de données'!$B:$B,'Base de données'!$A:$A,"",0,-1)) -> 45778 | J56: =IF(G56="","-",_xlfn.XLOOKUP($G56,'Base de données'!$B:$B,'Base de données'!$L:$L,"",0,1)) -> Île-de-France | L56: G45AC | M56: =IF(L56="","-",_xlfn.XLOOKUP($L56,'Base de données'!$B:$B,SECRET!$X:$X,"",0,1)) -> Breton Gabrielle | N56: =IF(L56="","-",_xlfn.XLOOKUP($L56,'Base de données'!$B:$B,'Base de données'!$A:$A,"",0,1)) -> 45689 | O56: =IF(L56="","-",_xlfn.XLOOKUP($L56,'Base de données'!$B:$B,'Base de données'!$A:$A,"",0,-1)) -> 45748
B57: QJKEN | C57: =IF(B57="","-",_xlfn.XLOOKUP($B57,'Base de données'!$B:$B,SECRET!$X:$X,"",0,1)) -> Salmon Thibaut | D57: =IF(B57="","-",_xlfn.XLOOKUP($B57,'Base de données'!$B:$B,'Base de données'!$A:$A,"",0,1)) -> 45689 | E57: =IF(B57="","-",_xlfn.XLOOKUP($B57,'Base de données'!$B:$B,'Base de données'!$L:$L,"",0,1)) -> Île-de-France | G57: JHHFN | H57: =IF(G57="","-",_xlfn.XLOOKUP($G57,'Base de données'!$B:$B,SECRET!$X:$X,"",0,1)) -> Pichon Rémy | I57: =IF(G57="","-",_xlfn.XLOOKUP($G57,'Base de données'!$B:$B,'Base de données'!$A:$A,"",0,-1)) -> 45658 | J57: =IF(G57="","-",_xlfn.XLOOKUP($G57,'Base de données'!$B:$B,'Base de données'!$L:$L,"",0,1)) -> Bretagne | L57: DZOIT | M57: =IF(L57="","-",_xlfn.XLOOKUP($L57,'Base de données'!$B:$B,SECRET!$X:$X,"",0,1)) -> Meunier Marcel | N57: =IF(L57="","-",_xlfn.XLOOKUP($L57,'Base de données'!$B:$B,'Base de données'!$A:$A,"",0,1)) -> 45689 | O57: =IF(L57="","-",_xlfn.XLOOKUP($L57,'Base de données'!$B:$B,'Base de données'!$A:$A,"",0,-1)) -> 45839
B58: FUMYO | C58: =IF(B58="","-",_xlfn.XLOOKUP($B58,'Base de données'!$B:$B,SECRET!$X:$X,"",0,1)) -> Marchal Robert | D58: =IF(B58="","-",_xlfn.XLOOKUP($B58,'Base de données'!$B:$B,'Base de données'!$A:$A,"",0,1)) -> 45689 | E58: =IF(B58="","-",_xlfn.XLOOKUP($B58,'Base de données'!$B:$B,'Base de données'!$L:$L,"",0,1)) -> Île-de-France | G58: AQ2RR | H58: =IF(G58="","-",_xlfn.XLOOKUP($G58,'Base de données'!$B:$B,SECRET!$X:$X,"",0,1)) -> Antoine Noémi | I58: =IF(G58="","-",_xlfn.XLOOKUP($G58,'Base de données'!$B:$B,'Base de données'!$A:$A,"",0,-1)) -> 45931 | J58: =IF(G58="","-",_xlfn.XLOOKUP($G58,'Base de données'!$B:$B,'Base de données'!$L:$L,"",0,1)) -> Nouvelle-Aquitaine | L58: QOX3I | M58: =IF(L58="","-",_xlfn.XLOOKUP($L58,'Base de données'!$B:$B,SECRET!$X:$X,"",0,1)) -> Delmas Marianne | N58: =IF(L58="","-",_xlfn.XLOOKUP($L58,'Base de données'!$B:$B,'Base de données'!$A:$A,"",0,1)) -> 45689 | O58: =IF(L58="","-",_xlfn.XLOOKUP($L58,'Base de données'!$B:$B,'Base de données'!$A:$A,"",0,-1)) -> 45748
B59: 0D66F | C59: =IF(B59="","-",_xlfn.XLOOKUP($B59,'Base de données'!$B:$B,SECRET!$X:$X,"",0,1)) -> Maréchal Paulette | D59: =IF(B59="","-",_xlfn.XLOOKUP($B59,'Base de données'!$B:$B,'Base de données'!$A:$A,"",0,1)) -> 45689 | E59: =IF(B59="","-",_xlfn.XLOOKUP($B59,'Base de données'!$B:$B,'Base de données'!$L:$L,"",0,1)) -> Île-de-France | G59: JU3RW | H59: =IF(G59="","-",_xlfn.XLOOKUP($G59,'Base de données'!$B:$B,SECRET!$X:$X,"",0,1)) -> Dijoux Laurent | I59: =IF(G59="","-",_xlfn.XLOOKUP($G59,'Base de données'!$B:$B,'Base de données'!$A:$A,"",0,-1)) -> 45689 | J59: =IF(G59="","-",_xlfn.XLOOKUP($G59,'Base de données'!$B:$B,'Base de données'!$L:$L,"",0,1)) -> Provence-Alpes-Côte d’Azur | L59: Y221M | M59: =IF(L59="","-",_xlfn.XLOOKUP($L59,'Base de données'!$B:$B,SECRET!$X:$X,"",0,1)) -> Camus Antoinette | N59: =IF(L59="","-",_xlfn.XLOOKUP($L59,'Base de données'!$B:$B,'Base de données'!$A:$A,"",0,1)) -> 45689 | O59: =IF(L59="","-",_xlfn.XLOOKUP($L59,'Base de données'!$B:$B,'Base de données'!$A:$A,"",0,-1)) -> 45809
B60: 00EBC | C60: =IF(B60="","-",_xlfn.XLOOKUP($B60,'Base de données'!$B:$B,SECRET!$X:$X,"",0,1)) -> Leconte Vincent | D60: =IF(B60="","-",_xlfn.XLOOKUP($B60,'Base de données'!$B:$B,'Base de données'!$A:$A,"",0,1)) -> 45689 | E60: =IF(B60="","-",_xlfn.XLOOKUP($B60,'Base de données'!$B:$B,'Base de données'!$L:$L,"",0,1)) -> Pays de la Loire | G60: 1RDZB | H60: =IF(G60="","-",_xlfn.XLOOKUP($G60,'Base de données'!$B:$B,SECRET!$X:$X,"",0,1)) -> Camus Thierry | I60: =IF(G60="","-",_xlfn.XLOOKUP($G60,'Base de données'!$B:$B,'Base de données'!$A:$A,"",0,-1)) -> 45778 | J60: =IF(G60="","-",_xlfn.XLOOKUP($G60,'Base de données'!$B:$B,'Base de données'!$L:$L,"",0,1)) -> Nouvelle-Aquitaine | L60: 8ZRIS | M60: =IF(L60="","-",_xlfn.XLOOKUP($L60,'Base de données'!$B:$B,SECRET!$X:$X,"",0,1)) -> Perez Michel | N60: =IF(L60="","-",_xlfn.XLOOKUP($L60,'Base de données'!$B:$B,'Base de données'!$A:$A,"",0,1)) -> 45689 | O60: =IF(L60="","-",_xlfn.XLOOKUP($L60,'Base de données'!$B:$B,'Base de données'!$A:$A,"",0,-1)) -> 45717
B61: DZOIT | C61: =IF(B61="","-",_xlfn.XLOOKUP($B61,'Base de données'!$B:$B,SECRET!$X:$X,"",0,1)) -> Meunier Marcel | D61: =IF(B61="","-",_xlfn.XLOOKUP($B61,'Base de données'!$B:$B,'Base de données'!$A:$A,"",0,1)) -> 45689 | E61: =IF(B61="","-",_xlfn.XLOOKUP($B61,'Base de données'!$B:$B,'Base de données'!$L:$L,"",0,1)) -> Hauts-de-France | G61: CUQ5O | H61: =IF(G61="","-",_xlfn.XLOOKUP($G61,'Base de données'!$B:$B,SECRET!$X:$X,"",0,1)) -> Camus Christiane | I61: =IF(G61="","-",_xlfn.XLOOKUP($G61,'Base de données'!$B:$B,'Base de données'!$A:$A,"",0,-1)) -> 45870 | J61: =IF(G61="","-",_xlfn.XLOOKUP($G61,'Base de données'!$B:$B,'Base de données'!$L:$L,"",0,1)) -> Hauts-de-France | L61: 45NF8 | M61: =IF(L61="","-",_xlfn.XLOOKUP($L61,'Base de données'!$B:$B,SECRET!$X:$X,"",0,1)) -> Dupuy Mathilde | N61: =IF(L61="","-",_xlfn.XLOOKUP($L61,'Base de données'!$B:$B,'Base de données'!$A:$A,"",0,1)) -> 45748 | O61: =IF(L61="","-",_xlfn.XLOOKUP($L61,'Base de données'!$B:$B,'Base de données'!$A:$A,"",0,-1)) -> 45748
B62: QOX3I | C62: =IF(B62="","-",_xlfn.XLOOKUP($B62,'Base de données'!$B:$B,SECRET!$X:$X,"",0,1)) -> Delmas Marianne | D62: =IF(B62="","-",_xlfn.XLOOKUP($B62,'Base de données'!$B:$B,'Base de données'!$A:$A,"",0,1)) -> 45689 | E62: =IF(B62="","-",_xlfn.XLOOKUP($B62,'Base de données'!$B:$B,'Base de données'!$L:$L,"",0,1)) -> Bourgogne-Franche-Comté | G62: NYNY1 | H62: =IF(G62="","-",_xlfn.XLOOKUP($G62,'Base de données'!$B:$B,SECRET!$X:$X,"",0,1)) -> Alexandre Hortense | I62: =IF(G62="","-",_xlfn.XLOOKUP($G62,'Base de données'!$B:$B,'Base de données'!$A:$A,"",0,-1)) -> 45931 | J62: =IF(G62="","-",_xlfn.XLOOKUP($G62,'Base de données'!$B:$B,'Base de données'!$L:$L,"",0,1)) -> Île-de-France | L62: 3WN6C | M62: =IF(L62="","-",_xlfn.XLOOKUP($L62,'Base de données'!$B:$B,SECRET!$X:$X,"",0,1)) -> Delorme Marc | N62: =IF(L62="","-",_xlfn.XLOOKUP($L62,'Base de données'!$B:$B,'Base de données'!$A:$A,"",0,1)) -> 45778 | O62: =IF(L62="","-",_xlfn.XLOOKUP($L62,'Base de données'!$B:$B,'Base de données'!$A:$A,"",0,-1)) -> 45778
B63: Y221M | C63: =IF(B63="","-",_xlfn.XLOOKUP($B63,'Base de données'!$B:$B,SECRET!$X:$X,"",0,1)) -> Camus Antoinette | D63: =IF(B63="","-",_xlfn.XLOOKUP($B63,'Base de données'!$B:$B,'Base de données'!$A:$A,"",0,1)) -> 45689 | E63: =IF(B63="","-",_xlfn.XLOOKUP($B63,'Base de données'!$B:$B,'Base de données'!$L:$L,"",0,1)) -> Île-de-France | G63: 2UDL1 | H63: =IF(G63="","-",_xlfn.XLOOKUP($G63,'Base de données'!$B:$B,SECRET!$X:$X,"",0,1)) -> Lebreton Zacharie | I63: =IF(G63="","-",_xlfn.XLOOKUP($G63,'Base de données'!$B:$B,'Base de données'!$A:$A,"",0,-1)) -> 45870 | J63: =IF(G63="","-",_xlfn.XLOOKUP($G63,'Base de données'!$B:$B,'Base de données'!$L:$L,"",0,1)) -> Nouvelle-Aquitaine | L63: E7KKO | M63: =IF(L63="","-",_xlfn.XLOOKUP($L63,'Base de données'!$B:$B,SECRET!$X:$X,"",0,1)) -> Charrier François | N63: =IF(L63="","-",_xlfn.XLOOKUP($L63,'Base de données'!$B:$B,'Base de données'!$A:$A,"",0,1)) -> 45809 | O63: =IF(L63="","-",_xlfn.XLOOKUP($L63,'Base de données'!$B:$B,'Base de données'!$A:$A,"",0,-1)) -> 45870
B64: 8ZRIS | C64: =IF(B64="","-",_xlfn.XLOOKUP($B64,'Base de données'!$B:$B,SECRET!$X:$X,"",0,1)) -> Perez Michel | D64: =IF(B64="","-",_xlfn.XLOOKUP($B64,'Base de données'!$B:$B,'Base de données'!$A:$A,"",0,1)) -> 45689 | E64: =IF(B64="","-",_xlfn.XLOOKUP($B64,'Base de données'!$B:$B,'Base de données'!$L:$L,"",0,1)) -> Occitanie | G64: TY6IH | H64: =IF(G64="","-",_xlfn.XLOOKUP($G64,'Base de données'!$B:$B,SECRET!$X:$X,"",0,1)) -> Da Silva Xavier | I64: =IF(G64="","-",_xlfn.XLOOKUP($G64,'Base de données'!$B:$B,'Base de données'!$A:$A,"",0,-1)) -> 45658 | J64: =IF(G64="","-",_xlfn.XLOOKUP($G64,'Base de données'!$B:$B,'Base de données'!$L:$L,"",0,1)) -> Hauts-de-France | L64: L8YK1 | M64: =IF(L64="","-",_xlfn.XLOOKUP($L64,'Base de données'!$B:$B,SECRET!$X:$X,"",0,1)) -> Tessier Anne | N64: =IF(L64="","-",_xlfn.XLOOKUP($L64,'Base de données'!$B:$B,'Base de données'!$A:$A,"",0,1)) -> 45809 | O64: =IF(L64="","-",_xlfn.XLOOKUP($L64,'Base de données'!$B:$B,'Base de données'!$A:$A,"",0,-1)) -> 45809
B65: I5UV9 | C65: =IF(B65="","-",_xlfn.XLOOKUP($B65,'Base de données'!$B:$B,SECRET!$X:$X,"",0,1)) -> Leclerc Victoire | D65: =IF(B65="","-",_xlfn.XLOOKUP($B65,'Base de données'!$B:$B,'Base de données'!$A:$A,"",0,1)) -> 45717 | E65: =IF(B65="","-",_xlfn.XLOOKUP($B65,'Base de données'!$B:$B,'Base de données'!$L:$L,"",0,1)) -> Île-de-France | G65: QBERT | H65: =IF(G65="","-",_xlfn.XLOOKUP($G65,'Base de données'!$B:$B,SECRET!$X:$X,"",0,1)) -> Garnier Juliette | I65: =IF(G65="","-",_xlfn.XLOOKUP($G65,'Base de données'!$B:$B,'Base de données'!$A:$A,"",0,-1)) -> 45931 | J65: =IF(G65="","-",_xlfn.XLOOKUP($G65,'Base de données'!$B:$B,'Base de données'!$L:$L,"",0,1)) -> Centre-Val de Loire | L65: PE1OL | M65: =IF(L65="","-",_xlfn.XLOOKUP($L65,'Base de données'!$B:$B,SECRET!$X:$X,"",0,1)) -> Vallée Odette | N65: =IF(L65="","-",_xlfn.XLOOKUP($L65,'Base de données'!$B:$B,'Base de données'!$A:$A,"",0,1)) -> 45839 | O65: =IF(L65="","-",_xlfn.XLOOKUP($L65,'Base de données'!$B:$B,'Base de données'!$A:$A,"",0,-1)) -> 45839
B66: R8VT4 | C66: =IF(B66="","-",_xlfn.XLOOKUP($B66,'Base de données'!$B:$B,SECRET!$X:$X,"",0,1)) -> Bousquet Isabelle | D66: =IF(B66="","-",_xlfn.XLOOKUP($B66,'Base de données'!$B:$B,'Base de données'!$A:$A,"",0,1)) -> 45717 | E66: =IF(B66="","-",_xlfn.XLOOKUP($B66,'Base de données'!$B:$B,'Base de données'!$L:$L,"",0,1)) -> Normandie | G66: P0IIH | H66: =IF(G66="","-",_xlfn.XLOOKUP($G66,'Base de données'!$B:$B,SECRET!$X:$X,"",0,1)) -> Simon Aurore | I66: =IF(G66="","-",_xlfn.XLOOKUP($G66,'Base de données'!$B:$B,'Base de données'!$A:$A,"",0,-1)) -> 45658 | J66: =IF(G66="","-",_xlfn.XLOOKUP($G66,'Base de données'!$B:$B,'Base de données'!$L:$L,"",0,1)) -> Auvergne-Rhône-Alpes | L66: BJWZO | M66: =IF(L66="","-",_xlfn.XLOOKUP($L66,'Base de données'!$B:$B,SECRET!$X:$X,"",0,1)) -> Gros Jacqueline | N66: =IF(L66="","-",_xlfn.XLOOKUP($L66,'Base de données'!$B:$B,'Base de données'!$A:$A,"",0,1)) -> 45870 | O66: =IF(L66="","-",_xlfn.XLOOKUP($L66,'Base de données'!$B:$B,'Base de données'!$A:$A,"",0,-1)) -> 45901
B67: T0BCS | C67: =IF(B67="","-",_xlfn.XLOOKUP($B67,'Base de données'!$B:$B,SECRET!$X:$X,"",0,1)) -> Poirier Charles | D67: =IF(B67="","-",_xlfn.XLOOKUP($B67,'Base de données'!$B:$B,'Base de données'!$A:$A,"",0,1)) -> 45717 | E67: =IF(B67="","-",_xlfn.XLOOKUP($B67,'Base de données'!$B:$B,'Base de données'!$L:$L,"",0,1)) -> Île-de-France | G67: DOGY4 | H67: =IF(G67="","-",_xlfn.XLOOKUP($G67,'Base de données'!$B:$B,SECRET!$X:$X,"",0,1)) -> Turpin Dorothée | I67: =IF(G67="","-",_xlfn.XLOOKUP($G67,'Base de données'!$B:$B,'Base de données'!$A:$A,"",0,-1)) -> 45748 | J67: =IF(G67="","-",_xlfn.XLOOKUP($G67,'Base de données'!$B:$B,'Base de données'!$L:$L,"",0,1)) -> Île-de-France | L67: UF9Q6 | M67: =IF(L67="","-",_xlfn.XLOOKUP($L67,'Base de données'!$B:$B,SECRET!$X:$X,"",0,1)) -> Hoareau Théophile | N67: =IF(L67="","-",_xlfn.XLOOKUP($L67,'Base de données'!$B:$B,'Base de données'!$A:$A,"",0,1)) -> 45901 | O67: =IF(L67="","-",_xlfn.XLOOKUP($L67,'Base de données'!$B:$B,'Base de données'!$A:$A,"",0,-1)) -> 45962
B68: RWL31 | C68: =IF(B68="","-",_xlfn.XLOOKUP($B68,'Base de données'!$B:$B,SECRET!$X:$X,"",0,1)) -> Delahaye Martin | D68: =IF(B68="","-",_xlfn.XLOOKUP($B68,'Base de données'!$B:$B,'Base de données'!$A:$A,"",0,1)) -> 45717 | E68: =IF(B68="","-",_xlfn.XLOOKUP($B68,'Base de données'!$B:$B,'Base de données'!$L:$L,"",0,1)) -> Corse | G68: WI12D | H68: =IF(G68="","-",_xlfn.XLOOKUP($G68,'Base de données'!$B:$B,SECRET!$X:$X,"",0,1)) -> Peron Robert | I68: =IF(G68="","-",_xlfn.XLOOKUP($G68,'Base de données'!$B:$B,'Base de données'!$A:$A,"",0,-1)) -> 45839 | J68: =IF(G68="","-",_xlfn.XLOOKUP($G68,'Base de données'!$B:$B,'Base de données'!$L:$L,"",0,1)) -> Bretagne | L68: 8Y304 | M68: =IF(L68="","-",_xlfn.XLOOKUP($L68,'Base de données'!$B:$B,SECRET!$X:$X,"",0,1)) -> Briand Stéphanie | N68: =IF(L68="","-",_xlfn.XLOOKUP($L68,'Base de données'!$B:$B,'Base de données'!$A:$A,"",0,1)) -> 45931 | O68: =IF(L68="","-",_xlfn.XLOOKUP($L68,'Base de données'!$B:$B,'Base de données'!$A:$A,"",0,-1)) -> 45931
B69: IN9ZX | C69: =IF(B69="","-",_xlfn.XLOOKUP($B69,'Base de données'!$B:$B,SECRET!$X:$X,"",0,1)) -> Leclerc Alain | D69: =IF(B69="","-",_xlfn.XLOOKUP($B69,'Base de données'!$B:$B,'Base de données'!$A:$A,"",0,1)) -> 45717 | E69: =IF(B69="","-",_xlfn.XLOOKUP($B69,'Base de données'!$B:$B,'Base de données'!$L:$L,"",0,1)) -> Centre-Val de Loire | G69: IXQH2 | H69: =IF(G69="","-",_xlfn.XLOOKUP($G69,'Base de données'!$B:$B,SECRET!$X:$X,"",0,1)) -> Dias Xavier | I69: =IF(G69="","-",_xlfn.XLOOKUP($G69,'Base de données'!$B:$B,'Base de données'!$A:$A,"",0,-1)) -> 45809 | J69: =IF(G69="","-",_xlfn.XLOOKUP($G69,'Base de données'!$B:$B,'Base de données'!$L:$L,"",0,1)) -> Île-de-France | L69: 0 | M69: =IF(L69="","-",_xlfn.XLOOKUP($L69,'Base de données'!$B:$B,SECRET!$X:$X,"",0,1)) | N69: =IF(L69="","-",_xlfn.XLOOKUP($L69,'Base de données'!$B:$B,'Base de données'!$A:$A,"",0,1)) | O69: =IF(L69="","-",_xlfn.XLOOKUP($L69,'Base de données'!$B:$B,'Base de données'!$A:$A,"",0,-1))
B70: JTZE6 | C70: =IF(B70="","-",_xlfn.XLOOKUP($B70,'Base de données'!$B:$B,SECRET!$X:$X,"",0,1)) -> Jacquet André | D70: =IF(B70="","-",_xlfn.XLOOKUP($B70,'Base de données'!$B:$B,'Base de données'!$A:$A,"",0,1)) -> 45717 | E70: =IF(B70="","-",_xlfn.XLOOKUP($B70,'Base de données'!$B:$B,'Base de données'!$L:$L,"",0,1)) -> Hauts-de-France | G70: E7COG | H70: =IF(G70="","-",_xlfn.XLOOKUP($G70,'Base de données'!$B:$B,SECRET!$X:$X,"",0,1)) -> Albert Paul | I70: =IF(G70="","-",_xlfn.XLOOKUP($G70,'Base de données'!$B:$B,'Base de données'!$A:$A,"",0,-1)) -> 45748 | J70: =IF(G70="","-",_xlfn.XLOOKUP($G70,'Base de données'!$B:$B,'Base de données'!$L:$L,"",0,1)) -> Auvergne-Rhône-Alpes | M70: =IF(L70="","-",_xlfn.XLOOKUP($L70,'Base de données'!$B:$B,SECRET!$X:$X,"",0,1)) -> - | N70: =IF(L70="","-",_xlfn.XLOOKUP($L70,'Base de données'!$B:$B,'Base de données'!$A:$A,"",0,1)) -> - | O70: =IF(L70="","-",_xlfn.XLOOKUP($L70,'Base de données'!$B:$B,'Base de données'!$A:$A,"",0,-1)) -> -
B71: D4UTI | C71: =IF(B71="","-",_xlfn.XLOOKUP($B71,'Base de données'!$B:$B,SECRET!$X:$X,"",0,1)) -> Leleu Martine | D71: =IF(B71="","-",_xlfn.XLOOKUP($B71,'Base de données'!$B:$B,'Base de données'!$A:$A,"",0,1)) -> 45717 | E71: =IF(B71="","-",_xlfn.XLOOKUP($B71,'Base de données'!$B:$B,'Base de données'!$L:$L,"",0,1)) -> Hauts-de-France | G71: E904E | H71: =IF(G71="","-",_xlfn.XLOOKUP($G71,'Base de données'!$B:$B,SECRET!$X:$X,"",0,1)) -> Rousset Grégoire | I71: =IF(G71="","-",_xlfn.XLOOKUP($G71,'Base de données'!$B:$B,'Base de données'!$A:$A,"",0,-1)) -> 45870 | J71: =IF(G71="","-",_xlfn.XLOOKUP($G71,'Base de données'!$B:$B,'Base de données'!$L:$L,"",0,1)) -> Île-de-France | M71: =IF(L71="","-",_xlfn.XLOOKUP($L71,'Base de données'!$B:$B,SECRET!$X:$X,"",0,1)) -> - | N71: =IF(L71="","-",_xlfn.XLOOKUP($L71,'Base de données'!$B:$B,'Base de données'!$A:$A,"",0,1)) -> - | O71: =IF(L71="","-",_xlfn.XLOOKUP($L71,'Base de données'!$B:$B,'Base de données'!$A:$A,"",0,-1)) -> -
B72: IU9JS | C72: =IF(B72="","-",_xlfn.XLOOKUP($B72,'Base de données'!$B:$B,SECRET!$X:$X,"",0,1)) -> Carlier Nicole | D72: =IF(B72="","-",_xlfn.XLOOKUP($B72,'Base de données'!$B:$B,'Base de données'!$A:$A,"",0,1)) -> 45748 | E72: =IF(B72="","-",_xlfn.XLOOKUP($B72,'Base de données'!$B:$B,'Base de données'!$L:$L,"",0,1)) -> Centre-Val de Loire | G72: ORG55 | H72: =IF(G72="","-",_xlfn.XLOOKUP($G72,'Base de données'!$B:$B,SECRET!$X:$X,"",0,1)) -> Adam Alfred | I72: =IF(G72="","-",_xlfn.XLOOKUP($G72,'Base de données'!$B:$B,'Base de données'!$A:$A,"",0,-1)) -> 45809 | J72: =IF(G72="","-",_xlfn.XLOOKUP($G72,'Base de données'!$B:$B,'Base de données'!$L:$L,"",0,1)) -> Hauts-de-France | M72: =IF(L72="","-",_xlfn.XLOOKUP($L72,'Base de données'!$B:$B,SECRET!$X:$X,"",0,1)) -> - | N72: =IF(L72="","-",_xlfn.XLOOKUP($L72,'Base de données'!$B:$B,'Base de données'!$A:$A,"",0,1)) -> - | O72: =IF(L72="","-",_xlfn.XLOOKUP($L72,'Base de données'!$B:$B,'Base de données'!$A:$A,"",0,-1)) -> -
B73: 45NF8 | C73: =IF(B73="","-",_xlfn.XLOOKUP($B73,'Base de données'!$B:$B,SECRET!$X:$X,"",0,1)) -> Dupuy Mathilde | D73: =IF(B73="","-",_xlfn.XLOOKUP($B73,'Base de données'!$B:$B,'Base de données'!$A:$A,"",0,1)) -> 45748 | E73: =IF(B73="","-",_xlfn.XLOOKUP($B73,'Base de données'!$B:$B,'Base de données'!$L:$L,"",0,1)) -> Île-de-France | G73: 729T1 | H73: =IF(G73="","-",_xlfn.XLOOKUP($G73,'Base de données'!$B:$B,SECRET!$X:$X,"",0,1)) -> Turpin Anastasie | I73: =IF(G73="","-",_xlfn.XLOOKUP($G73,'Base de données'!$B:$B,'Base de données'!$A:$A,"",0,-1)) -> 45870 | J73: =IF(G73="","-",_xlfn.XLOOKUP($G73,'Base de données'!$B:$B,'Base de données'!$L:$L,"",0,1)) -> Île-de-France | M73: =IF(L73="","-",_xlfn.XLOOKUP($L73,'Base de données'!$B:$B,SECRET!$X:$X,"",0,1)) -> - | N73: =IF(L73="","-",_xlfn.XLOOKUP($L73,'Base de données'!$B:$B,'Base de données'!$A:$A,"",0,1)) -> - | O73: =IF(L73="","-",_xlfn.XLOOKUP($L73,'Base de données'!$B:$B,'Base de données'!$A:$A,"",0,-1)) -> -
B74: AWHPJ | C74: =IF(B74="","-",_xlfn.XLOOKUP($B74,'Base de données'!$B:$B,SECRET!$X:$X,"",0,1)) -> Colas Virginie | D74: =IF(B74="","-",_xlfn.XLOOKUP($B74,'Base de données'!$B:$B,'Base de données'!$A:$A,"",0,1)) -> 45748 | E74: =IF(B74="","-",_xlfn.XLOOKUP($B74,'Base de données'!$B:$B,'Base de données'!$L:$L,"",0,1)) -> Corse | G74: YYFYK | H74: =IF(G74="","-",_xlfn.XLOOKUP($G74,'Base de données'!$B:$B,SECRET!$X:$X,"",0,1)) -> Roux William | I74: =IF(G74="","-",_xlfn.XLOOKUP($G74,'Base de données'!$B:$B,'Base de données'!$A:$A,"",0,-1)) -> 45717 | J74: =IF(G74="","-",_xlfn.XLOOKUP($G74,'Base de données'!$B:$B,'Base de données'!$L:$L,"",0,1)) -> Île-de-France | M74: =IF(L74="","-",_xlfn.XLOOKUP($L74,'Base de données'!$B:$B,SECRET!$X:$X,"",0,1)) -> - | N74: =IF(L74="","-",_xlfn.XLOOKUP($L74,'Base de données'!$B:$B,'Base de données'!$A:$A,"",0,1)) -> - | O74: =IF(L74="","-",_xlfn.XLOOKUP($L74,'Base de données'!$B:$B,'Base de données'!$A:$A,"",0,-1)) -> -
B75: HN39N | C75: =IF(B75="","-",_xlfn.XLOOKUP($B75,'Base de données'!$B:$B,SECRET!$X:$X,"",0,1)) -> Louis Jean | D75: =IF(B75="","-",_xlfn.XLOOKUP($B75,'Base de données'!$B:$B,'Base de données'!$A:$A,"",0,1)) -> 45748 | E75: =IF(B75="","-",_xlfn.XLOOKUP($B75,'Base de données'!$B:$B,'Base de données'!$L:$L,"",0,1)) -> Pays de la Loire | G75: PHIWH | H75: =IF(G75="","-",_xlfn.XLOOKUP($G75,'Base de données'!$B:$B,SECRET!$X:$X,"",0,1)) -> Lemonnier Maryse | I75: =IF(G75="","-",_xlfn.XLOOKUP($G75,'Base de données'!$B:$B,'Base de données'!$A:$A,"",0,-1)) -> 45717 | J75: =IF(G75="","-",_xlfn.XLOOKUP($G75,'Base de données'!$B:$B,'Base de données'!$L:$L,"",0,1)) -> Île-de-France | M75: =IF(L75="","-",_xlfn.XLOOKUP($L75,'Base de données'!$B:$B,SECRET!$X:$X,"",0,1)) -> - | N75: =IF(L75="","-",_xlfn.XLOOKUP($L75,'Base de données'!$B:$B,'Base de données'!$A:$A,"",0,1)) -> - | O75: =IF(L75="","-",_xlfn.XLOOKUP($L75,'Base de données'!$B:$B,'Base de données'!$A:$A,"",0,-1)) -> -
B76: 6AXKM | C76: =IF(B76="","-",_xlfn.XLOOKUP($B76,'Base de données'!$B:$B,SECRET!$X:$X,"",0,1)) -> Barbier Adrienne | D76: =IF(B76="","-",_xlfn.XLOOKUP($B76,'Base de données'!$B:$B,'Base de données'!$A:$A,"",0,1)) -> 45748 | E76: =IF(B76="","-",_xlfn.XLOOKUP($B76,'Base de données'!$B:$B,'Base de données'!$L:$L,"",0,1)) -> Bourgogne-Franche-Comté | G76: GZV5S | H76: =IF(G76="","-",_xlfn.XLOOKUP($G76,'Base de données'!$B:$B,SECRET!$X:$X,"",0,1)) -> Chevallier Margaud | I76: =IF(G76="","-",_xlfn.XLOOKUP($G76,'Base de données'!$B:$B,'Base de données'!$A:$A,"",0,-1)) -> 45839 | J76: =IF(G76="","-",_xlfn.XLOOKUP($G76,'Base de données'!$B:$B,'Base de données'!$L:$L,"",0,1)) -> Bourgogne-Franche-Comté | M76: =IF(L76="","-",_xlfn.XLOOKUP($L76,'Base de données'!$B:$B,SECRET!$X:$X,"",0,1)) -> - | N76: =IF(L76="","-",_xlfn.XLOOKUP($L76,'Base de données'!$B:$B,'Base de données'!$A:$A,"",0,1)) -> - | O76: =IF(L76="","-",_xlfn.XLOOKUP($L76,'Base de données'!$B:$B,'Base de données'!$A:$A,"",0,-1)) -> -
B77: LPD99 | C77: =IF(B77="","-",_xlfn.XLOOKUP($B77,'Base de données'!$B:$B,SECRET!$X:$X,"",0,1)) -> Lelièvre Sabine | D77: =IF(B77="","-",_xlfn.XLOOKUP($B77,'Base de données'!$B:$B,'Base de données'!$A:$A,"",0,1)) -> 45778 | E77: =IF(B77="","-",_xlfn.XLOOKUP($B77,'Base de données'!$B:$B,'Base de données'!$L:$L,"",0,1)) -> Bourgogne-Franche-Comté | G77: I7VPV | H77: =IF(G77="","-",_xlfn.XLOOKUP($G77,'Base de données'!$B:$B,SECRET!$X:$X,"",0,1)) -> Bouvet Antoine | I77: =IF(G77="","-",_xlfn.XLOOKUP($G77,'Base de données'!$B:$B,'Base de données'!$A:$A,"",0,-1)) -> 45689 | J77: =IF(G77="","-",_xlfn.XLOOKUP($G77,'Base de données'!$B:$B,'Base de données'!$L:$L,"",0,1)) -> Île-de-France | M77: =IF(L77="","-",_xlfn.XLOOKUP($L77,'Base de données'!$B:$B,SECRET!$X:$X,"",0,1)) -> - | N77: =IF(L77="","-",_xlfn.XLOOKUP($L77,'Base de données'!$B:$B,'Base de données'!$A:$A,"",0,1)) -> - | O77: =IF(L77="","-",_xlfn.XLOOKUP($L77,'Base de données'!$B:$B,'Base de données'!$A:$A,"",0,-1)) -> -
B78: 16RLH | C78: =IF(B78="","-",_xlfn.XLOOKUP($B78,'Base de données'!$B:$B,SECRET!$X:$X,"",0,1)) -> Cordier Colette | D78: =IF(B78="","-",_xlfn.XLOOKUP($B78,'Base de données'!$B:$B,'Base de données'!$A:$A,"",0,1)) -> 45778 | E78: =IF(B78="","-",_xlfn.XLOOKUP($B78,'Base de données'!$B:$B,'Base de données'!$L:$L,"",0,1)) -> Corse | G78: WPH5K | H78: =IF(G78="","-",_xlfn.XLOOKUP($G78,'Base de données'!$B:$B,SECRET!$X:$X,"",0,1)) -> Delorme Philippe | I78: =IF(G78="","-",_xlfn.XLOOKUP($G78,'Base de données'!$B:$B,'Base de données'!$A:$A,"",0,-1)) -> 45748 | J78: =IF(G78="","-",_xlfn.XLOOKUP($G78,'Base de données'!$B:$B,'Base de données'!$L:$L,"",0,1)) -> Corse | M78: =IF(L78="","-",_xlfn.XLOOKUP($L78,'Base de données'!$B:$B,SECRET!$X:$X,"",0,1)) -> - | N78: =IF(L78="","-",_xlfn.XLOOKUP($L78,'Base de données'!$B:$B,'Base de données'!$A:$A,"",0,1)) -> - | O78: =IF(L78="","-",_xlfn.XLOOKUP($L78,'Base de données'!$B:$B,'Base de données'!$A:$A,"",0,-1)) -> -
B79: 3VWAZ | C79: =IF(B79="","-",_xlfn.XLOOKUP($B79,'Base de données'!$B:$B,SECRET!$X:$X,"",0,1)) -> Pascal Charles | D79: =IF(B79="","-",_xlfn.XLOOKUP($B79,'Base de données'!$B:$B,'Base de données'!$A:$A,"",0,1)) -> 45778 | E79: =IF(B79="","-",_xlfn.XLOOKUP($B79,'Base de données'!$B:$B,'Base de données'!$L:$L,"",0,1)) -> Nouvelle-Aquitaine | G79: G7YV0 | H79: =IF(G79="","-",_xlfn.XLOOKUP($G79,'Base de données'!$B:$B,SECRET!$X:$X,"",0,1)) -> Allard Adrienne | I79: =IF(G79="","-",_xlfn.XLOOKUP($G79,'Base de données'!$B:$B,'Base de données'!$A:$A,"",0,-1)) -> 45658 | J79: =IF(G79="","-",_xlfn.XLOOKUP($G79,'Base de données'!$B:$B,'Base de données'!$L:$L,"",0,1)) -> Île-de-France | M79: =IF(L79="","-",_xlfn.XLOOKUP($L79,'Base de données'!$B:$B,SECRET!$X:$X,"",0,1)) -> - | N79: =IF(L79="","-",_xlfn.XLOOKUP($L79,'Base de données'!$B:$B,'Base de données'!$A:$A,"",0,1)) -> - | O79: =IF(L79="","-",_xlfn.XLOOKUP($L79,'Base de données'!$B:$B,'Base de données'!$A:$A,"",0,-1)) -> -
B80: 3WN6C | C80: =IF(B80="","-",_xlfn.XLOOKUP($B80,'Base de données'!$B:$B,SECRET!$X:$X,"",0,1)) -> Delorme Marc | D80: =IF(B80="","-",_xlfn.XLOOKUP($B80,'Base de données'!$B:$B,'Base de données'!$A:$A,"",0,1)) -> 45778 | E80: =IF(B80="","-",_xlfn.XLOOKUP($B80,'Base de données'!$B:$B,'Base de données'!$L:$L,"",0,1)) -> Occitanie | G80: 6IR69 | H80: =IF(G80="","-",_xlfn.XLOOKUP($G80,'Base de données'!$B:$B,SECRET!$X:$X,"",0,1)) -> Thibault Thomas | I80: =IF(G80="","-",_xlfn.XLOOKUP($G80,'Base de données'!$B:$B,'Base de données'!$A:$A,"",0,-1)) -> 45901 | J80: =IF(G80="","-",_xlfn.XLOOKUP($G80,'Base de données'!$B:$B,'Base de données'!$L:$L,"",0,1)) -> Hauts-de-France | M80: =IF(L80="","-",_xlfn.XLOOKUP($L80,'Base de données'!$B:$B,SECRET!$X:$X,"",0,1)) -> - | N80: =IF(L80="","-",_xlfn.XLOOKUP($L80,'Base de données'!$B:$B,'Base de données'!$A:$A,"",0,1)) -> - | O80: =IF(L80="","-",_xlfn.XLOOKUP($L80,'Base de données'!$B:$B,'Base de données'!$A:$A,"",0,-1)) -> -
B81: 66LEO | C81: =IF(B81="","-",_xlfn.XLOOKUP($B81,'Base de données'!$B:$B,SECRET!$X:$X,"",0,1)) -> Arnaud Cécile | D81: =IF(B81="","-",_xlfn.XLOOKUP($B81,'Base de données'!$B:$B,'Base de données'!$A:$A,"",0,1)) -> 45778 | E81: =IF(B81="","-",_xlfn.XLOOKUP($B81,'Base de données'!$B:$B,'Base de données'!$L:$L,"",0,1)) -> Corse | G81: UHGK8 | H81: =IF(G81="","-",_xlfn.XLOOKUP($G81,'Base de données'!$B:$B,SECRET!$X:$X,"",0,1)) -> Perret Émile | I81: =IF(G81="","-",_xlfn.XLOOKUP($G81,'Base de données'!$B:$B,'Base de données'!$A:$A,"",0,-1)) -> 45809 | J81: =IF(G81="","-",_xlfn.XLOOKUP($G81,'Base de données'!$B:$B,'Base de données'!$L:$L,"",0,1)) -> Centre-Val de Loire | M81: =IF(L81="","-",_xlfn.XLOOKUP($L81,'Base de données'!$B:$B,SECRET!$X:$X,"",0,1)) -> - | N81: =IF(L81="","-",_xlfn.XLOOKUP($L81,'Base de données'!$B:$B,'Base de données'!$A:$A,"",0,1)) -> - | O81: =IF(L81="","-",_xlfn.XLOOKUP($L81,'Base de données'!$B:$B,'Base de données'!$A:$A,"",0,-1)) -> -
... B119: BWV5N | C119: =IF(B119="","-",_xlfn.XLOOKUP($B119,'Base de données'!$B:$B,SECRET!$X:$X,"",0,1)) -> Michaud Gabriel | D119: =IF(B119="","-",_xlfn.XLOOKUP($B119,'Base de données'!$B:$B,'Base de données'!$A:$A,"",0,1)) -> 45931 | E119: =IF(B119="","-",_xlfn.XLOOKUP($B119,'Base de données'!$B:$B,'Base de données'!$L:$L,"",0,1)) -> Bretagne | G119: 8Y304 | H119: =IF(G119="","-",_xlfn.XLOOKUP($G119,'Base de données'!$B:$B,SECRET!$X:$X,"",0,1)) -> Briand Stéphanie | I119: =IF(G119="","-",_xlfn.XLOOKUP($G119,'Base de données'!$B:$B,'Base de données'!$A:$A,"",0,-1)) -> 45931 | J119: =IF(G119="","-",_xlfn.XLOOKUP($G119,'Base de données'!$B:$B,'Base de données'!$L:$L,"",0,1)) -> Île-de-France | M119: =IF(L119="","-",_xlfn.XLOOKUP($L119,'Base de données'!$B:$B,SECRET!$X:$X,"",0,1)) -> - | N119: =IF(L119="","-",_xlfn.XLOOKUP($L119,'Base de données'!$B:$B,'Base de données'!$A:$A,"",0,1)) -> - | O119: =IF(L119="","-",_xlfn.XLOOKUP($L119,'Base de données'!$B:$B,'Base de données'!$A:$A,"",0,-1)) -> -
B120: 58GDE | C120: =IF(B120="","-",_xlfn.XLOOKUP($B120,'Base de données'!$B:$B,SECRET!$X:$X,"",0,1)) -> Pottier Christelle | D120: =IF(B120="","-",_xlfn.XLOOKUP($B120,'Base de données'!$B:$B,'Base de données'!$A:$A,"",0,1)) -> 45931 | E120: =IF(B120="","-",_xlfn.XLOOKUP($B120,'Base de données'!$B:$B,'Base de données'!$L:$L,"",0,1)) -> Provence-Alpes-Côte d’Azur | G120: 0 | H120: =IF(G120="","-",_xlfn.XLOOKUP($G120,'Base de données'!$B:$B,SECRET!$X:$X,"",0,1)) | I120: =IF(G120="","-",_xlfn.XLOOKUP($G120,'Base de données'!$B:$B,'Base de données'!$A:$A,"",0,-1)) | J120: =IF(G120="","-",_xlfn.XLOOKUP($G120,'Base de données'!$B:$B,'Base de données'!$L:$L,"",0,1)) | M120: =IF(L120="","-",_xlfn.XLOOKUP($L120,'Base de données'!$B:$B,SECRET!$X:$X,"",0,1)) -> - | N120: =IF(L120="","-",_xlfn.XLOOKUP($L120,'Base de données'!$B:$B,'Base de données'!$A:$A,"",0,1)) -> - | O120: =IF(L120="","-",_xlfn.XLOOKUP($L120,'Base de données'!$B:$B,'Base de données'!$A:$A,"",0,-1)) -> -
B121: J93JQ | C121: =IF(B121="","-",_xlfn.XLOOKUP($B121,'Base de données'!$B:$B,SECRET!$X:$X,"",0,1)) -> Diallo Bertrand | D121: =IF(B121="","-",_xlfn.XLOOKUP($B121,'Base de données'!$B:$B,'Base de données'!$A:$A,"",0,1)) -> 45931 | E121: =IF(B121="","-",_xlfn.XLOOKUP($B121,'Base de données'!$B:$B,'Base de données'!$L:$L,"",0,1)) -> Normandie | H121: =IF(G121="","-",_xlfn.XLOOKUP($G121,'Base de données'!$B:$B,SECRET!$X:$X,"",0,1)) -> - | I121: =IF(G121="","-",_xlfn.XLOOKUP($G121,'Base de données'!$B:$B,'Base de données'!$A:$A,"",0,-1)) -> - | J121: =IF(G121="","-",_xlfn.XLOOKUP($G121,'Base de données'!$B:$B,'Base de données'!$L:$L,"",0,1)) -> - | M121: =IF(L121="","-",_xlfn.XLOOKUP($L121,'Base de données'!$B:$B,SECRET!$X:$X,"",0,1)) -> - | N121: =IF(L121="","-",_xlfn.XLOOKUP($L121,'Base de données'!$B:$B,'Base de données'!$A:$A,"",0,1)) -> - | O121: =IF(L121="","-",_xlfn.XLOOKUP($L121,'Base de données'!$B:$B,'Base de données'!$A:$A,"",0,-1)) -> -
B122: HT3G7 | C122: =IF(B122="","-",_xlfn.XLOOKUP($B122,'Base de données'!$B:$B,SECRET!$X:$X,"",0,1)) -> Cousin Manon | D122: =IF(B122="","-",_xlfn.XLOOKUP($B122,'Base de données'!$B:$B,'Base de données'!$A:$A,"",0,1)) -> 45931 | E122: =IF(B122="","-",_xlfn.XLOOKUP($B122,'Base de données'!$B:$B,'Base de données'!$L:$L,"",0,1)) -> Pays de la Loire | H122: =IF(G122="","-",_xlfn.XLOOKUP($G122,'Base de données'!$B:$B,SECRET!$X:$X,"",0,1)) -> - | I122: =IF(G122="","-",_xlfn.XLOOKUP($G122,'Base de données'!$B:$B,'Base de données'!$A:$A,"",0,-1)) -> - | J122: =IF(G122="","-",_xlfn.XLOOKUP($G122,'Base de données'!$B:$B,'Base de données'!$L:$L,"",0,1)) -> - | M122: =IF(L122="","-",_xlfn.XLOOKUP($L122,'Base de données'!$B:$B,SECRET!$X:$X,"",0,1)) -> - | N122: =IF(L122="","-",_xlfn.XLOOKUP($L122,'Base de données'!$B:$B,'Base de données'!$A:$A,"",0,1)) -> - | O122: =IF(L122="","-",_xlfn.XLOOKUP($L122,'Base de données'!$B:$B,'Base de données'!$A:$A,"",0,-1)) -> -
B123: M9SM0 | C123: =IF(B123="","-",_xlfn.XLOOKUP($B123,'Base de données'!$B:$B,SECRET!$X:$X,"",0,1)) -> Brun Frédérique | D123: =IF(B123="","-",_xlfn.XLOOKUP($B123,'Base de données'!$B:$B,'Base de données'!$A:$A,"",0,1)) -> 45931 | E123: =IF(B123="","-",_xlfn.XLOOKUP($B123,'Base de données'!$B:$B,'Base de données'!$L:$L,"",0,1)) -> Corse | H123: =IF(G123="","-",_xlfn.XLOOKUP($G123,'Base de données'!$B:$B,SECRET!$X:$X,"",0,1)) -> - | I123: =IF(G123="","-",_xlfn.XLOOKUP($G123,'Base de données'!$B:$B,'Base de données'!$A:$A,"",0,-1)) -> - | J123: =IF(G123="","-",_xlfn.XLOOKUP($G123,'Base de données'!$B:$B,'Base de données'!$L:$L,"",0,1)) -> - | M123: =IF(L123="","-",_xlfn.XLOOKUP($L123,'Base de données'!$B:$B,SECRET!$X:$X,"",0,1)) -> - | N123: =IF(L123="","-",_xlfn.XLOOKUP($L123,'Base de données'!$B:$B,'Base de données'!$A:$A,"",0,1)) -> - | O123: =IF(L123="","-",_xlfn.XLOOKUP($L123,'Base de données'!$B:$B,'Base de données'!$A:$A,"",0,-1)) -> -
B124: 8Y304 | C124: =IF(B124="","-",_xlfn.XLOOKUP($B124,'Base de données'!$B:$B,SECRET!$X:$X,"",0,1)) -> Briand Stéphanie | D124: =IF(B124="","-",_xlfn.XLOOKUP($B124,'Base de données'!$B:$B,'Base de données'!$A:$A,"",0,1)) -> 45931 | E124: =IF(B124="","-",_xlfn.XLOOKUP($B124,'Base de données'!$B:$B,'Base de données'!$L:$L,"",0,1)) -> Île-de-France | H124: =IF(G124="","-",_xlfn.XLOOKUP($G124,'Base de données'!$B:$B,SECRET!$X:$X,"",0,1)) -> - | I124: =IF(G124="","-",_xlfn.XLOOKUP($G124,'Base de données'!$B:$B,'Base de données'!$A:$A,"",0,-1)) -> - | J124: =IF(G124="","-",_xlfn.XLOOKUP($G124,'Base de données'!$B:$B,'Base de données'!$L:$L,"",0,1)) -> - | M124: =IF(L124="","-",_xlfn.XLOOKUP($L124,'Base de données'!$B:$B,SECRET!$X:$X,"",0,1)) -> - | N124: =IF(L124="","-",_xlfn.XLOOKUP($L124,'Base de données'!$B:$B,'Base de données'!$A:$A,"",0,1)) -> - | O124: =IF(L124="","-",_xlfn.XLOOKUP($L124,'Base de données'!$B:$B,'Base de données'!$A:$A,"",0,-1)) -> -
B125: M8RZ9 | C125: =IF(B125="","-",_xlfn.XLOOKUP($B125,'Base de données'!$B:$B,SECRET!$X:$X,"",0,1)) -> Gimenez Hélène | D125: =IF(B125="","-",_xlfn.XLOOKUP($B125,'Base de données'!$B:$B,'Base de données'!$A:$A,"",0,1)) -> 45931 | E125: =IF(B125="","-",_xlfn.XLOOKUP($B125,'Base de données'!$B:$B,'Base de données'!$L:$L,"",0,1)) -> Île-de-France | H125: =IF(G125="","-",_xlfn.XLOOKUP($G125,'Base de données'!$B:$B,SECRET!$X:$X,"",0,1)) -> - | I125: =IF(G125="","-",_xlfn.XLOOKUP($G125,'Base de données'!$B:$B,'Base de données'!$A:$A,"",0,-1)) -> - | J125: =IF(G125="","-",_xlfn.XLOOKUP($G125,'Base de données'!$B:$B,'Base de données'!$L:$L,"",0,1)) -> - | M125: =IF(L125="","-",_xlfn.XLOOKUP($L125,'Base de données'!$B:$B,SECRET!$X:$X,"",0,1)) -> - | N125: =IF(L125="","-",_xlfn.XLOOKUP($L125,'Base de données'!$B:$B,'Base de données'!$A:$A,"",0,1)) -> - | O125: =IF(L125="","-",_xlfn.XLOOKUP($L125,'Base de données'!$B:$B,'Base de données'!$A:$A,"",0,-1)) -> -
B126: 36O5F | C126: =IF(B126="","-",_xlfn.XLOOKUP($B126,'Base de données'!$B:$B,SECRET!$X:$X,"",0,1)) -> Lecomte Bernard | D126: =IF(B126="","-",_xlfn.XLOOKUP($B126,'Base de données'!$B:$B,'Base de données'!$A:$A,"",0,1)) -> 45931 | E126: =IF(B126="","-",_xlfn.XLOOKUP($B126,'Base de données'!$B:$B,'Base de données'!$L:$L,"",0,1)) -> Île-de-France | H126: =IF(G126="","-",_xlfn.XLOOKUP($G126,'Base de données'!$B:$B,SECRET!$X:$X,"",0,1)) -> - | I126: =IF(G126="","-",_xlfn.XLOOKUP($G126,'Base de données'!$B:$B,'Base de données'!$A:$A,"",0,-1)) -> - | J126: =IF(G126="","-",_xlfn.XLOOKUP($G126,'Base de données'!$B:$B,'Base de données'!$L:$L,"",0,1)) -> - | M126: =IF(L126="","-",_xlfn.XLOOKUP($L126,'Base de données'!$B:$B,SECRET!$X:$X,"",0,1)) -> - | N126: =IF(L126="","-",_xlfn.XLOOKUP($L126,'Base de données'!$B:$B,'Base de données'!$A:$A,"",0,1)) -> - | O126: =IF(L126="","-",_xlfn.XLOOKUP($L126,'Base de données'!$B:$B,'Base de données'!$A:$A,"",0,-1)) -> -
B127: 2O7N7 | C127: =IF(B127="","-",_xlfn.XLOOKUP($B127,'Base de données'!$B:$B,SECRET!$X:$X,"",0,1)) -> Bodin Anouk | D127: =IF(B127="","-",_xlfn.XLOOKUP($B127,'Base de données'!$B:$B,'Base de données'!$A:$A,"",0,1)) -> 45962 | E127: =IF(B127="","-",_xlfn.XLOOKUP($B127,'Base de données'!$B:$B,'Base de données'!$L:$L,"",0,1)) -> Grand Est | H127: =IF(G127="","-",_xlfn.XLOOKUP($G127,'Base de données'!$B:$B,SECRET!$X:$X,"",0,1)) -> - | I127: =IF(G127="","-",_xlfn.XLOOKUP($G127,'Base de données'!$B:$B,'Base de données'!$A:$A,"",0,-1)) -> - | J127: =IF(G127="","-",_xlfn.XLOOKUP($G127,'Base de données'!$B:$B,'Base de données'!$L:$L,"",0,1)) -> - | M127: =IF(L127="","-",_xlfn.XLOOKUP($L127,'Base de données'!$B:$B,SECRET!$X:$X,"",0,1)) -> - | N127: =IF(L127="","-",_xlfn.XLOOKUP($L127,'Base de données'!$B:$B,'Base de données'!$A:$A,"",0,1)) -> - | O127: =IF(L127="","-",_xlfn.XLOOKUP($L127,'Base de données'!$B:$B,'Base de données'!$A:$A,"",0,-1)) -> -
B128: M70KB | C128: =IF(B128="","-",_xlfn.XLOOKUP($B128,'Base de données'!$B:$B,SECRET!$X:$X,"",0,1)) -> Clément Yves | D128: =IF(B128="","-",_xlfn.XLOOKUP($B128,'Base de données'!$B:$B,'Base de données'!$A:$A,"",0,1)) -> 45962 | E128: =IF(B128="","-",_xlfn.XLOOKUP($B128,'Base de données'!$B:$B,'Base de données'!$L:$L,"",0,1)) -> Île-de-France | H128: =IF(G128="","-",_xlfn.XLOOKUP($G128,'Base de données'!$B:$B,SECRET!$X:$X,"",0,1)) -> - | I128: =IF(G128="","-",_xlfn.XLOOKUP($G128,'Base de données'!$B:$B,'Base de données'!$A:$A,"",0,-1)) -> - | J128: =IF(G128="","-",_xlfn.XLOOKUP($G128,'Base de données'!$B:$B,'Base de données'!$L:$L,"",0,1)) -> - | M128: =IF(L128="","-",_xlfn.XLOOKUP($L128,'Base de données'!$B:$B,SECRET!$X:$X,"",0,1)) -> - | N128: =IF(L128="","-",_xlfn.XLOOKUP($L128,'Base de données'!$B:$B,'Base de données'!$A:$A,"",0,1)) -> - | O128: =IF(L128="","-",_xlfn.XLOOKUP($L128,'Base de données'!$B:$B,'Base de données'!$A:$A,"",0,-1)) -> -
B129: TZ21F | C129: =IF(B129="","-",_xlfn.XLOOKUP($B129,'Base de données'!$B:$B,SECRET!$X:$X,"",0,1)) -> Nguyen Manon | D129: =IF(B129="","-",_xlfn.XLOOKUP($B129,'Base de données'!$B:$B,'Base de données'!$A:$A,"",0,1)) -> 45962 | E129: =IF(B129="","-",_xlfn.XLOOKUP($B129,'Base de données'!$B:$B,'Base de données'!$L:$L,"",0,1)) -> Île-de-France | H129: =IF(G129="","-",_xlfn.XLOOKUP($G129,'Base de données'!$B:$B,SECRET!$X:$X,"",0,1)) -> - | I129: =IF(G129="","-",_xlfn.XLOOKUP($G129,'Base de données'!$B:$B,'Base de données'!$A:$A,"",0,-1)) -> - | J129: =IF(G129="","-",_xlfn.XLOOKUP($G129,'Base de données'!$B:$B,'Base de données'!$L:$L,"",0,1)) -> - | M129: =IF(L129="","-",_xlfn.XLOOKUP($L129,'Base de données'!$B:$B,SECRET!$X:$X,"",0,1)) -> - | N129: =IF(L129="","-",_xlfn.XLOOKUP($L129,'Base de données'!$B:$B,'Base de données'!$A:$A,"",0,1)) -> - | O129: =IF(L129="","-",_xlfn.XLOOKUP($L129,'Base de données'!$B:$B,'Base de données'!$A:$A,"",0,-1)) -> -
B130: GR6D9 | C130: =IF(B130="","-",_xlfn.XLOOKUP($B130,'Base de données'!$B:$B,SECRET!$X:$X,"",0,1)) -> Leleu Maurice | D130: =IF(B130="","-",_xlfn.XLOOKUP($B130,'Base de données'!$B:$B,'Base de données'!$A:$A,"",0,1)) -> 45962 | E130: =IF(B130="","-",_xlfn.XLOOKUP($B130,'Base de données'!$B:$B,'Base de données'!$L:$L,"",0,1)) -> Auvergne-Rhône-Alpes | H130: =IF(G130="","-",_xlfn.XLOOKUP($G130,'Base de données'!$B:$B,SECRET!$X:$X,"",0,1)) -> - | I130: =IF(G130="","-",_xlfn.XLOOKUP($G130,'Base de données'!$B:$B,'Base de données'!$A:$A,"",0,-1)) -> - | J130: =IF(G130="","-",_xlfn.XLOOKUP($G130,'Base de données'!$B:$B,'Base de données'!$L:$L,"",0,1)) -> - | M130: =IF(L130="","-",_xlfn.XLOOKUP($L130,'Base de données'!$B:$B,SECRET!$X:$X,"",0,1)) -> - | N130: =IF(L130="","-",_xlfn.XLOOKUP($L130,'Base de données'!$B:$B,'Base de données'!$A:$A,"",0,1)) -> - | O130: =IF(L130="","-",_xlfn.XLOOKUP($L130,'Base de données'!$B:$B,'Base de données'!$A:$A,"",0,-1)) -> -
B131: CZL1T | C131: =IF(B131="","-",_xlfn.XLOOKUP($B131,'Base de données'!$B:$B,SECRET!$X:$X,"",0,1)) -> Martin Rémy | D131: =IF(B131="","-",_xlfn.XLOOKUP($B131,'Base de données'!$B:$B,'Base de données'!$A:$A,"",0,1)) -> 45962 | E131: =IF(B131="","-",_xlfn.XLOOKUP($B131,'Base de données'!$B:$B,'Base de données'!$L:$L,"",0,1)) -> Occitanie | H131: =IF(G131="","-",_xlfn.XLOOKUP($G131,'Base de données'!$B:$B,SECRET!$X:$X,"",0,1)) -> - | I131: =IF(G131="","-",_xlfn.XLOOKUP($G131,'Base de données'!$B:$B,'Base de données'!$A:$A,"",0,-1)) -> - | J131: =IF(G131="","-",_xlfn.XLOOKUP($G131,'Base de données'!$B:$B,'Base de données'!$L:$L,"",0,1)) -> - | M131: =IF(L131="","-",_xlfn.XLOOKUP($L131,'Base de données'!$B:$B,SECRET!$X:$X,"",0,1)) -> - | N131: =IF(L131="","-",_xlfn.XLOOKUP($L131,'Base de données'!$B:$B,'Base de données'!$A:$A,"",0,1)) -> - | O131: =IF(L131="","-",_xlfn.XLOOKUP($L131,'Base de données'!$B:$B,'Base de données'!$A:$A,"",0,-1)) -> -
B132: GW0AF | C132: =IF(B132="","-",_xlfn.XLOOKUP($B132,'Base de données'!$B:$B,SECRET!$X:$X,"",0,1)) -> Lebon Aurélie | D132: =IF(B132="","-",_xlfn.XLOOKUP($B132,'Base de données'!$B:$B,'Base de données'!$A:$A,"",0,1)) -> 45962 | E132: =IF(B132="","-",_xlfn.XLOOKUP($B132,'Base de données'!$B:$B,'Base de données'!$L:$L,"",0,1)) -> Île-de-France | H132: =IF(G132="","-",_xlfn.XLOOKUP($G132,'Base de données'!$B:$B,SECRET!$X:$X,"",0,1)) -> - | I132: =IF(G132="","-",_xlfn.XLOOKUP($G132,'Base de données'!$B:$B,'Base de données'!$A:$A,"",0,-1)) -> - | J132: =IF(G132="","-",_xlfn.XLOOKUP($G132,'Base de données'!$B:$B,'Base de données'!$L:$L,"",0,1)) -> - | M132: =IF(L132="","-",_xlfn.XLOOKUP($L132,'Base de données'!$B:$B,SECRET!$X:$X,"",0,1)) -> - | N132: =IF(L132="","-",_xlfn.XLOOKUP($L132,'Base de données'!$B:$B,'Base de données'!$A:$A,"",0,1)) -> - | O132: =IF(L132="","-",_xlfn.XLOOKUP($L132,'Base de données'!$B:$B,'Base de données'!$A:$A,"",0,-1)) -> -
... B141: U09KY | C141: =IF(B141="","-",_xlfn.XLOOKUP($B141,'Base de données'!$B:$B,SECRET!$X:$X,"",0,1)) -> Cohen Louis | D141: =IF(B141="","-",_xlfn.XLOOKUP($B141,'Base de données'!$B:$B,'Base de données'!$A:$A,"",0,1)) -> 45992 | E141: =IF(B141="","-",_xlfn.XLOOKUP($B141,'Base de données'!$B:$B,'Base de données'!$L:$L,"",0,1)) -> Corse | H141: =IF(G141="","-",_xlfn.XLOOKUP($G141,'Base de données'!$B:$B,SECRET!$X:$X,"",0,1)) -> - | I141: =IF(G141="","-",_xlfn.XLOOKUP($G141,'Base de données'!$B:$B,'Base de données'!$A:$A,"",0,-1)) -> - | J141: =IF(G141="","-",_xlfn.XLOOKUP($G141,'Base de données'!$B:$B,'Base de données'!$L:$L,"",0,1)) -> - | M141: =IF(L141="","-",_xlfn.XLOOKUP($L141,'Base de données'!$B:$B,SECRET!$X:$X,"",0,1)) -> - | N141: =IF(L141="","-",_xlfn.XLOOKUP($L141,'Base de données'!$B:$B,'Base de données'!$A:$A,"",0,1)) -> - | O141: =IF(L141="","-",_xlfn.XLOOKUP($L141,'Base de données'!$B:$B,'Base de données'!$A:$A,"",0,-1)) -> -
B142: 0 | C142: =IF(B142="","-",_xlfn.XLOOKUP($B142,'Base de données'!$B:$B,SECRET!$X:$X,"",0,1)) | D142: =IF(B142="","-",_xlfn.XLOOKUP($B142,'Base de données'!$B:$B,'Base de données'!$A:$A,"",0,1)) | E142: =IF(B142="","-",_xlfn.XLOOKUP($B142,'Base de données'!$B:$B,'Base de données'!$L:$L,"",0,1)) | H142: =IF(G142="","-",_xlfn.XLOOKUP($G142,'Base de données'!$B:$B,SECRET!$X:$X,"",0,1)) -> - | I142: =IF(G142="","-",_xlfn.XLOOKUP($G142,'Base de données'!$B:$B,'Base de données'!$A:$A,"",0,-1)) -> - | J142: =IF(G142="","-",_xlfn.XLOOKUP($G142,'Base de données'!$B:$B,'Base de données'!$L:$L,"",0,1)) -> - | M142: =IF(L142="","-",_xlfn.XLOOKUP($L142,'Base de données'!$B:$B,SECRET!$X:$X,"",0,1)) -> - | N142: =IF(L142="","-",_xlfn.XLOOKUP($L142,'Base de données'!$B:$B,'Base de données'!$A:$A,"",0,1)) -> - | O142: =IF(L142="","-",_xlfn.XLOOKUP($L142,'Base de données'!$B:$B,'Base de données'!$A:$A,"",0,-1)) -> -
C143: =IF(B143="","-",_xlfn.XLOOKUP($B143,'Base de données'!$B:$B,SECRET!$X:$X,"",0,1)) -> - | D143: =IF(B143="","-",_xlfn.XLOOKUP($B143,'Base de données'!$B:$B,'Base de données'!$A:$A,"",0,1)) -> - | E143: =IF(B143="","-",_xlfn.XLOOKUP($B143,'Base de données'!$B:$B,'Base de données'!$L:$L,"",0,1)) -> - | H143: =IF(G143="","-",_xlfn.XLOOKUP($G143,'Base de données'!$B:$B,SECRET!$X:$X,"",0,1)) -> - | I143: =IF(G143="","-",_xlfn.XLOOKUP($G143,'Base de données'!$B:$B,'Base de données'!$A:$A,"",0,-1)) -> - | J143: =IF(G143="","-",_xlfn.XLOOKUP($G143,'Base de données'!$B:$B,'Base de données'!$L:$L,"",0,1)) -> - | M143: =IF(L143="","-",_xlfn.XLOOKUP($L143,'Base de données'!$B:$B,SECRET!$X:$X,"",0,1)) -> - | N143: =IF(L143="","-",_xlfn.XLOOKUP($L143,'Base de données'!$B:$B,'Base de données'!$A:$A,"",0,1)) -> - | O143: =IF(L143="","-",_xlfn.XLOOKUP($L143,'Base de données'!$B:$B,'Base de données'!$A:$A,"",0,-1)) -> -
C144: =IF(B144="","-",_xlfn.XLOOKUP($B144,'Base de données'!$B:$B,SECRET!$X:$X,"",0,1)) -> - | D144: =IF(B144="","-",_xlfn.XLOOKUP($B144,'Base de données'!$B:$B,'Base de données'!$A:$A,"",0,1)) -> - | E144: =IF(B144="","-",_xlfn.XLOOKUP($B144,'Base de données'!$B:$B,'Base de données'!$L:$L,"",0,1)) -> - | H144: =IF(G144="","-",_xlfn.XLOOKUP($G144,'Base de données'!$B:$B,SECRET!$X:$X,"",0,1)) -> - | I144: =IF(G144="","-",_xlfn.XLOOKUP($G144,'Base de données'!$B:$B,'Base de données'!$A:$A,"",0,-1)) -> - | J144: =IF(G144="","-",_xlfn.XLOOKUP($G144,'Base de données'!$B:$B,'Base de données'!$L:$L,"",0,1)) -> - | M144: =IF(L144="","-",_xlfn.XLOOKUP($L144,'Base de données'!$B:$B,SECRET!$X:$X,"",0,1)) -> - | N144: =IF(L144="","-",_xlfn.XLOOKUP($L144,'Base de données'!$B:$B,'Base de données'!$A:$A,"",0,1)) -> - | O144: =IF(L144="","-",_xlfn.XLOOKUP($L144,'Base de données'!$B:$B,'Base de données'!$A:$A,"",0,-1)) -> -
C145: =IF(B145="","-",_xlfn.XLOOKUP($B145,'Base de données'!$B:$B,SECRET!$X:$X,"",0,1)) -> - | D145: =IF(B145="","-",_xlfn.XLOOKUP($B145,'Base de données'!$B:$B,'Base de données'!$A:$A,"",0,1)) -> - | E145: =IF(B145="","-",_xlfn.XLOOKUP($B145,'Base de données'!$B:$B,'Base de données'!$L:$L,"",0,1)) -> - | H145: =IF(G145="","-",_xlfn.XLOOKUP($G145,'Base de données'!$B:$B,SECRET!$X:$X,"",0,1)) -> - | I145: =IF(G145="","-",_xlfn.XLOOKUP($G145,'Base de données'!$B:$B,'Base de données'!$A:$A,"",0,-1)) -> - | J145: =IF(G145="","-",_xlfn.XLOOKUP($G145,'Base de données'!$B:$B,'Base de données'!$L:$L,"",0,1)) -> - | M145: =IF(L145="","-",_xlfn.XLOOKUP($L145,'Base de données'!$B:$B,SECRET!$X:$X,"",0,1)) -> - | N145: =IF(L145="","-",_xlfn.XLOOKUP($L145,'Base de données'!$B:$B,'Base de données'!$A:$A,"",0,1)) -> - | O145: =IF(L145="","-",_xlfn.XLOOKUP($L145,'Base de données'!$B:$B,'Base de données'!$A:$A,"",0,-1)) -> -
C146: =IF(B146="","-",_xlfn.XLOOKUP($B146,'Base de données'!$B:$B,SECRET!$X:$X,"",0,1)) -> - | D146: =IF(B146="","-",_xlfn.XLOOKUP($B146,'Base de données'!$B:$B,'Base de données'!$A:$A,"",0,1)) -> - | E146: =IF(B146="","-",_xlfn.XLOOKUP($B146,'Base de données'!$B:$B,'Base de données'!$L:$L,"",0,1)) -> - | H146: =IF(G146="","-",_xlfn.XLOOKUP($G146,'Base de données'!$B:$B,SECRET!$X:$X,"",0,1)) -> - | I146: =IF(G146="","-",_xlfn.XLOOKUP($G146,'Base de données'!$B:$B,'Base de données'!$A:$A,"",0,-1)) -> - | J146: =IF(G146="","-",_xlfn.XLOOKUP($G146,'Base de données'!$B:$B,'Base de données'!$L:$L,"",0,1)) -> - | M146: =IF(L146="","-",_xlfn.XLOOKUP($L146,'Base de données'!$B:$B,SECRET!$X:$X,"",0,1)) -> - | N146: =IF(L146="","-",_xlfn.XLOOKUP($L146,'Base de données'!$B:$B,'Base de données'!$A:$A,"",0,1)) -> - | O146: =IF(L146="","-",_xlfn.XLOOKUP($L146,'Base de données'!$B:$B,'Base de données'!$A:$A,"",0,-1)) -> -
C147: =IF(B147="","-",_xlfn.XLOOKUP($B147,'Base de données'!$B:$B,SECRET!$X:$X,"",0,1)) -> - | D147: =IF(B147="","-",_xlfn.XLOOKUP($B147,'Base de données'!$B:$B,'Base de données'!$A:$A,"",0,1)) -> - | E147: =IF(B147="","-",_xlfn.XLOOKUP($B147,'Base de données'!$B:$B,'Base de données'!$L:$L,"",0,1)) -> - | H147: =IF(G147="","-",_xlfn.XLOOKUP($G147,'Base de données'!$B:$B,SECRET!$X:$X,"",0,1)) -> - | I147: =IF(G147="","-",_xlfn.XLOOKUP($G147,'Base de données'!$B:$B,'Base de données'!$A:$A,"",0,-1)) -> - | J147: =IF(G147="","-",_xlfn.XLOOKUP($G147,'Base de données'!$B:$B,'Base de données'!$L:$L,"",0,1)) -> - | M147: =IF(L147="","-",_xlfn.XLOOKUP($L147,'Base de données'!$B:$B,SECRET!$X:$X,"",0,1)) -> - | N147: =IF(L147="","-",_xlfn.XLOOKUP($L147,'Base de données'!$B:$B,'Base de données'!$A:$A,"",0,1)) -> - | O147: =IF(L147="","-",_xlfn.XLOOKUP($L147,'Base de données'!$B:$B,'Base de données'!$A:$A,"",0,-1)) -> -
C148: =IF(B148="","-",_xlfn.XLOOKUP($B148,'Base de données'!$B:$B,SECRET!$X:$X,"",0,1)) -> - | D148: =IF(B148="","-",_xlfn.XLOOKUP($B148,'Base de données'!$B:$B,'Base de données'!$A:$A,"",0,1)) -> - | E148: =IF(B148="","-",_xlfn.XLOOKUP($B148,'Base de données'!$B:$B,'Base de données'!$L:$L,"",0,1)) -> - | H148: =IF(G148="","-",_xlfn.XLOOKUP($G148,'Base de données'!$B:$B,SECRET!$X:$X,"",0,1)) -> - | I148: =IF(G148="","-",_xlfn.XLOOKUP($G148,'Base de données'!$B:$B,'Base de données'!$A:$A,"",0,-1)) -> - | J148: =IF(G148="","-",_xlfn.XLOOKUP($G148,'Base de données'!$B:$B,'Base de données'!$L:$L,"",0,1)) -> - | M148: =IF(L148="","-",_xlfn.XLOOKUP($L148,'Base de données'!$B:$B,SECRET!$X:$X,"",0,1)) -> - | N148: =IF(L148="","-",_xlfn.XLOOKUP($L148,'Base de données'!$B:$B,'Base de données'!$A:$A,"",0,1)) -> - | O148: =IF(L148="","-",_xlfn.XLOOKUP($L148,'Base de données'!$B:$B,'Base de données'!$A:$A,"",0,-1)) -> -
C149: =IF(B149="","-",_xlfn.XLOOKUP($B149,'Base de données'!$B:$B,SECRET!$X:$X,"",0,1)) -> - | D149: =IF(B149="","-",_xlfn.XLOOKUP($B149,'Base de données'!$B:$B,'Base de données'!$A:$A,"",0,1)) -> - | E149: =IF(B149="","-",_xlfn.XLOOKUP($B149,'Base de données'!$B:$B,'Base de données'!$L:$L,"",0,1)) -> - | H149: =IF(G149="","-",_xlfn.XLOOKUP($G149,'Base de données'!$B:$B,SECRET!$X:$X,"",0,1)) -> - | I149: =IF(G149="","-",_xlfn.XLOOKUP($G149,'Base de données'!$B:$B,'Base de données'!$A:$A,"",0,-1)) -> - | J149: =IF(G149="","-",_xlfn.XLOOKUP($G149,'Base de données'!$B:$B,'Base de données'!$L:$L,"",0,1)) -> - | M149: =IF(L149="","-",_xlfn.XLOOKUP($L149,'Base de données'!$B:$B,SECRET!$X:$X,"",0,1)) -> - | N149: =IF(L149="","-",_xlfn.XLOOKUP($L149,'Base de données'!$B:$B,'Base de données'!$A:$A,"",0,1)) -> - | O149: =IF(L149="","-",_xlfn.XLOOKUP($L149,'Base de données'!$B:$B,'Base de données'!$A:$A,"",0,-1)) -> -
C150: =IF(B150="","-",_xlfn.XLOOKUP($B150,'Base de données'!$B:$B,SECRET!$X:$X,"",0,1)) -> - | D150: =IF(B150="","-",_xlfn.XLOOKUP($B150,'Base de données'!$B:$B,'Base de données'!$A:$A,"",0,1)) -> - | E150: =IF(B150="","-",_xlfn.XLOOKUP($B150,'Base de données'!$B:$B,'Base de données'!$L:$L,"",0,1)) -> - | H150: =IF(G150="","-",_xlfn.XLOOKUP($G150,'Base de données'!$B:$B,SECRET!$X:$X,"",0,1)) -> - | I150: =IF(G150="","-",_xlfn.XLOOKUP($G150,'Base de données'!$B:$B,'Base de données'!$A:$A,"",0,-1)) -> - | J150: =IF(G150="","-",_xlfn.XLOOKUP($G150,'Base de données'!$B:$B,'Base de données'!$L:$L,"",0,1)) -> - | M150: =IF(L150="","-",_xlfn.XLOOKUP($L150,'Base de données'!$B:$B,SECRET!$X:$X,"",0,1)) -> - | N150: =IF(L150="","-",_xlfn.XLOOKUP($L150,'Base de données'!$B:$B,'Base de données'!$A:$A,"",0,1)) -> - | O150: =IF(L150="","-",_xlfn.XLOOKUP($L150,'Base de données'!$B:$B,'Base de données'!$A:$A,"",0,-1)) -> -
C151: =IF(B151="","-",_xlfn.XLOOKUP($B151,'Base de données'!$B:$B,SECRET!$X:$X,"",0,1)) -> - | D151: =IF(B151="","-",_xlfn.XLOOKUP($B151,'Base de données'!$B:$B,'Base de données'!$A:$A,"",0,1)) -> - | E151: =IF(B151="","-",_xlfn.XLOOKUP($B151,'Base de données'!$B:$B,'Base de données'!$L:$L,"",0,1)) -> - | H151: =IF(G151="","-",_xlfn.XLOOKUP($G151,'Base de données'!$B:$B,SECRET!$X:$X,"",0,1)) -> - | I151: =IF(G151="","-",_xlfn.XLOOKUP($G151,'Base de données'!$B:$B,'Base de données'!$A:$A,"",0,-1)) -> - | J151: =IF(G151="","-",_xlfn.XLOOKUP($G151,'Base de données'!$B:$B,'Base de données'!$L:$L,"",0,1)) -> - | M151: =IF(L151="","-",_xlfn.XLOOKUP($L151,'Base de données'!$B:$B,SECRET!$X:$X,"",0,1)) -> - | N151: =IF(L151="","-",_xlfn.XLOOKUP($L151,'Base de données'!$B:$B,'Base de données'!$A:$A,"",0,1)) -> - | O151: =IF(L151="","-",_xlfn.XLOOKUP($L151,'Base de données'!$B:$B,'Base de données'!$A:$A,"",0,-1)) -> -
C152: =IF(B152="","-",_xlfn.XLOOKUP($B152,'Base de données'!$B:$B,SECRET!$X:$X,"",0,1)) -> - | D152: =IF(B152="","-",_xlfn.XLOOKUP($B152,'Base de données'!$B:$B,'Base de données'!$A:$A,"",0,1)) -> - | E152: =IF(B152="","-",_xlfn.XLOOKUP($B152,'Base de données'!$B:$B,'Base de données'!$L:$L,"",0,1)) -> - | H152: =IF(G152="","-",_xlfn.XLOOKUP($G152,'Base de données'!$B:$B,SECRET!$X:$X,"",0,1)) -> - | I152: =IF(G152="","-",_xlfn.XLOOKUP($G152,'Base de données'!$B:$B,'Base de données'!$A:$A,"",0,-1)) -> - | J152: =IF(G152="","-",_xlfn.XLOOKUP($G152,'Base de données'!$B:$B,'Base de données'!$L:$L,"",0,1)) -> - | M152: =IF(L152="","-",_xlfn.XLOOKUP($L152,'Base de données'!$B:$B,SECRET!$X:$X,"",0,1)) -> - | N152: =IF(L152="","-",_xlfn.XLOOKUP($L152,'Base de données'!$B:$B,'Base de données'!$A:$A,"",0,1)) -> - | O152: =IF(L152="","-",_xlfn.XLOOKUP($L152,'Base de données'!$B:$B,'Base de données'!$A:$A,"",0,-1)) -> -
C153: =IF(B153="","-",_xlfn.XLOOKUP($B153,'Base de données'!$B:$B,SECRET!$X:$X,"",0,1)) -> - | D153: =IF(B153="","-",_xlfn.XLOOKUP($B153,'Base de données'!$B:$B,'Base de données'!$A:$A,"",0,1)) -> - | E153: =IF(B153="","-",_xlfn.XLOOKUP($B153,'Base de données'!$B:$B,'Base de données'!$L:$L,"",0,1)) -> - | H153: =IF(G153="","-",_xlfn.XLOOKUP($G153,'Base de données'!$B:$B,SECRET!$X:$X,"",0,1)) -> - | I153: =IF(G153="","-",_xlfn.XLOOKUP($G153,'Base de données'!$B:$B,'Base de données'!$A:$A,"",0,-1)) -> - | J153: =IF(G153="","-",_xlfn.XLOOKUP($G153,'Base de données'!$B:$B,'Base de données'!$L:$L,"",0,1)) -> - | M153: =IF(L153="","-",_xlfn.XLOOKUP($L153,'Base de données'!$B:$B,SECRET!$X:$X,"",0,1)) -> - | N153: =IF(L153="","-",_xlfn.XLOOKUP($L153,'Base de données'!$B:$B,'Base de données'!$A:$A,"",0,1)) -> - | O153: =IF(L153="","-",_xlfn.XLOOKUP($L153,'Base de données'!$B:$B,'Base de données'!$A:$A,"",0,-1)) -> -
C154: =IF(B154="","-",_xlfn.XLOOKUP($B154,'Base de données'!$B:$B,SECRET!$X:$X,"",0,1)) -> - | D154: =IF(B154="","-",_xlfn.XLOOKUP($B154,'Base de données'!$B:$B,'Base de données'!$A:$A,"",0,1)) -> - | E154: =IF(B154="","-",_xlfn.XLOOKUP($B154,'Base de données'!$B:$B,'Base de données'!$L:$L,"",0,1)) -> - | H154: =IF(G154="","-",_xlfn.XLOOKUP($G154,'Base de données'!$B:$B,SECRET!$X:$X,"",0,1)) -> - | I154: =IF(G154="","-",_xlfn.XLOOKUP($G154,'Base de données'!$B:$B,'Base de données'!$A:$A,"",0,-1)) -> - | J154: =IF(G154="","-",_xlfn.XLOOKUP($G154,'Base de données'!$B:$B,'Base de données'!$L:$L,"",0,1)) -> - | M154: =IF(L154="","-",_xlfn.XLOOKUP($L154,'Base de données'!$B:$B,SECRET!$X:$X,"",0,1)) -> - | N154: =IF(L154="","-",_xlfn.XLOOKUP($L154,'Base de données'!$B:$B,'Base de données'!$A:$A,"",0,1)) -> - | O154: =IF(L154="","-",_xlfn.XLOOKUP($L154,'Base de données'!$B:$B,'Base de données'!$A:$A,"",0,-1)) -> -
... C200: =IF(B200="","-",_xlfn.XLOOKUP($B200,'Base de données'!$B:$B,SECRET!$X:$X,"",0,1)) -> - | D200: =IF(B200="","-",_xlfn.XLOOKUP($B200,'Base de données'!$B:$B,'Base de données'!$A:$A,"",0,1)) -> - | E200: =IF(B200="","-",_xlfn.XLOOKUP($B200,'Base de données'!$B:$B,'Base de données'!$L:$L,"",0,1)) -> - | H200: =IF(G200="","-",_xlfn.XLOOKUP($G200,'Base de données'!$B:$B,SECRET!$X:$X,"",0,1)) -> - | I200: =IF(G200="","-",_xlfn.XLOOKUP($G200,'Base de données'!$B:$B,'Base de données'!$A:$A,"",0,-1)) -> - | J200: =IF(G200="","-",_xlfn.XLOOKUP($G200,'Base de données'!$B:$B,'Base de données'!$L:$L,"",0,1)) -> - | M200: =IF(L200="","-",_xlfn.XLOOKUP($L200,'Base de données'!$B:$B,SECRET!$X:$X,"",0,1)) -> - | N200: =IF(L200="","-",_xlfn.XLOOKUP($L200,'Base de données'!$B:$B,'Base de données'!$A:$A,"",0,1)) -> - | O200: =IF(L200="","-",_xlfn.XLOOKUP($L200,'Base de données'!$B:$B,'Base de données'!$A:$A,"",0,-1)) -> -

Sheet SECRET
A1: Entrée et sortie ? | B1: Qui est sortie ? | C1: check sortie (n'2) | D1: check sortie (n'1) | E1: Qui est entré ? | F1: Sortie en cours d'année ? | G1: Présent le dernier mois ? | H1: Entrée en cours d'année ? | I1: Présent le premier mois ? | J1: Mouvement durant l'année ? | K1: 45658 | L1: 45689 | M1: 45717 | N1: 45748 | O1: 45778 | P1: 45809 | Q1: 45839 | R1: 45870 | S1: 45901 | T1: 45931 | U1: 45962 | V1: 45992 | X1: Nom Prénom | Y1: Nb de mois présent | AA1: {=INDIRECT("'Base de données'!A" & ROW(Y1))} -> Mois extraction | AB1: {=INDIRECT("'Base de données'!B" & ROW(Z1))} -> Matricule | AD1: (max) | AE1: =MAX(AE3:AE16) -> 45992
A2: =IF(IF(AND($B2<>"-",$B2=$E2),"Entrée et sortie","-")="Entrée et sortie",'Base de données'!$B2,"-") -> - | B2: =_xlfn.XLOOKUP($AB2,$D:$D,$C:$C,"-",0,-1) -> - | C2: =IF($AA2<>$AE$1,$D2,"-") -> - | D2: =IF($F2="sortie en cours d'année",'Base de données'!$B2,"-") -> - | E2: =IF($H2="entrée en cours d'année",'Base de données'!$B2,"-") -> - | F2: =IF(AND(G2=0,J2="mouvement"),"sortie en cours d'année","") | G2: =IF($J2="mouvement",_xlfn.XLOOKUP('Base de données'!$B2,$V:$V,$V:$V,0),"") | H2: =IF(AND(I2=0,J2="mouvement"),"entrée en cours d'année","") | I2: =IF($J2="mouvement",_xlfn.XLOOKUP('Base de données'!$B2,$K:$K,$K:$K,0),"") | J2: =IF(AND(Y2<>MAX(Y:Y),COUNTIF(K2:V2,'Base de données'!$B2)>0),"mouvement","") | K2: =IF(K$1>$AE$1,"-",IFERROR(IF(DATEDIF('Base de données'!$A2,K$1,"d")<>0,"",'Base de données'!$B2),"")) -> GPNP7 | L2: =IF(L$1>$AE$1,"-",IFERROR(IF(DATEDIF('Base de données'!$A2,L$1,"d")<>0,"",'Base de données'!$B2),"")) | M2: =IF(M$1>$AE$1,"-",IFERROR(IF(DATEDIF('Base de données'!$A2,M$1,"d")<>0,"",'Base de données'!$B2),"")) | N2: =IF(N$1>$AE$1,"-",IFERROR(IF(DATEDIF('Base de données'!$A2,N$1,"d")<>0,"",'Base de données'!$B2),"")) | O2: =IF(O$1>$AE$1,"-",IFERROR(IF(DATEDIF('Base de données'!$A2,O$1,"d")<>0,"",'Base de données'!$B2),"")) | P2: =IF(P$1>$AE$1,"-",IFERROR(IF(DATEDIF('Base de données'!$A2,P$1,"d")<>0,"",'Base de données'!$B2),"")) | Q2: =IF(Q$1>$AE$1,"-",IFERROR(IF(DATEDIF('Base de données'!$A2,Q$1,"d")<>0,"",'Base de données'!$B2),"")) | R2: =IF(R$1>$AE$1,"-",IFERROR(IF(DATEDIF('Base de données'!$A2,R$1,"d")<>0,"",'Base de données'!$B2),"")) | ... V2: =IF(V$1>$AE$1,"-",IFERROR(IF(DATEDIF('Base de données'!$A2,V$1,"d")<>0,"",'Base de données'!$B2),"")) | X2: ='Base de données'!$C2&" "&'Base de données'!$D2 -> Perret Agnès | Y2: =COUNTIF('Base de données'!$B:$B,'Base de données'!$B2) -> 12 | AA2: {=INDIRECT("'Base de données'!A" & ROW(Y2))} -> 45658 | AB2: {=INDIRECT("'Base de données'!B" & ROW(Z2))} -> GPNP7
A3: =IF(IF(AND($B3<>"-",$B3=$E3),"Entrée et sortie","-")="Entrée et sortie",'Base de données'!$B3,"-") -> - | B3: =_xlfn.XLOOKUP($AB3,$D:$D,$C:$C,"-",0,-1) -> - | C3: =IF($AA3<>$AE$1,$D3,"-") -> - | D3: =IF($F3="sortie en cours d'année",'Base de données'!$B3,"-") -> - | E3: =IF($H3="entrée en cours d'année",'Base de données'!$B3,"-") -> - | F3: =IF(AND(G3=0,J3="mouvement"),"sortie en cours d'année","") | G3: =IF($J3="mouvement",_xlfn.XLOOKUP('Base de données'!$B3,$V:$V,$V:$V,0),"") | H3: =IF(AND(I3=0,J3="mouvement"),"entrée en cours d'année","") | I3: =IF($J3="mouvement",_xlfn.XLOOKUP('Base de données'!$B3,$K:$K,$K:$K,0),"") | J3: =IF(AND(Y3<>MAX(Y:Y),COUNTIF(K3:V3,'Base de données'!$B3)>0),"mouvement","") | K3: =IF(K$1>$AE$1,"-",IFERROR(IF(DATEDIF('Base de données'!$A3,K$1,"d")<>0,"",'Base de données'!$B3),"")) -> DKKLE | L3: =IF(L$1>$AE$1,"-",IFERROR(IF(DATEDIF('Base de données'!$A3,L$1,"d")<>0,"",'Base de données'!$B3),"")) | M3: =IF(M$1>$AE$1,"-",IFERROR(IF(DATEDIF('Base de données'!$A3,M$1,"d")<>0,"",'Base de données'!$B3),"")) | N3: =IF(N$1>$AE$1,"-",IFERROR(IF(DATEDIF('Base de données'!$A3,N$1,"d")<>0,"",'Base de données'!$B3),"")) | O3: =IF(O$1>$AE$1,"-",IFERROR(IF(DATEDIF('Base de données'!$A3,O$1,"d")<>0,"",'Base de données'!$B3),"")) | P3: =IF(P$1>$AE$1,"-",IFERROR(IF(DATEDIF('Base de données'!$A3,P$1,"d")<>0,"",'Base de données'!$B3),"")) | Q3: =IF(Q$1>$AE$1,"-",IFERROR(IF(DATEDIF('Base de données'!$A3,Q$1,"d")<>0,"",'Base de données'!$B3),"")) | R3: =IF(R$1>$AE$1,"-",IFERROR(IF(DATEDIF('Base de données'!$A3,R$1,"d")<>0,"",'Base de données'!$B3),"")) | ... V3: =IF(V$1>$AE$1,"-",IFERROR(IF(DATEDIF('Base de données'!$A3,V$1,"d")<>0,"",'Base de données'!$B3),"")) | X3: ='Base de données'!$C3&" "&'Base de données'!$D3 -> Baron Danielle | Y3: =COUNTIF('Base de données'!$B:$B,'Base de données'!$B3) -> 12 | AA3: {=INDIRECT("'Base de données'!A" & ROW(Y3))} -> 45658 | AB3: {=INDIRECT("'Base de données'!B" & ROW(Z3))} -> DKKLE | AD3: {=_xlfn.UNIQUE('Base de données'!A:A)} -> Mois extraction
A4: =IF(IF(AND($B4<>"-",$B4=$E4),"Entrée et sortie","-")="Entrée et sortie",'Base de données'!$B4,"-") -> - | B4: =_xlfn.XLOOKUP($AB4,$D:$D,$C:$C,"-",0,-1) -> - | C4: =IF($AA4<>$AE$1,$D4,"-") -> - | D4: =IF($F4="sortie en cours d'année",'Base de données'!$B4,"-") -> - | E4: =IF($H4="entrée en cours d'année",'Base de données'!$B4,"-") -> - | F4: =IF(AND(G4=0,J4="mouvement"),"sortie en cours d'année","") | G4: =IF($J4="mouvement",_xlfn.XLOOKUP('Base de données'!$B4,$V:$V,$V:$V,0),"") | H4: =IF(AND(I4=0,J4="mouvement"),"entrée en cours d'année","") | I4: =IF($J4="mouvement",_xlfn.XLOOKUP('Base de données'!$B4,$K:$K,$K:$K,0),"") | J4: =IF(AND(Y4<>MAX(Y:Y),COUNTIF(K4:V4,'Base de données'!$B4)>0),"mouvement","") | K4: =IF(K$1>$AE$1,"-",IFERROR(IF(DATEDIF('Base de données'!$A4,K$1,"d")<>0,"",'Base de données'!$B4),"")) -> X43EK | L4: =IF(L$1>$AE$1,"-",IFERROR(IF(DATEDIF('Base de données'!$A4,L$1,"d")<>0,"",'Base de données'!$B4),"")) | M4: =IF(M$1>$AE$1,"-",IFERROR(IF(DATEDIF('Base de données'!$A4,M$1,"d")<>0,"",'Base de données'!$B4),"")) | N4: =IF(N$1>$AE$1,"-",IFERROR(IF(DATEDIF('Base de données'!$A4,N$1,"d")<>0,"",'Base de données'!$B4),"")) | O4: =IF(O$1>$AE$1,"-",IFERROR(IF(DATEDIF('Base de données'!$A4,O$1,"d")<>0,"",'Base de données'!$B4),"")) | P4: =IF(P$1>$AE$1,"-",IFERROR(IF(DATEDIF('Base de données'!$A4,P$1,"d")<>0,"",'Base de données'!$B4),"")) | Q4: =IF(Q$1>$AE$1,"-",IFERROR(IF(DATEDIF('Base de données'!$A4,Q$1,"d")<>0,"",'Base de données'!$B4),"")) | R4: =IF(R$1>$AE$1,"-",IFERROR(IF(DATEDIF('Base de données'!$A4,R$1,"d")<>0,"",'Base de données'!$B4),"")) | ... V4: =IF(V$1>$AE$1,"-",IFERROR(IF(DATEDIF('Base de données'!$A4,V$1,"d")<>0,"",'Base de données'!$B4),"")) | X4: ='Base de données'!$C4&" "&'Base de données'!$D4 -> Aubry Georges | Y4: =COUNTIF('Base de données'!$B:$B,'Base de données'!$B4) -> 12 | AA4: {=INDIRECT("'Base de données'!A" & ROW(Y4))} -> 45658 | AB4: {=INDIRECT("'Base de données'!B" & ROW(Z4))} -> X43EK | AD4: 45658 | AE4: =IF(AD4>1900,AD4,"") -> 45658
A5: =IF(IF(AND($B5<>"-",$B5=$E5),"Entrée et sortie","-")="Entrée et sortie",'Base de données'!$B5,"-") -> - | B5: =_xlfn.XLOOKUP($AB5,$D:$D,$C:$C,"-",0,-1) -> - | C5: =IF($AA5<>$AE$1,$D5,"-") -> - | D5: =IF($F5="sortie en cours d'année",'Base de données'!$B5,"-") -> - | E5: =IF($H5="entrée en cours d'année",'Base de données'!$B5,"-") -> - | F5: =IF(AND(G5=0,J5="mouvement"),"sortie en cours d'année","") | G5: =IF($J5="mouvement",_xlfn.XLOOKUP('Base de données'!$B5,$V:$V,$V:$V,0),"") | H5: =IF(AND(I5=0,J5="mouvement"),"entrée en cours d'année","") | I5: =IF($J5="mouvement",_xlfn.XLOOKUP('Base de données'!$B5,$K:$K,$K:$K,0),"") | J5: =IF(AND(Y5<>MAX(Y:Y),COUNTIF(K5:V5,'Base de données'!$B5)>0),"mouvement","") | K5: =IF(K$1>$AE$1,"-",IFERROR(IF(DATEDIF('Base de données'!$A5,K$1,"d")<>0,"",'Base de données'!$B5),"")) -> IDCZB | L5: =IF(L$1>$AE$1,"-",IFERROR(IF(DATEDIF('Base de données'!$A5,L$1,"d")<>0,"",'Base de données'!$B5),"")) | M5: =IF(M$1>$AE$1,"-",IFERROR(IF(DATEDIF('Base de données'!$A5,M$1,"d")<>0,"",'Base de données'!$B5),"")) | N5: =IF(N$1>$AE$1,"-",IFERROR(IF(DATEDIF('Base de données'!$A5,N$1,"d")<>0,"",'Base de données'!$B5),"")) | O5: =IF(O$1>$AE$1,"-",IFERROR(IF(DATEDIF('Base de données'!$A5,O$1,"d")<>0,"",'Base de données'!$B5),"")) | P5: =IF(P$1>$AE$1,"-",IFERROR(IF(DATEDIF('Base de données'!$A5,P$1,"d")<>0,"",'Base de données'!$B5),"")) | Q5: =IF(Q$1>$AE$1,"-",IFERROR(IF(DATEDIF('Base de données'!$A5,Q$1,"d")<>0,"",'Base de données'!$B5),"")) | R5: =IF(R$1>$AE$1,"-",IFERROR(IF(DATEDIF('Base de données'!$A5,R$1,"d")<>0,"",'Base de données'!$B5),"")) | ... V5: =IF(V$1>$AE$1,"-",IFERROR(IF(DATEDIF('Base de données'!$A5,V$1,"d")<>0,"",'Base de données'!$B5),"")) | X5: ='Base de données'!$C5&" "&'Base de données'!$D5 -> Pages Emmanuel | Y5: =COUNTIF('Base de données'!$B:$B,'Base de données'!$B5) -> 12 | AA5: {=INDIRECT("'Base de données'!A" & ROW(Y5))} -> 45658 | AB5: {=INDIRECT("'Base de données'!B" & ROW(Z5))} -> IDCZB | AD5: 45689 | AE5: =IF(AD5>1900,AD5,"") -> 45689
A6: =IF(IF(AND($B6<>"-",$B6=$E6),"Entrée et sortie","-")="Entrée et sortie",'Base de données'!$B6,"-") -> - | B6: =_xlfn.XLOOKUP($AB6,$D:$D,$C:$C,"-",0,-1) -> - | C6: =IF($AA6<>$AE$1,$D6,"-") -> - | D6: =IF($F6="sortie en cours d'année",'Base de données'!$B6,"-") -> - | E6: =IF($H6="entrée en cours d'année",'Base de données'!$B6,"-") -> - | F6: =IF(AND(G6=0,J6="mouvement"),"sortie en cours d'année","") | G6: =IF($J6="mouvement",_xlfn.XLOOKUP('Base de données'!$B6,$V:$V,$V:$V,0),"") | H6: =IF(AND(I6=0,J6="mouvement"),"entrée en cours d'année","") | I6: =IF($J6="mouvement",_xlfn.XLOOKUP('Base de données'!$B6,$K:$K,$K:$K,0),"") | J6: =IF(AND(Y6<>MAX(Y:Y),COUNTIF(K6:V6,'Base de données'!$B6)>0),"mouvement","") | K6: =IF(K$1>$AE$1,"-",IFERROR(IF(DATEDIF('Base de données'!$A6,K$1,"d")<>0,"",'Base de données'!$B6),"")) -> WVLRU | L6: =IF(L$1>$AE$1,"-",IFERROR(IF(DATEDIF('Base de données'!$A6,L$1,"d")<>0,"",'Base de données'!$B6),"")) | M6: =IF(M$1>$AE$1,"-",IFERROR(IF(DATEDIF('Base de données'!$A6,M$1,"d")<>0,"",'Base de données'!$B6),"")) | N6: =IF(N$1>$AE$1,"-",IFERROR(IF(DATEDIF('Base de données'!$A6,N$1,"d")<>0,"",'Base de données'!$B6),"")) | O6: =IF(O$1>$AE$1,"-",IFERROR(IF(DATEDIF('Base de données'!$A6,O$1,"d")<>0,"",'Base de données'!$B6),"")) | P6: =IF(P$1>$AE$1,"-",IFERROR(IF(DATEDIF('Base de données'!$A6,P$1,"d")<>0,"",'Base de données'!$B6),"")) | Q6: =IF(Q$1>$AE$1,"-",IFERROR(IF(DATEDIF('Base de données'!$A6,Q$1,"d")<>0,"",'Base de données'!$B6),"")) | R6: =IF(R$1>$AE$1,"-",IFERROR(IF(DATEDIF('Base de données'!$A6,R$1,"d")<>0,"",'Base de données'!$B6),"")) | ... V6: =IF(V$1>$AE$1,"-",IFERROR(IF(DATEDIF('Base de données'!$A6,V$1,"d")<>0,"",'Base de données'!$B6),"")) | X6: ='Base de données'!$C6&" "&'Base de données'!$D6 -> Brunet Charles | Y6: =COUNTIF('Base de données'!$B:$B,'Base de données'!$B6) -> 12 | AA6: {=INDIRECT("'Base de données'!A" & ROW(Y6))} -> 45658 | AB6: {=INDIRECT("'Base de données'!B" & ROW(Z6))} -> WVLRU | AD6: 45717 | AE6: =IF(AD6>1900,AD6,"") -> 45717
A7: =IF(IF(AND($B7<>"-",$B7=$E7),"Entrée et sortie","-")="Entrée et sortie",'Base de données'!$B7,"-") -> - | B7: =_xlfn.XLOOKUP($AB7,$D:$D,$C:$C,"-",0,-1) -> I3SPC | C7: =IF($AA7<>$AE$1,$D7,"-") -> I3SPC | D7: =IF($F7="sortie en cours d'année",'Base de données'!$B7,"-") -> I3SPC | E7: =IF($H7="entrée en cours d'année",'Base de données'!$B7,"-") -> - | F7: =IF(AND(G7=0,J7="mouvement"),"sortie en cours d'année","") -> sortie en cours d'année | G7: =IF($J7="mouvement",_xlfn.XLOOKUP('Base de données'!$B7,$V:$V,$V:$V,0),"") -> 0 | H7: =IF(AND(I7=0,J7="mouvement"),"entrée en cours d'année","") | I7: =IF($J7="mouvement",_xlfn.XLOOKUP('Base de données'!$B7,$K:$K,$K:$K,0),"") -> I3SPC | J7: =IF(AND(Y7<>MAX(Y:Y),COUNTIF(K7:V7,'Base de données'!$B7)>0),"mouvement","") -> mouvement | K7: =IF(K$1>$AE$1,"-",IFERROR(IF(DATEDIF('Base de données'!$A7,K$1,"d")<>0,"",'Base de données'!$B7),"")) -> I3SPC | L7: =IF(L$1>$AE$1,"-",IFERROR(IF(DATEDIF('Base de données'!$A7,L$1,"d")<>0,"",'Base de données'!$B7),"")) | M7: =IF(M$1>$AE$1,"-",IFERROR(IF(DATEDIF('Base de données'!$A7,M$1,"d")<>0,"",'Base de données'!$B7),"")) | N7: =IF(N$1>$AE$1,"-",IFERROR(IF(DATEDIF('Base de données'!$A7,N$1,"d")<>0,"",'Base de données'!$B7),"")) | O7: =IF(O$1>$AE$1,"-",IFERROR(IF(DATEDIF('Base de données'!$A7,O$1,"d")<>0,"",'Base de données'!$B7),"")) | P7: =IF(P$1>$AE$1,"-",IFERROR(IF(DATEDIF('Base de données'!$A7,P$1,"d")<>0,"",'Base de données'!$B7),"")) | Q7: =IF(Q$1>$AE$1,"-",IFERROR(IF(DATEDIF('Base de données'!$A7,Q$1,"d")<>0,"",'Base de données'!$B7),"")) | R7: =IF(R$1>$AE$1,"-",IFERROR(IF(DATEDIF('Base de données'!$A7,R$1,"d")<>0,"",'Base de données'!$B7),"")) | ... V7: =IF(V$1>$AE$1,"-",IFERROR(IF(DATEDIF('Base de données'!$A7,V$1,"d")<>0,"",'Base de données'!$B7),"")) | X7: ='Base de données'!$C7&" "&'Base de données'!$D7 -> Boulanger Martine | Y7: =COUNTIF('Base de données'!$B:$B,'Base de données'!$B7) -> 5 | AA7: {=INDIRECT("'Base de données'!A" & ROW(Y7))} -> 45658 | AB7: {=INDIRECT("'Base de données'!B" & ROW(Z7))} -> I3SPC | AD7: 45748 | AE7: =IF(AD7>1900,AD7,"") -> 45748
A8: =IF(IF(AND($B8<>"-",$B8=$E8),"Entrée et sortie","-")="Entrée et sortie",'Base de données'!$B8,"-") -> - | B8: =_xlfn.XLOOKUP($AB8,$D:$D,$C:$C,"-",0,-1) -> - | C8: =IF($AA8<>$AE$1,$D8,"-") -> - | D8: =IF($F8="sortie en cours d'année",'Base de données'!$B8,"-") -> - | E8: =IF($H8="entrée en cours d'année",'Base de données'!$B8,"-") -> - | F8: =IF(AND(G8=0,J8="mouvement"),"sortie en cours d'année","") | G8: =IF($J8="mouvement",_xlfn.XLOOKUP('Base de données'!$B8,$V:$V,$V:$V,0),"") | H8: =IF(AND(I8=0,J8="mouvement"),"entrée en cours d'année","") | I8: =IF($J8="mouvement",_xlfn.XLOOKUP('Base de données'!$B8,$K:$K,$K:$K,0),"") | J8: =IF(AND(Y8<>MAX(Y:Y),COUNTIF(K8:V8,'Base de données'!$B8)>0),"mouvement","") | K8: =IF(K$1>$AE$1,"-",IFERROR(IF(DATEDIF('Base de données'!$A8,K$1,"d")<>0,"",'Base de données'!$B8),"")) -> H1WN8 | L8: =IF(L$1>$AE$1,"-",IFERROR(IF(DATEDIF('Base de données'!$A8,L$1,"d")<>0,"",'Base de données'!$B8),"")) | M8: =IF(M$1>$AE$1,"-",IFERROR(IF(DATEDIF('Base de données'!$A8,M$1,"d")<>0,"",'Base de données'!$B8),"")) | N8: =IF(N$1>$AE$1,"-",IFERROR(IF(DATEDIF('Base de données'!$A8,N$1,"d")<>0,"",'Base de données'!$B8),"")) | O8: =IF(O$1>$AE$1,"-",IFERROR(IF(DATEDIF('Base de données'!$A8,O$1,"d")<>0,"",'Base de données'!$B8),"")) | P8: =IF(P$1>$AE$1,"-",IFERROR(IF(DATEDIF('Base de données'!$A8,P$1,"d")<>0,"",'Base de données'!$B8),"")) | Q8: =IF(Q$1>$AE$1,"-",IFERROR(IF(DATEDIF('Base de données'!$A8,Q$1,"d")<>0,"",'Base de données'!$B8),"")) | R8: =IF(R$1>$AE$1,"-",IFERROR(IF(DATEDIF('Base de données'!$A8,R$1,"d")<>0,"",'Base de données'!$B8),"")) | ... V8: =IF(V$1>$AE$1,"-",IFERROR(IF(DATEDIF('Base de données'!$A8,V$1,"d")<>0,"",'Base de données'!$B8),"")) | X8: ='Base de données'!$C8&" "&'Base de données'!$D8 -> Colas Claudine | Y8: =COUNTIF('Base de données'!$B:$B,'Base de données'!$B8) -> 12 | AA8: {=INDIRECT("'Base de données'!A" & ROW(Y8))} -> 45658 | AB8: {=INDIRECT("'Base de données'!B" & ROW(Z8))} -> H1WN8 | AD8: 45778 | AE8: =IF(AD8>1900,AD8,"") -> 45778
A9: =IF(IF(AND($B9<>"-",$B9=$E9),"Entrée et sortie","-")="Entrée et sortie",'Base de données'!$B9,"-") -> - | B9: =_xlfn.XLOOKUP($AB9,$D:$D,$C:$C,"-",0,-1) -> - | C9: =IF($AA9<>$AE$1,$D9,"-") -> - | D9: =IF($F9="sortie en cours d'année",'Base de données'!$B9,"-") -> - | E9: =IF($H9="entrée en cours d'année",'Base de données'!$B9,"-") -> - | F9: =IF(AND(G9=0,J9="mouvement"),"sortie en cours d'année","") | G9: =IF($J9="mouvement",_xlfn.XLOOKUP('Base de données'!$B9,$V:$V,$V:$V,0),"") | H9: =IF(AND(I9=0,J9="mouvement"),"entrée en cours d'année","") | I9: =IF($J9="mouvement",_xlfn.XLOOKUP('Base de données'!$B9,$K:$K,$K:$K,0),"") | J9: =IF(AND(Y9<>MAX(Y:Y),COUNTIF(K9:V9,'Base de données'!$B9)>0),"mouvement","") | K9: =IF(K$1>$AE$1,"-",IFERROR(IF(DATEDIF('Base de données'!$A9,K$1,"d")<>0,"",'Base de données'!$B9),"")) -> 61344 | L9: =IF(L$1>$AE$1,"-",IFERROR(IF(DATEDIF('Base de données'!$A9,L$1,"d")<>0,"",'Base de données'!$B9),"")) | M9: =IF(M$1>$AE$1,"-",IFERROR(IF(DATEDIF('Base de données'!$A9,M$1,"d")<>0,"",'Base de données'!$B9),"")) | N9: =IF(N$1>$AE$1,"-",IFERROR(IF(DATEDIF('Base de données'!$A9,N$1,"d")<>0,"",'Base de données'!$B9),"")) | O9: =IF(O$1>$AE$1,"-",IFERROR(IF(DATEDIF('Base de données'!$A9,O$1,"d")<>0,"",'Base de données'!$B9),"")) | P9: =IF(P$1>$AE$1,"-",IFERROR(IF(DATEDIF('Base de données'!$A9,P$1,"d")<>0,"",'Base de données'!$B9),"")) | Q9: =IF(Q$1>$AE$1,"-",IFERROR(IF(DATEDIF('Base de données'!$A9,Q$1,"d")<>0,"",'Base de données'!$B9),"")) | R9: =IF(R$1>$AE$1,"-",IFERROR(IF(DATEDIF('Base de données'!$A9,R$1,"d")<>0,"",'Base de données'!$B9),"")) | ... V9: =IF(V$1>$AE$1,"-",IFERROR(IF(DATEDIF('Base de données'!$A9,V$1,"d")<>0,"",'Base de données'!$B9),"")) | X9: ='Base de données'!$C9&" "&'Base de données'!$D9 -> De Oliveira Benoît | Y9: =COUNTIF('Base de données'!$B:$B,'Base de données'!$B9) -> 12 | AA9: {=INDIRECT("'Base de données'!A" & ROW(Y9))} -> 45658 | AB9: {=INDIRECT("'Base de données'!B" & ROW(Z9))} -> 61344 | AD9: 45809 | AE9: =IF(AD9>1900,AD9,"") -> 45809
A10: =IF(IF(AND($B10<>"-",$B10=$E10),"Entrée et sortie","-")="Entrée et sortie",'Base de données'!$B10,"-") -> - | B10: =_xlfn.XLOOKUP($AB10,$D:$D,$C:$C,"-",0,-1) -> JHHFN | C10: =IF($AA10<>$AE$1,$D10,"-") -> JHHFN | D10: =IF($F10="sortie en cours d'année",'Base de données'!$B10,"-") -> JHHFN | E10: =IF($H10="entrée en cours d'année",'Base de données'!$B10,"-") -> - | F10: =IF(AND(G10=0,J10="mouvement"),"sortie en cours d'année","") -> sortie en cours d'année | G10: =IF($J10="mouvement",_xlfn.XLOOKUP('Base de données'!$B10,$V:$V,$V:$V,0),"") -> 0 | H10: =IF(AND(I10=0,J10="mouvement"),"entrée en cours d'année","") | I10: =IF($J10="mouvement",_xlfn.XLOOKUP('Base de données'!$B10,$K:$K,$K:$K,0),"") -> JHHFN | J10: =IF(AND(Y10<>MAX(Y:Y),COUNTIF(K10:V10,'Base de données'!$B10)>0),"mouvement","") -> mouvement | K10: =IF(K$1>$AE$1,"-",IFERROR(IF(DATEDIF('Base de données'!$A10,K$1,"d")<>0,"",'Base de données'!$B10),"")) -> JHHFN | L10: =IF(L$1>$AE$1,"-",IFERROR(IF(DATEDIF('Base de données'!$A10,L$1,"d")<>0,"",'Base de données'!$B10),"")) | M10: =IF(M$1>$AE$1,"-",IFERROR(IF(DATEDIF('Base de données'!$A10,M$1,"d")<>0,"",'Base de données'!$B10),"")) | N10: =IF(N$1>$AE$1,"-",IFERROR(IF(DATEDIF('Base de données'!$A10,N$1,"d")<>0,"",'Base de données'!$B10),"")) | O10: =IF(O$1>$AE$1,"-",IFERROR(IF(DATEDIF('Base de données'!$A10,O$1,"d")<>0,"",'Base de données'!$B10),"")) | P10: =IF(P$1>$AE$1,"-",IFERROR(IF(DATEDIF('Base de données'!$A10,P$1,"d")<>0,"",'Base de données'!$B10),"")) | Q10: =IF(Q$1>$AE$1,"-",IFERROR(IF(DATEDIF('Base de données'!$A10,Q$1,"d")<>0,"",'Base de données'!$B10),"")) | R10: =IF(R$1>$AE$1,"-",IFERROR(IF(DATEDIF('Base de données'!$A10,R$1,"d")<>0,"",'Base de données'!$B10),"")) | ... V10: =IF(V$1>$AE$1,"-",IFERROR(IF(DATEDIF('Base de données'!$A10,V$1,"d")<>0,"",'Base de données'!$B10),"")) | X10: ='Base de données'!$C10&" "&'Base de données'!$D10 -> Pichon Rémy | Y10: =COUNTIF('Base de données'!$B:$B,'Base de données'!$B10) -> 1 | AA10: {=INDIRECT("'Base de données'!A" & ROW(Y10))} -> 45658 | AB10: {=INDIRECT("'Base de données'!B" & ROW(Z10))} -> JHHFN | AD10: 45839 | AE10: =IF(AD10>1900,AD10,"") -> 45839
A11: =IF(IF(AND($B11<>"-",$B11=$E11),"Entrée et sortie","-")="Entrée et sortie",'Base de données'!$B11,"-") -> - | B11: =_xlfn.XLOOKUP($AB11,$D:$D,$C:$C,"-",0,-1) -> - | C11: =IF($AA11<>$AE$1,$D11,"-") -> - | D11: =IF($F11="sortie en cours d'année",'Base de données'!$B11,"-") -> - | E11: =IF($H11="entrée en cours d'année",'Base de données'!$B11,"-") -> - | F11: =IF(AND(G11=0,J11="mouvement"),"sortie en cours d'année","") | G11: =IF($J11="mouvement",_xlfn.XLOOKUP('Base de données'!$B11,$V:$V,$V:$V,0),"") | H11: =IF(AND(I11=0,J11="mouvement"),"entrée en cours d'année","") | I11: =IF($J11="mouvement",_xlfn.XLOOKUP('Base de données'!$B11,$K:$K,$K:$K,0),"") | J11: =IF(AND(Y11<>MAX(Y:Y),COUNTIF(K11:V11,'Base de données'!$B11)>0),"mouvement","") | K11: =IF(K$1>$AE$1,"-",IFERROR(IF(DATEDIF('Base de données'!$A11,K$1,"d")<>0,"",'Base de données'!$B11),"")) -> 7SPGI | L11: =IF(L$1>$AE$1,"-",IFERROR(IF(DATEDIF('Base de données'!$A11,L$1,"d")<>0,"",'Base de données'!$B11),"")) | M11: =IF(M$1>$AE$1,"-",IFERROR(IF(DATEDIF('Base de données'!$A11,M$1,"d")<>0,"",'Base de données'!$B11),"")) | N11: =IF(N$1>$AE$1,"-",IFERROR(IF(DATEDIF('Base de données'!$A11,N$1,"d")<>0,"",'Base de données'!$B11),"")) | O11: =IF(O$1>$AE$1,"-",IFERROR(IF(DATEDIF('Base de données'!$A11,O$1,"d")<>0,"",'Base de données'!$B11),"")) | P11: =IF(P$1>$AE$1,"-",IFERROR(IF(DATEDIF('Base de données'!$A11,P$1,"d")<>0,"",'Base de données'!$B11),"")) | Q11: =IF(Q$1>$AE$1,"-",IFERROR(IF(DATEDIF('Base de données'!$A11,Q$1,"d")<>0,"",'Base de données'!$B11),"")) | R11: =IF(R$1>$AE$1,"-",IFERROR(IF(DATEDIF('Base de données'!$A11,R$1,"d")<>0,"",'Base de données'!$B11),"")) | ... V11: =IF(V$1>$AE$1,"-",IFERROR(IF(DATEDIF('Base de données'!$A11,V$1,"d")<>0,"",'Base de données'!$B11),"")) | X11: ='Base de données'!$C11&" "&'Base de données'!$D11 -> Rossi René | Y11: =COUNTIF('Base de données'!$B:$B,'Base de données'!$B11) -> 12 | AA11: {=INDIRECT("'Base de données'!A" & ROW(Y11))} -> 45658 | AB11: {=INDIRECT("'Base de données'!B" & ROW(Z11))} -> 7SPGI | AD11: 45870 | AE11: =IF(AD11>1900,AD11,"") -> 45870
A12: =IF(IF(AND($B12<>"-",$B12=$E12),"Entrée et sortie","-")="Entrée et sortie",'Base de données'!$B12,"-") -> - | B12: =_xlfn.XLOOKUP($AB12,$D:$D,$C:$C,"-",0,-1) -> - | C12: =IF($AA12<>$AE$1,$D12,"-") -> - | D12: =IF($F12="sortie en cours d'année",'Base de données'!$B12,"-") -> - | E12: =IF($H12="entrée en cours d'année",'Base de données'!$B12,"-") -> - | F12: =IF(AND(G12=0,J12="mouvement"),"sortie en cours d'année","") | G12: =IF($J12="mouvement",_xlfn.XLOOKUP('Base de données'!$B12,$V:$V,$V:$V,0),"") | H12: =IF(AND(I12=0,J12="mouvement"),"entrée en cours d'année","") | I12: =IF($J12="mouvement",_xlfn.XLOOKUP('Base de données'!$B12,$K:$K,$K:$K,0),"") | J12: =IF(AND(Y12<>MAX(Y:Y),COUNTIF(K12:V12,'Base de données'!$B12)>0),"mouvement","") | K12: =IF(K$1>$AE$1,"-",IFERROR(IF(DATEDIF('Base de données'!$A12,K$1,"d")<>0,"",'Base de données'!$B12),"")) -> E3HIK | L12: =IF(L$1>$AE$1,"-",IFERROR(IF(DATEDIF('Base de données'!$A12,L$1,"d")<>0,"",'Base de données'!$B12),"")) | M12: =IF(M$1>$AE$1,"-",IFERROR(IF(DATEDIF('Base de données'!$A12,M$1,"d")<>0,"",'Base de données'!$B12),"")) | N12: =IF(N$1>$AE$1,"-",IFERROR(IF(DATEDIF('Base de données'!$A12,N$1,"d")<>0,"",'Base de données'!$B12),"")) | O12: =IF(O$1>$AE$1,"-",IFERROR(IF(DATEDIF('Base de données'!$A12,O$1,"d")<>0,"",'Base de données'!$B12),"")) | P12: =IF(P$1>$AE$1,"-",IFERROR(IF(DATEDIF('Base de données'!$A12,P$1,"d")<>0,"",'Base de données'!$B12),"")) | Q12: =IF(Q$1>$AE$1,"-",IFERROR(IF(DATEDIF('Base de données'!$A12,Q$1,"d")<>0,"",'Base de données'!$B12),"")) | R12: =IF(R$1>$AE$1,"-",IFERROR(IF(DATEDIF('Base de données'!$A12,R$1,"d")<>0,"",'Base de données'!$B12),"")) | ... V12: =IF(V$1>$AE$1,"-",IFERROR(IF(DATEDIF('Base de données'!$A12,V$1,"d")<>0,"",'Base de données'!$B12),"")) | X12: ='Base de données'!$C12&" "&'Base de données'!$D12 -> Marin Éric | Y12: =COUNTIF('Base de données'!$B:$B,'Base de données'!$B12) -> 12 | AA12: {=INDIRECT("'Base de données'!A" & ROW(Y12))} -> 45658 | AB12: {=INDIRECT("'Base de données'!B" & ROW(Z12))} -> E3HIK | AD12: 45901 | AE12: =IF(AD12>1900,AD12,"") -> 45901
A13: =IF(IF(AND($B13<>"-",$B13=$E13),"Entrée et sortie","-")="Entrée et sortie",'Base de données'!$B13,"-") -> - | B13: =_xlfn.XLOOKUP($AB13,$D:$D,$C:$C,"-",0,-1) -> - | C13: =IF($AA13<>$AE$1,$D13,"-") -> - | D13: =IF($F13="sortie en cours d'année",'Base de données'!$B13,"-") -> - | E13: =IF($H13="entrée en cours d'année",'Base de données'!$B13,"-") -> - | F13: =IF(AND(G13=0,J13="mouvement"),"sortie en cours d'année","") | G13: =IF($J13="mouvement",_xlfn.XLOOKUP('Base de données'!$B13,$V:$V,$V:$V,0),"") | H13: =IF(AND(I13=0,J13="mouvement"),"entrée en cours d'année","") | I13: =IF($J13="mouvement",_xlfn.XLOOKUP('Base de données'!$B13,$K:$K,$K:$K,0),"") | J13: =IF(AND(Y13<>MAX(Y:Y),COUNTIF(K13:V13,'Base de données'!$B13)>0),"mouvement","") | K13: =IF(K$1>$AE$1,"-",IFERROR(IF(DATEDIF('Base de données'!$A13,K$1,"d")<>0,"",'Base de données'!$B13),"")) -> LPLFA | L13: =IF(L$1>$AE$1,"-",IFERROR(IF(DATEDIF('Base de données'!$A13,L$1,"d")<>0,"",'Base de données'!$B13),"")) | M13: =IF(M$1>$AE$1,"-",IFERROR(IF(DATEDIF('Base de données'!$A13,M$1,"d")<>0,"",'Base de données'!$B13),"")) | N13: =IF(N$1>$AE$1,"-",IFERROR(IF(DATEDIF('Base de données'!$A13,N$1,"d")<>0,"",'Base de données'!$B13),"")) | O13: =IF(O$1>$AE$1,"-",IFERROR(IF(DATEDIF('Base de données'!$A13,O$1,"d")<>0,"",'Base de données'!$B13),"")) | P13: =IF(P$1>$AE$1,"-",IFERROR(IF(DATEDIF('Base de données'!$A13,P$1,"d")<>0,"",'Base de données'!$B13),"")) | Q13: =IF(Q$1>$AE$1,"-",IFERROR(IF(DATEDIF('Base de données'!$A13,Q$1,"d")<>0,"",'Base de données'!$B13),"")) | R13: =IF(R$1>$AE$1,"-",IFERROR(IF(DATEDIF('Base de données'!$A13,R$1,"d")<>0,"",'Base de données'!$B13),"")) | ... V13: =IF(V$1>$AE$1,"-",IFERROR(IF(DATEDIF('Base de données'!$A13,V$1,"d")<>0,"",'Base de données'!$B13),"")) | X13: ='Base de données'!$C13&" "&'Base de données'!$D13 -> Étienne René | Y13: =COUNTIF('Base de données'!$B:$B,'Base de données'!$B13) -> 12 | AA13: {=INDIRECT("'Base de données'!A" & ROW(Y13))} -> 45658 | AB13: {=INDIRECT("'Base de données'!B" & ROW(Z13))} -> LPLFA | AD13: 45931 | AE13: =IF(AD13>1900,AD13,"") -> 45931
A14: =IF(IF(AND($B14<>"-",$B14=$E14),"Entrée et sortie","-")="Entrée et sortie",'Base de données'!$B14,"-") -> - | B14: =_xlfn.XLOOKUP($AB14,$D:$D,$C:$C,"-",0,-1) -> - | C14: =IF($AA14<>$AE$1,$D14,"-") -> - | D14: =IF($F14="sortie en cours d'année",'Base de données'!$B14,"-") -> - | E14: =IF($H14="entrée en cours d'année",'Base de données'!$B14,"-") -> - | F14: =IF(AND(G14=0,J14="mouvement"),"sortie en cours d'année","") | G14: =IF($J14="mouvement",_xlfn.XLOOKUP('Base de données'!$B14,$V:$V,$V:$V,0),"") | H14: =IF(AND(I14=0,J14="mouvement"),"entrée en cours d'année","") | I14: =IF($J14="mouvement",_xlfn.XLOOKUP('Base de données'!$B14,$K:$K,$K:$K,0),"") | J14: =IF(AND(Y14<>MAX(Y:Y),COUNTIF(K14:V14,'Base de données'!$B14)>0),"mouvement","") | K14: =IF(K$1>$AE$1,"-",IFERROR(IF(DATEDIF('Base de données'!$A14,K$1,"d")<>0,"",'Base de données'!$B14),"")) -> ZDPI3 | L14: =IF(L$1>$AE$1,"-",IFERROR(IF(DATEDIF('Base de données'!$A14,L$1,"d")<>0,"",'Base de données'!$B14),"")) | M14: =IF(M$1>$AE$1,"-",IFERROR(IF(DATEDIF('Base de données'!$A14,M$1,"d")<>0,"",'Base de données'!$B14),"")) | N14: =IF(N$1>$AE$1,"-",IFERROR(IF(DATEDIF('Base de données'!$A14,N$1,"d")<>0,"",'Base de données'!$B14),"")) | O14: =IF(O$1>$AE$1,"-",IFERROR(IF(DATEDIF('Base de données'!$A14,O$1,"d")<>0,"",'Base de données'!$B14),"")) | P14: =IF(P$1>$AE$1,"-",IFERROR(IF(DATEDIF('Base de données'!$A14,P$1,"d")<>0,"",'Base de données'!$B14),"")) | Q14: =IF(Q$1>$AE$1,"-",IFERROR(IF(DATEDIF('Base de données'!$A14,Q$1,"d")<>0,"",'Base de données'!$B14),"")) | R14: =IF(R$1>$AE$1,"-",IFERROR(IF(DATEDIF('Base de données'!$A14,R$1,"d")<>0,"",'Base de données'!$B14),"")) | ... V14: =IF(V$1>$AE$1,"-",IFERROR(IF(DATEDIF('Base de données'!$A14,V$1,"d")<>0,"",'Base de données'!$B14),"")) | X14: ='Base de données'!$C14&" "&'Base de données'!$D14 -> Martin Jeannine | Y14: =COUNTIF('Base de données'!$B:$B,'Base de données'!$B14) -> 12 | AA14: {=INDIRECT("'Base de données'!A" & ROW(Y14))} -> 45658 | AB14: {=INDIRECT("'Base de données'!B" & ROW(Z14))} -> ZDPI3 | AD14: 45962 | AE14: =IF(AD14>1900,AD14,"") -> 45962
A15: =IF(IF(AND($B15<>"-",$B15=$E15),"Entrée et sortie","-")="Entrée et sortie",'Base de données'!$B15,"-") -> - | B15: =_xlfn.XLOOKUP($AB15,$D:$D,$C:$C,"-",0,-1) -> - | C15: =IF($AA15<>$AE$1,$D15,"-") -> - | D15: =IF($F15="sortie en cours d'année",'Base de données'!$B15,"-") -> - | E15: =IF($H15="entrée en cours d'année",'Base de données'!$B15,"-") -> - | F15: =IF(AND(G15=0,J15="mouvement"),"sortie en cours d'année","") | G15: =IF($J15="mouvement",_xlfn.XLOOKUP('Base de données'!$B15,$V:$V,$V:$V,0),"") | H15: =IF(AND(I15=0,J15="mouvement"),"entrée en cours d'année","") | I15: =IF($J15="mouvement",_xlfn.XLOOKUP('Base de données'!$B15,$K:$K,$K:$K,0),"") | J15: =IF(AND(Y15<>MAX(Y:Y),COUNTIF(K15:V15,'Base de données'!$B15)>0),"mouvement","") | K15: =IF(K$1>$AE$1,"-",IFERROR(IF(DATEDIF('Base de données'!$A15,K$1,"d")<>0,"",'Base de données'!$B15),"")) -> 1N0T3 | L15: =IF(L$1>$AE$1,"-",IFERROR(IF(DATEDIF('Base de données'!$A15,L$1,"d")<>0,"",'Base de données'!$B15),"")) | M15: =IF(M$1>$AE$1,"-",IFERROR(IF(DATEDIF('Base de données'!$A15,M$1,"d")<>0,"",'Base de données'!$B15),"")) | N15: =IF(N$1>$AE$1,"-",IFERROR(IF(DATEDIF('Base de données'!$A15,N$1,"d")<>0,"",'Base de données'!$B15),"")) | O15: =IF(O$1>$AE$1,"-",IFERROR(IF(DATEDIF('Base de données'!$A15,O$1,"d")<>0,"",'Base de données'!$B15),"")) | P15: =IF(P$1>$AE$1,"-",IFERROR(IF(DATEDIF('Base de données'!$A15,P$1,"d")<>0,"",'Base de données'!$B15),"")) | Q15: =IF(Q$1>$AE$1,"-",IFERROR(IF(DATEDIF('Base de données'!$A15,Q$1,"d")<>0,"",'Base de données'!$B15),"")) | R15: =IF(R$1>$AE$1,"-",IFERROR(IF(DATEDIF('Base de données'!$A15,R$1,"d")<>0,"",'Base de données'!$B15),"")) | ... V15: =IF(V$1>$AE$1,"-",IFERROR(IF(DATEDIF('Base de données'!$A15,V$1,"d")<>0,"",'Base de données'!$B15),"")) | X15: ='Base de données'!$C15&" "&'Base de données'!$D15 -> Lenoir Benjamin | Y15: =COUNTIF('Base de données'!$B:$B,'Base de données'!$B15) -> 12 | AA15: {=INDIRECT("'Base de données'!A" & ROW(Y15))} -> 45658 | AB15: {=INDIRECT("'Base de données'!B" & ROW(Z15))} -> 1N0T3 | AD15: 45992 | AE15: =IF(AD15>1900,AD15,"") -> 45992
A16: =IF(IF(AND($B16<>"-",$B16=$E16),"Entrée et sortie","-")="Entrée et sortie",'Base de données'!$B16,"-") -> - | B16: =_xlfn.XLOOKUP($AB16,$D:$D,$C:$C,"-",0,-1) -> - | C16: =IF($AA16<>$AE$1,$D16,"-") -> - | D16: =IF($F16="sortie en cours d'année",'Base de données'!$B16,"-") -> - | E16: =IF($H16="entrée en cours d'année",'Base de données'!$B16,"-") -> - | F16: =IF(AND(G16=0,J16="mouvement"),"sortie en cours d'année","") | G16: =IF($J16="mouvement",_xlfn.XLOOKUP('Base de données'!$B16,$V:$V,$V:$V,0),"") | H16: =IF(AND(I16=0,J16="mouvement"),"entrée en cours d'année","") | I16: =IF($J16="mouvement",_xlfn.XLOOKUP('Base de données'!$B16,$K:$K,$K:$K,0),"") | J16: =IF(AND(Y16<>MAX(Y:Y),COUNTIF(K16:V16,'Base de données'!$B16)>0),"mouvement","") | K16: =IF(K$1>$AE$1,"-",IFERROR(IF(DATEDIF('Base de données'!$A16,K$1,"d")<>0,"",'Base de données'!$B16),"")) -> Y1YI7 | L16: =IF(L$1>$AE$1,"-",IFERROR(IF(DATEDIF('Base de données'!$A16,L$1,"d")<>0,"",'Base de données'!$B16),"")) | M16: =IF(M$1>$AE$1,"-",IFERROR(IF(DATEDIF('Base de données'!$A16,M$1,"d")<>0,"",'Base de données'!$B16),"")) | N16: =IF(N$1>$AE$1,"-",IFERROR(IF(DATEDIF('Base de données'!$A16,N$1,"d")<>0,"",'Base de données'!$B16),"")) | O16: =IF(O$1>$AE$1,"-",IFERROR(IF(DATEDIF('Base de données'!$A16,O$1,"d")<>0,"",'Base de données'!$B16),"")) | P16: =IF(P$1>$AE$1,"-",IFERROR(IF(DATEDIF('Base de données'!$A16,P$1,"d")<>0,"",'Base de données'!$B16),"")) | Q16: =IF(Q$1>$AE$1,"-",IFERROR(IF(DATEDIF('Base de données'!$A16,Q$1,"d")<>0,"",'Base de données'!$B16),"")) | R16: =IF(R$1>$AE$1,"-",IFERROR(IF(DATEDIF('Base de données'!$A16,R$1,"d")<>0,"",'Base de données'!$B16),"")) | ... V16: =IF(V$1>$AE$1,"-",IFERROR(IF(DATEDIF('Base de données'!$A16,V$1,"d")<>0,"",'Base de données'!$B16),"")) | X16: ='Base de données'!$C16&" "&'Base de données'!$D16 -> Roussel Monique | Y16: =COUNTIF('Base de données'!$B:$B,'Base de données'!$B16) -> 12 | AA16: {=INDIRECT("'Base de données'!A" & ROW(Y16))} -> 45658 | AB16: {=INDIRECT("'Base de données'!B" & ROW(Z16))} -> Y1YI7 | AD16: 0 | AE16: =IF(AD16>1900,AD16,"")
A17: =IF(IF(AND($B17<>"-",$B17=$E17),"Entrée et sortie","-")="Entrée et sortie",'Base de données'!$B17,"-") -> - | B17: =_xlfn.XLOOKUP($AB17,$D:$D,$C:$C,"-",0,-1) -> AQ2RR | C17: =IF($AA17<>$AE$1,$D17,"-") -> AQ2RR | D17: =IF($F17="sortie en cours d'année",'Base de données'!$B17,"-") -> AQ2RR | E17: =IF($H17="entrée en cours d'année",'Base de données'!$B17,"-") -> - | F17: =IF(AND(G17=0,J17="mouvement"),"sortie en cours d'année","") -> sortie en cours d'année | G17: =IF($J17="mouvement",_xlfn.XLOOKUP('Base de données'!$B17,$V:$V,$V:$V,0),"") -> 0 | H17: =IF(AND(I17=0,J17="mouvement"),"entrée en cours d'année","") | I17: =IF($J17="mouvement",_xlfn.XLOOKUP('Base de données'!$B17,$K:$K,$K:$K,0),"") -> AQ2RR | J17: =IF(AND(Y17<>MAX(Y:Y),COUNTIF(K17:V17,'Base de données'!$B17)>0),"mouvement","") -> mouvement | K17: =IF(K$1>$AE$1,"-",IFERROR(IF(DATEDIF('Base de données'!$A17,K$1,"d")<>0,"",'Base de données'!$B17),"")) -> AQ2RR | L17: =IF(L$1>$AE$1,"-",IFERROR(IF(DATEDIF('Base de données'!$A17,L$1,"d")<>0,"",'Base de données'!$B17),"")) | M17: =IF(M$1>$AE$1,"-",IFERROR(IF(DATEDIF('Base de données'!$A17,M$1,"d")<>0,"",'Base de données'!$B17),"")) | N17: =IF(N$1>$AE$1,"-",IFERROR(IF(DATEDIF('Base de données'!$A17,N$1,"d")<>0,"",'Base de données'!$B17),"")) | O17: =IF(O$1>$AE$1,"-",IFERROR(IF(DATEDIF('Base de données'!$A17,O$1,"d")<>0,"",'Base de données'!$B17),"")) | P17: =IF(P$1>$AE$1,"-",IFERROR(IF(DATEDIF('Base de données'!$A17,P$1,"d")<>0,"",'Base de données'!$B17),"")) | Q17: =IF(Q$1>$AE$1,"-",IFERROR(IF(DATEDIF('Base de données'!$A17,Q$1,"d")<>0,"",'Base de données'!$B17),"")) | R17: =IF(R$1>$AE$1,"-",IFERROR(IF(DATEDIF('Base de données'!$A17,R$1,"d")<>0,"",'Base de données'!$B17),"")) | ... V17: =IF(V$1>$AE$1,"-",IFERROR(IF(DATEDIF('Base de données'!$A17,V$1,"d")<>0,"",'Base de données'!$B17),"")) | X17: ='Base de données'!$C17&" "&'Base de données'!$D17 -> Antoine Noémi | Y17: =COUNTIF('Base de données'!$B:$B,'Base de données'!$B17) -> 10 | AA17: {=INDIRECT("'Base de données'!A" & ROW(Y17))} -> 45658 | AB17: {=INDIRECT("'Base de données'!B" & ROW(Z17))} -> AQ2RR
A18: =IF(IF(AND($B18<>"-",$B18=$E18),"Entrée et sortie","-")="Entrée et sortie",'Base de données'!$B18,"-") -> - | B18: =_xlfn.XLOOKUP($AB18,$D:$D,$C:$C,"-",0,-1) -> - | C18: =IF($AA18<>$AE$1,$D18,"-") -> - | D18: =IF($F18="sortie en cours d'année",'Base de données'!$B18,"-") -> - | E18: =IF($H18="entrée en cours d'année",'Base de données'!$B18,"-") -> - | F18: =IF(AND(G18=0,J18="mouvement"),"sortie en cours d'année","") | G18: =IF($J18="mouvement",_xlfn.XLOOKUP('Base de données'!$B18,$V:$V,$V:$V,0),"") | H18: =IF(AND(I18=0,J18="mouvement"),"entrée en cours d'année","") | I18: =IF($J18="mouvement",_xlfn.XLOOKUP('Base de données'!$B18,$K:$K,$K:$K,0),"") | J18: =IF(AND(Y18<>MAX(Y:Y),COUNTIF(K18:V18,'Base de données'!$B18)>0),"mouvement","") | K18: =IF(K$1>$AE$1,"-",IFERROR(IF(DATEDIF('Base de données'!$A18,K$1,"d")<>0,"",'Base de données'!$B18),"")) -> U3BKH | L18: =IF(L$1>$AE$1,"-",IFERROR(IF(DATEDIF('Base de données'!$A18,L$1,"d")<>0,"",'Base de données'!$B18),"")) | M18: =IF(M$1>$AE$1,"-",IFERROR(IF(DATEDIF('Base de données'!$A18,M$1,"d")<>0,"",'Base de données'!$B18),"")) | N18: =IF(N$1>$AE$1,"-",IFERROR(IF(DATEDIF('Base de données'!$A18,N$1,"d")<>0,"",'Base de données'!$B18),"")) | O18: =IF(O$1>$AE$1,"-",IFERROR(IF(DATEDIF('Base de données'!$A18,O$1,"d")<>0,"",'Base de données'!$B18),"")) | P18: =IF(P$1>$AE$1,"-",IFERROR(IF(DATEDIF('Base de données'!$A18,P$1,"d")<>0,"",'Base de données'!$B18),"")) | Q18: =IF(Q$1>$AE$1,"-",IFERROR(IF(DATEDIF('Base de données'!$A18,Q$1,"d")<>0,"",'Base de données'!$B18),"")) | R18: =IF(R$1>$AE$1,"-",IFERROR(IF(DATEDIF('Base de données'!$A18,R$1,"d")<>0,"",'Base de données'!$B18),"")) | ... V18: =IF(V$1>$AE$1,"-",IFERROR(IF(DATEDIF('Base de données'!$A18,V$1,"d")<>0,"",'Base de données'!$B18),"")) | X18: ='Base de données'!$C18&" "&'Base de données'!$D18 -> Chevalier Roland | Y18: =COUNTIF('Base de données'!$B:$B,'Base de données'!$B18) -> 12 | AA18: {=INDIRECT("'Base de données'!A" & ROW(Y18))} -> 45658 | AB18: {=INDIRECT("'Base de données'!B" & ROW(Z18))} -> U3BKH
A19: =IF(IF(AND($B19<>"-",$B19=$E19),"Entrée et sortie","-")="Entrée et sortie",'Base de données'!$B19,"-") -> - | B19: =_xlfn.XLOOKUP($AB19,$D:$D,$C:$C,"-",0,-1) -> JU3RW | C19: =IF($AA19<>$AE$1,$D19,"-") -> JU3RW | D19: =IF($F19="sortie en cours d'année",'Base de données'!$B19,"-") -> JU3RW | E19: =IF($H19="entrée en cours d'année",'Base de données'!$B19,"-") -> - | F19: =IF(AND(G19=0,J19="mouvement"),"sortie en cours d'année","") -> sortie en cours d'année | G19: =IF($J19="mouvement",_xlfn.XLOOKUP('Base de données'!$B19,$V:$V,$V:$V,0),"") -> 0 | H19: =IF(AND(I19=0,J19="mouvement"),"entrée en cours d'année","") | I19: =IF($J19="mouvement",_xlfn.XLOOKUP('Base de données'!$B19,$K:$K,$K:$K,0),"") -> JU3RW | J19: =IF(AND(Y19<>MAX(Y:Y),COUNTIF(K19:V19,'Base de données'!$B19)>0),"mouvement","") -> mouvement | K19: =IF(K$1>$AE$1,"-",IFERROR(IF(DATEDIF('Base de données'!$A19,K$1,"d")<>0,"",'Base de données'!$B19),"")) -> JU3RW | L19: =IF(L$1>$AE$1,"-",IFERROR(IF(DATEDIF('Base de données'!$A19,L$1,"d")<>0,"",'Base de données'!$B19),"")) | M19: =IF(M$1>$AE$1,"-",IFERROR(IF(DATEDIF('Base de données'!$A19,M$1,"d")<>0,"",'Base de données'!$B19),"")) | N19: =IF(N$1>$AE$1,"-",IFERROR(IF(DATEDIF('Base de données'!$A19,N$1,"d")<>0,"",'Base de données'!$B19),"")) | O19: =IF(O$1>$AE$1,"-",IFERROR(IF(DATEDIF('Base de données'!$A19,O$1,"d")<>0,"",'Base de données'!$B19),"")) | P19: =IF(P$1>$AE$1,"-",IFERROR(IF(DATEDIF('Base de données'!$A19,P$1,"d")<>0,"",'Base de données'!$B19),"")) | Q19: =IF(Q$1>$AE$1,"-",IFERROR(IF(DATEDIF('Base de données'!$A19,Q$1,"d")<>0,"",'Base de données'!$B19),"")) | R19: =IF(R$1>$AE$1,"-",IFERROR(IF(DATEDIF('Base de données'!$A19,R$1,"d")<>0,"",'Base de données'!$B19),"")) | ... V19: =IF(V$1>$AE$1,"-",IFERROR(IF(DATEDIF('Base de données'!$A19,V$1,"d")<>0,"",'Base de données'!$B19),"")) | X19: ='Base de données'!$C19&" "&'Base de données'!$D19 -> Dijoux Laurent | Y19: =COUNTIF('Base de données'!$B:$B,'Base de données'!$B19) -> 2 | AA19: {=INDIRECT("'Base de données'!A" & ROW(Y19))} -> 45658 | AB19: {=INDIRECT("'Base de données'!B" & ROW(Z19))} -> JU3RW
A20: =IF(IF(AND($B20<>"-",$B20=$E20),"Entrée et sortie","-")="Entrée et sortie",'Base de données'!$B20,"-") -> - | B20: =_xlfn.XLOOKUP($AB20,$D:$D,$C:$C,"-",0,-1) -> - | C20: =IF($AA20<>$AE$1,$D20,"-") -> - | D20: =IF($F20="sortie en cours d'année",'Base de données'!$B20,"-") -> - | E20: =IF($H20="entrée en cours d'année",'Base de données'!$B20,"-") -> - | F20: =IF(AND(G20=0,J20="mouvement"),"sortie en cours d'année","") | G20: =IF($J20="mouvement",_xlfn.XLOOKUP('Base de données'!$B20,$V:$V,$V:$V,0),"") | H20: =IF(AND(I20=0,J20="mouvement"),"entrée en cours d'année","") | I20: =IF($J20="mouvement",_xlfn.XLOOKUP('Base de données'!$B20,$K:$K,$K:$K,0),"") | J20: =IF(AND(Y20<>MAX(Y:Y),COUNTIF(K20:V20,'Base de données'!$B20)>0),"mouvement","") | K20: =IF(K$1>$AE$1,"-",IFERROR(IF(DATEDIF('Base de données'!$A20,K$1,"d")<>0,"",'Base de données'!$B20),"")) -> HLXBT | L20: =IF(L$1>$AE$1,"-",IFERROR(IF(DATEDIF('Base de données'!$A20,L$1,"d")<>0,"",'Base de données'!$B20),"")) | M20: =IF(M$1>$AE$1,"-",IFERROR(IF(DATEDIF('Base de données'!$A20,M$1,"d")<>0,"",'Base de données'!$B20),"")) | N20: =IF(N$1>$AE$1,"-",IFERROR(IF(DATEDIF('Base de données'!$A20,N$1,"d")<>0,"",'Base de données'!$B20),"")) | O20: =IF(O$1>$AE$1,"-",IFERROR(IF(DATEDIF('Base de données'!$A20,O$1,"d")<>0,"",'Base de données'!$B20),"")) | P20: =IF(P$1>$AE$1,"-",IFERROR(IF(DATEDIF('Base de données'!$A20,P$1,"d")<>0,"",'Base de données'!$B20),"")) | Q20: =IF(Q$1>$AE$1,"-",IFERROR(IF(DATEDIF('Base de données'!$A20,Q$1,"d")<>0,"",'Base de données'!$B20),"")) | R20: =IF(R$1>$AE$1,"-",IFERROR(IF(DATEDIF('Base de données'!$A20,R$1,"d")<>0,"",'Base de données'!$B20),"")) | ... V20: =IF(V$1>$AE$1,"-",IFERROR(IF(DATEDIF('Base de données'!$A20,V$1,"d")<>0,"",'Base de données'!$B20),"")) | X20: ='Base de données'!$C20&" "&'Base de données'!$D20 -> Gautier Noémi | Y20: =COUNTIF('Base de données'!$B:$B,'Base de données'!$B20) -> 12 | AA20: {=INDIRECT("'Base de données'!A" & ROW(Y20))} -> 45658 | AB20: {=INDIRECT("'Base de données'!B" & ROW(Z20))} -> HLXBT
A21: =IF(IF(AND($B21<>"-",$B21=$E21),"Entrée et sortie","-")="Entrée et sortie",'Base de données'!$B21,"-") -> - | B21: =_xlfn.XLOOKUP($AB21,$D:$D,$C:$C,"-",0,-1) -> - | C21: =IF($AA21<>$AE$1,$D21,"-") -> - | D21: =IF($F21="sortie en cours d'année",'Base de données'!$B21,"-") -> - | E21: =IF($H21="entrée en cours d'année",'Base de données'!$B21,"-") -> - | F21: =IF(AND(G21=0,J21="mouvement"),"sortie en cours d'année","") | G21: =IF($J21="mouvement",_xlfn.XLOOKUP('Base de données'!$B21,$V:$V,$V:$V,0),"") | H21: =IF(AND(I21=0,J21="mouvement"),"entrée en cours d'année","") | I21: =IF($J21="mouvement",_xlfn.XLOOKUP('Base de données'!$B21,$K:$K,$K:$K,0),"") | J21: =IF(AND(Y21<>MAX(Y:Y),COUNTIF(K21:V21,'Base de données'!$B21)>0),"mouvement","") | K21: =IF(K$1>$AE$1,"-",IFERROR(IF(DATEDIF('Base de données'!$A21,K$1,"d")<>0,"",'Base de données'!$B21),"")) -> XLFAU | L21: =IF(L$1>$AE$1,"-",IFERROR(IF(DATEDIF('Base de données'!$A21,L$1,"d")<>0,"",'Base de données'!$B21),"")) | M21: =IF(M$1>$AE$1,"-",IFERROR(IF(DATEDIF('Base de données'!$A21,M$1,"d")<>0,"",'Base de données'!$B21),"")) | N21: =IF(N$1>$AE$1,"-",IFERROR(IF(DATEDIF('Base de données'!$A21,N$1,"d")<>0,"",'Base de données'!$B21),"")) | O21: =IF(O$1>$AE$1,"-",IFERROR(IF(DATEDIF('Base de données'!$A21,O$1,"d")<>0,"",'Base de données'!$B21),"")) | P21: =IF(P$1>$AE$1,"-",IFERROR(IF(DATEDIF('Base de données'!$A21,P$1,"d")<>0,"",'Base de données'!$B21),"")) | Q21: =IF(Q$1>$AE$1,"-",IFERROR(IF(DATEDIF('Base de données'!$A21,Q$1,"d")<>0,"",'Base de données'!$B21),"")) | R21: =IF(R$1>$AE$1,"-",IFERROR(IF(DATEDIF('Base de données'!$A21,R$1,"d")<>0,"",'Base de données'!$B21),"")) | ... V21: =IF(V$1>$AE$1,"-",IFERROR(IF(DATEDIF('Base de données'!$A21,V$1,"d")<>0,"",'Base de données'!$B21),"")) | X21: ='Base de données'!$C21&" "&'Base de données'!$D21 -> Laine Marine | Y21: =COUNTIF('Base de données'!$B:$B,'Base de données'!$B21) -> 12 | AA21: {=INDIRECT("'Base de données'!A" & ROW(Y21))} -> 45658 | AB21: {=INDIRECT("'Base de données'!B" & ROW(Z21))} -> XLFAU
A22: =IF(IF(AND($B22<>"-",$B22=$E22),"Entrée et sortie","-")="Entrée et sortie",'Base de données'!$B22,"-") -> - | B22: =_xlfn.XLOOKUP($AB22,$D:$D,$C:$C,"-",0,-1) -> - | C22: =IF($AA22<>$AE$1,$D22,"-") -> - | D22: =IF($F22="sortie en cours d'année",'Base de données'!$B22,"-") -> - | E22: =IF($H22="entrée en cours d'année",'Base de données'!$B22,"-") -> - | F22: =IF(AND(G22=0,J22="mouvement"),"sortie en cours d'année","") | G22: =IF($J22="mouvement",_xlfn.XLOOKUP('Base de données'!$B22,$V:$V,$V:$V,0),"") | H22: =IF(AND(I22=0,J22="mouvement"),"entrée en cours d'année","") | I22: =IF($J22="mouvement",_xlfn.XLOOKUP('Base de données'!$B22,$K:$K,$K:$K,0),"") | J22: =IF(AND(Y22<>MAX(Y:Y),COUNTIF(K22:V22,'Base de données'!$B22)>0),"mouvement","") | K22: =IF(K$1>$AE$1,"-",IFERROR(IF(DATEDIF('Base de données'!$A22,K$1,"d")<>0,"",'Base de données'!$B22),"")) -> NAMYB | L22: =IF(L$1>$AE$1,"-",IFERROR(IF(DATEDIF('Base de données'!$A22,L$1,"d")<>0,"",'Base de données'!$B22),"")) | M22: =IF(M$1>$AE$1,"-",IFERROR(IF(DATEDIF('Base de données'!$A22,M$1,"d")<>0,"",'Base de données'!$B22),"")) | N22: =IF(N$1>$AE$1,"-",IFERROR(IF(DATEDIF('Base de données'!$A22,N$1,"d")<>0,"",'Base de données'!$B22),"")) | O22: =IF(O$1>$AE$1,"-",IFERROR(IF(DATEDIF('Base de données'!$A22,O$1,"d")<>0,"",'Base de données'!$B22),"")) | P22: =IF(P$1>$AE$1,"-",IFERROR(IF(DATEDIF('Base de données'!$A22,P$1,"d")<>0,"",'Base de données'!$B22),"")) | Q22: =IF(Q$1>$AE$1,"-",IFERROR(IF(DATEDIF('Base de données'!$A22,Q$1,"d")<>0,"",'Base de données'!$B22),"")) | R22: =IF(R$1>$AE$1,"-",IFERROR(IF(DATEDIF('Base de données'!$A22,R$1,"d")<>0,"",'Base de données'!$B22),"")) | ... V22: =IF(V$1>$AE$1,"-",IFERROR(IF(DATEDIF('Base de données'!$A22,V$1,"d")<>0,"",'Base de données'!$B22),"")) | X22: ='Base de données'!$C22&" "&'Base de données'!$D22 -> Da Costa Maggie | Y22: =COUNTIF('Base de données'!$B:$B,'Base de données'!$B22) -> 12 | AA22: {=INDIRECT("'Base de données'!A" & ROW(Y22))} -> 45658 | AB22: {=INDIRECT("'Base de données'!B" & ROW(Z22))} -> NAMYB
A23: =IF(IF(AND($B23<>"-",$B23=$E23),"Entrée et sortie","-")="Entrée et sortie",'Base de données'!$B23,"-") -> - | B23: =_xlfn.XLOOKUP($AB23,$D:$D,$C:$C,"-",0,-1) -> - | C23: =IF($AA23<>$AE$1,$D23,"-") -> - | D23: =IF($F23="sortie en cours d'année",'Base de données'!$B23,"-") -> - | E23: =IF($H23="entrée en cours d'année",'Base de données'!$B23,"-") -> - | F23: =IF(AND(G23=0,J23="mouvement"),"sortie en cours d'année","") | G23: =IF($J23="mouvement",_xlfn.XLOOKUP('Base de données'!$B23,$V:$V,$V:$V,0),"") | H23: =IF(AND(I23=0,J23="mouvement"),"entrée en cours d'année","") | I23: =IF($J23="mouvement",_xlfn.XLOOKUP('Base de données'!$B23,$K:$K,$K:$K,0),"") | J23: =IF(AND(Y23<>MAX(Y:Y),COUNTIF(K23:V23,'Base de données'!$B23)>0),"mouvement","") | K23: =IF(K$1>$AE$1,"-",IFERROR(IF(DATEDIF('Base de données'!$A23,K$1,"d")<>0,"",'Base de données'!$B23),"")) -> K1I44 | L23: =IF(L$1>$AE$1,"-",IFERROR(IF(DATEDIF('Base de données'!$A23,L$1,"d")<>0,"",'Base de données'!$B23),"")) | M23: =IF(M$1>$AE$1,"-",IFERROR(IF(DATEDIF('Base de données'!$A23,M$1,"d")<>0,"",'Base de données'!$B23),"")) | N23: =IF(N$1>$AE$1,"-",IFERROR(IF(DATEDIF('Base de données'!$A23,N$1,"d")<>0,"",'Base de données'!$B23),"")) | O23: =IF(O$1>$AE$1,"-",IFERROR(IF(DATEDIF('Base de données'!$A23,O$1,"d")<>0,"",'Base de données'!$B23),"")) | P23: =IF(P$1>$AE$1,"-",IFERROR(IF(DATEDIF('Base de données'!$A23,P$1,"d")<>0,"",'Base de données'!$B23),"")) | Q23: =IF(Q$1>$AE$1,"-",IFERROR(IF(DATEDIF('Base de données'!$A23,Q$1,"d")<>0,"",'Base de données'!$B23),"")) | R23: =IF(R$1>$AE$1,"-",IFERROR(IF(DATEDIF('Base de données'!$A23,R$1,"d")<>0,"",'Base de données'!$B23),"")) | ... V23: =IF(V$1>$AE$1,"-",IFERROR(IF(DATEDIF('Base de données'!$A23,V$1,"d")<>0,"",'Base de données'!$B23),"")) | X23: ='Base de données'!$C23&" "&'Base de données'!$D23 -> Neveu Geneviève | Y23: =COUNTIF('Base de données'!$B:$B,'Base de données'!$B23) -> 12 | AA23: {=INDIRECT("'Base de données'!A" & ROW(Y23))} -> 45658 | AB23: {=INDIRECT("'Base de données'!B" & ROW(Z23))} -> K1I44
A24: =IF(IF(AND($B24<>"-",$B24=$E24),"Entrée et sortie","-")="Entrée et sortie",'Base de données'!$B24,"-") -> - | B24: =_xlfn.XLOOKUP($AB24,$D:$D,$C:$C,"-",0,-1) -> - | C24: =IF($AA24<>$AE$1,$D24,"-") -> - | D24: =IF($F24="sortie en cours d'année",'Base de données'!$B24,"-") -> - | E24: =IF($H24="entrée en cours d'année",'Base de données'!$B24,"-") -> - | F24: =IF(AND(G24=0,J24="mouvement"),"sortie en cours d'année","") | G24: =IF($J24="mouvement",_xlfn.XLOOKUP('Base de données'!$B24,$V:$V,$V:$V,0),"") | H24: =IF(AND(I24=0,J24="mouvement"),"entrée en cours d'année","") | I24: =IF($J24="mouvement",_xlfn.XLOOKUP('Base de données'!$B24,$K:$K,$K:$K,0),"") | J24: =IF(AND(Y24<>MAX(Y:Y),COUNTIF(K24:V24,'Base de données'!$B24)>0),"mouvement","") | K24: =IF(K$1>$AE$1,"-",IFERROR(IF(DATEDIF('Base de données'!$A24,K$1,"d")<>0,"",'Base de données'!$B24),"")) -> GERRB | L24: =IF(L$1>$AE$1,"-",IFERROR(IF(DATEDIF('Base de données'!$A24,L$1,"d")<>0,"",'Base de données'!$B24),"")) | M24: =IF(M$1>$AE$1,"-",IFERROR(IF(DATEDIF('Base de données'!$A24,M$1,"d")<>0,"",'Base de données'!$B24),"")) | N24: =IF(N$1>$AE$1,"-",IFERROR(IF(DATEDIF('Base de données'!$A24,N$1,"d")<>0,"",'Base de données'!$B24),"")) | O24: =IF(O$1>$AE$1,"-",IFERROR(IF(DATEDIF('Base de données'!$A24,O$1,"d")<>0,"",'Base de données'!$B24),"")) | P24: =IF(P$1>$AE$1,"-",IFERROR(IF(DATEDIF('Base de données'!$A24,P$1,"d")<>0,"",'Base de données'!$B24),"")) | Q24: =IF(Q$1>$AE$1,"-",IFERROR(IF(DATEDIF('Base de données'!$A24,Q$1,"d")<>0,"",'Base de données'!$B24),"")) | R24: =IF(R$1>$AE$1,"-",IFERROR(IF(DATEDIF('Base de données'!$A24,R$1,"d")<>0,"",'Base de données'!$B24),"")) | ... V24: =IF(V$1>$AE$1,"-",IFERROR(IF(DATEDIF('Base de données'!$A24,V$1,"d")<>0,"",'Base de données'!$B24),"")) | X24: ='Base de données'!$C24&" "&'Base de données'!$D24 -> Fontaine Arthur | Y24: =COUNTIF('Base de données'!$B:$B,'Base de données'!$B24) -> 12 | AA24: {=INDIRECT("'Base de données'!A" & ROW(Y24))} -> 45658 | AB24: {=INDIRECT("'Base de données'!B" & ROW(Z24))} -> GERRB
A25: =IF(IF(AND($B25<>"-",$B25=$E25),"Entrée et sortie","-")="Entrée et sortie",'Base de données'!$B25,"-") -> - | B25: =_xlfn.XLOOKUP($AB25,$D:$D,$C:$C,"-",0,-1) -> - | C25: =IF($AA25<>$AE$1,$D25,"-") -> - | D25: =IF($F25="sortie en cours d'année",'Base de données'!$B25,"-") -> - | E25: =IF($H25="entrée en cours d'année",'Base de données'!$B25,"-") -> - | F25: =IF(AND(G25=0,J25="mouvement"),"sortie en cours d'année","") | G25: =IF($J25="mouvement",_xlfn.XLOOKUP('Base de données'!$B25,$V:$V,$V:$V,0),"") | H25: =IF(AND(I25=0,J25="mouvement"),"entrée en cours d'année","") | I25: =IF($J25="mouvement",_xlfn.XLOOKUP('Base de données'!$B25,$K:$K,$K:$K,0),"") | J25: =IF(AND(Y25<>MAX(Y:Y),COUNTIF(K25:V25,'Base de données'!$B25)>0),"mouvement","") | K25: =IF(K$1>$AE$1,"-",IFERROR(IF(DATEDIF('Base de données'!$A25,K$1,"d")<>0,"",'Base de données'!$B25),"")) -> 6ZPJJ | L25: =IF(L$1>$AE$1,"-",IFERROR(IF(DATEDIF('Base de données'!$A25,L$1,"d")<>0,"",'Base de données'!$B25),"")) | M25: =IF(M$1>$AE$1,"-",IFERROR(IF(DATEDIF('Base de données'!$A25,M$1,"d")<>0,"",'Base de données'!$B25),"")) | N25: =IF(N$1>$AE$1,"-",IFERROR(IF(DATEDIF('Base de données'!$A25,N$1,"d")<>0,"",'Base de données'!$B25),"")) | O25: =IF(O$1>$AE$1,"-",IFERROR(IF(DATEDIF('Base de données'!$A25,O$1,"d")<>0,"",'Base de données'!$B25),"")) | P25: =IF(P$1>$AE$1,"-",IFERROR(IF(DATEDIF('Base de données'!$A25,P$1,"d")<>0,"",'Base de données'!$B25),"")) | Q25: =IF(Q$1>$AE$1,"-",IFERROR(IF(DATEDIF('Base de données'!$A25,Q$1,"d")<>0,"",'Base de données'!$B25),"")) | R25: =IF(R$1>$AE$1,"-",IFERROR(IF(DATEDIF('Base de données'!$A25,R$1,"d")<>0,"",'Base de données'!$B25),"")) | ... V25: =IF(V$1>$AE$1,"-",IFERROR(IF(DATEDIF('Base de données'!$A25,V$1,"d")<>0,"",'Base de données'!$B25),"")) | X25: ='Base de données'!$C25&" "&'Base de données'!$D25 -> Laurent Adrienne | Y25: =COUNTIF('Base de données'!$B:$B,'Base de données'!$B25) -> 12 | AA25: {=INDIRECT("'Base de données'!A" & ROW(Y25))} -> 45658 | AB25: {=INDIRECT("'Base de données'!B" & ROW(Z25))} -> 6ZPJJ
A26: =IF(IF(AND($B26<>"-",$B26=$E26),"Entrée et sortie","-")="Entrée et sortie",'Base de données'!$B26,"-") -> - | B26: =_xlfn.XLOOKUP($AB26,$D:$D,$C:$C,"-",0,-1) -> - | C26: =IF($AA26<>$AE$1,$D26,"-") -> - | D26: =IF($F26="sortie en cours d'année",'Base de données'!$B26,"-") -> - | E26: =IF($H26="entrée en cours d'année",'Base de données'!$B26,"-") -> - | F26: =IF(AND(G26=0,J26="mouvement"),"sortie en cours d'année","") | G26: =IF($J26="mouvement",_xlfn.XLOOKUP('Base de données'!$B26,$V:$V,$V:$V,0),"") | H26: =IF(AND(I26=0,J26="mouvement"),"entrée en cours d'année","") | I26: =IF($J26="mouvement",_xlfn.XLOOKUP('Base de données'!$B26,$K:$K,$K:$K,0),"") | J26: =IF(AND(Y26<>MAX(Y:Y),COUNTIF(K26:V26,'Base de données'!$B26)>0),"mouvement","") | K26: =IF(K$1>$AE$1,"-",IFERROR(IF(DATEDIF('Base de données'!$A26,K$1,"d")<>0,"",'Base de données'!$B26),"")) -> QXZRZ | L26: =IF(L$1>$AE$1,"-",IFERROR(IF(DATEDIF('Base de données'!$A26,L$1,"d")<>0,"",'Base de données'!$B26),"")) | M26: =IF(M$1>$AE$1,"-",IFERROR(IF(DATEDIF('Base de données'!$A26,M$1,"d")<>0,"",'Base de données'!$B26),"")) | N26: =IF(N$1>$AE$1,"-",IFERROR(IF(DATEDIF('Base de données'!$A26,N$1,"d")<>0,"",'Base de données'!$B26),"")) | O26: =IF(O$1>$AE$1,"-",IFERROR(IF(DATEDIF('Base de données'!$A26,O$1,"d")<>0,"",'Base de données'!$B26),"")) | P26: =IF(P$1>$AE$1,"-",IFERROR(IF(DATEDIF('Base de données'!$A26,P$1,"d")<>0,"",'Base de données'!$B26),"")) | Q26: =IF(Q$1>$AE$1,"-",IFERROR(IF(DATEDIF('Base de données'!$A26,Q$1,"d")<>0,"",'Base de données'!$B26),"")) | R26: =IF(R$1>$AE$1,"-",IFERROR(IF(DATEDIF('Base de données'!$A26,R$1,"d")<>0,"",'Base de données'!$B26),"")) | ... V26: =IF(V$1>$AE$1,"-",IFERROR(IF(DATEDIF('Base de données'!$A26,V$1,"d")<>0,"",'Base de données'!$B26),"")) | X26: ='Base de données'!$C26&" "&'Base de données'!$D26 -> Mallet William | Y26: =COUNTIF('Base de données'!$B:$B,'Base de données'!$B26) -> 12 | AA26: {=INDIRECT("'Base de données'!A" & ROW(Y26))} -> 45658 | AB26: {=INDIRECT("'Base de données'!B" & ROW(Z26))} -> QXZRZ
A27: =IF(IF(AND($B27<>"-",$B27=$E27),"Entrée et sortie","-")="Entrée et sortie",'Base de données'!$B27,"-") -> - | B27: =_xlfn.XLOOKUP($AB27,$D:$D,$C:$C,"-",0,-1) -> 1RDZB | C27: =IF($AA27<>$AE$1,$D27,"-") -> 1RDZB | D27: =IF($F27="sortie en cours d'année",'Base de données'!$B27,"-") -> 1RDZB | E27: =IF($H27="entrée en cours d'année",'Base de données'!$B27,"-") -> - | F27: =IF(AND(G27=0,J27="mouvement"),"sortie en cours d'année","") -> sortie en cours d'année | G27: =IF($J27="mouvement",_xlfn.XLOOKUP('Base de données'!$B27,$V:$V,$V:$V,0),"") -> 0 | H27: =IF(AND(I27=0,J27="mouvement"),"entrée en cours d'année","") | I27: =IF($J27="mouvement",_xlfn.XLOOKUP('Base de données'!$B27,$K:$K,$K:$K,0),"") -> 1RDZB | J27: =IF(AND(Y27<>MAX(Y:Y),COUNTIF(K27:V27,'Base de données'!$B27)>0),"mouvement","") -> mouvement | K27: =IF(K$1>$AE$1,"-",IFERROR(IF(DATEDIF('Base de données'!$A27,K$1,"d")<>0,"",'Base de données'!$B27),"")) -> 1RDZB | L27: =IF(L$1>$AE$1,"-",IFERROR(IF(DATEDIF('Base de données'!$A27,L$1,"d")<>0,"",'Base de données'!$B27),"")) | M27: =IF(M$1>$AE$1,"-",IFERROR(IF(DATEDIF('Base de données'!$A27,M$1,"d")<>0,"",'Base de données'!$B27),"")) | N27: =IF(N$1>$AE$1,"-",IFERROR(IF(DATEDIF('Base de données'!$A27,N$1,"d")<>0,"",'Base de données'!$B27),"")) | O27: =IF(O$1>$AE$1,"-",IFERROR(IF(DATEDIF('Base de données'!$A27,O$1,"d")<>0,"",'Base de données'!$B27),"")) | P27: =IF(P$1>$AE$1,"-",IFERROR(IF(DATEDIF('Base de données'!$A27,P$1,"d")<>0,"",'Base de données'!$B27),"")) | Q27: =IF(Q$1>$AE$1,"-",IFERROR(IF(DATEDIF('Base de données'!$A27,Q$1,"d")<>0,"",'Base de données'!$B27),"")) | R27: =IF(R$1>$AE$1,"-",IFERROR(IF(DATEDIF('Base de données'!$A27,R$1,"d")<>0,"",'Base de données'!$B27),"")) | ... V27: =IF(V$1>$AE$1,"-",IFERROR(IF(DATEDIF('Base de données'!$A27,V$1,"d")<>0,"",'Base de données'!$B27),"")) | X27: ='Base de données'!$C27&" "&'Base de données'!$D27 -> Camus Thierry | Y27: =COUNTIF('Base de données'!$B:$B,'Base de données'!$B27) -> 5 | AA27: {=INDIRECT("'Base de données'!A" & ROW(Y27))} -> 45658 | AB27: {=INDIRECT("'Base de données'!B" & ROW(Z27))} -> 1RDZB
A28: =IF(IF(AND($B28<>"-",$B28=$E28),"Entrée et sortie","-")="Entrée et sortie",'Base de données'!$B28,"-") -> - | B28: =_xlfn.XLOOKUP($AB28,$D:$D,$C:$C,"-",0,-1) -> CUQ5O | C28: =IF($AA28<>$AE$1,$D28,"-") -> CUQ5O | D28: =IF($F28="sortie en cours d'année",'Base de données'!$B28,"-") -> CUQ5O | E28: =IF($H28="entrée en cours d'année",'Base de données'!$B28,"-") -> - | F28: =IF(AND(G28=0,J28="mouvement"),"sortie en cours d'année","") -> sortie en cours d'année | G28: =IF($J28="mouvement",_xlfn.XLOOKUP('Base de données'!$B28,$V:$V,$V:$V,0),"") -> 0 | H28: =IF(AND(I28=0,J28="mouvement"),"entrée en cours d'année","") | I28: =IF($J28="mouvement",_xlfn.XLOOKUP('Base de données'!$B28,$K:$K,$K:$K,0),"") -> CUQ5O | J28: =IF(AND(Y28<>MAX(Y:Y),COUNTIF(K28:V28,'Base de données'!$B28)>0),"mouvement","") -> mouvement | K28: =IF(K$1>$AE$1,"-",IFERROR(IF(DATEDIF('Base de données'!$A28,K$1,"d")<>0,"",'Base de données'!$B28),"")) -> CUQ5O | L28: =IF(L$1>$AE$1,"-",IFERROR(IF(DATEDIF('Base de données'!$A28,L$1,"d")<>0,"",'Base de données'!$B28),"")) | M28: =IF(M$1>$AE$1,"-",IFERROR(IF(DATEDIF('Base de données'!$A28,M$1,"d")<>0,"",'Base de données'!$B28),"")) | N28: =IF(N$1>$AE$1,"-",IFERROR(IF(DATEDIF('Base de données'!$A28,N$1,"d")<>0,"",'Base de données'!$B28),"")) | O28: =IF(O$1>$AE$1,"-",IFERROR(IF(DATEDIF('Base de données'!$A28,O$1,"d")<>0,"",'Base de données'!$B28),"")) | P28: =IF(P$1>$AE$1,"-",IFERROR(IF(DATEDIF('Base de données'!$A28,P$1,"d")<>0,"",'Base de données'!$B28),"")) | Q28: =IF(Q$1>$AE$1,"-",IFERROR(IF(DATEDIF('Base de données'!$A28,Q$1,"d")<>0,"",'Base de données'!$B28),"")) | R28: =IF(R$1>$AE$1,"-",IFERROR(IF(DATEDIF('Base de données'!$A28,R$1,"d")<>0,"",'Base de données'!$B28),"")) | ... V28: =IF(V$1>$AE$1,"-",IFERROR(IF(DATEDIF('Base de données'!$A28,V$1,"d")<>0,"",'Base de données'!$B28),"")) | X28: ='Base de données'!$C28&" "&'Base de données'!$D28 -> Camus Christiane | Y28: =COUNTIF('Base de données'!$B:$B,'Base de données'!$B28) -> 8 | AA28: {=INDIRECT("'Base de données'!A" & ROW(Y28))} -> 45658 | AB28: {=INDIRECT("'Base de données'!B" & ROW(Z28))} -> CUQ5O
... A3500: =IF(IF(AND($B3500<>"-",$B3500=$E3500),"Entrée et sortie","-")="Entrée et sortie",'Base de données'!$B3500,"-") -> - | B3500: =_xlfn.XLOOKUP($AB3500,$D:$D,$C:$C,"-",0,-1) -> - | C3500: =IF($AA3500<>$AE$1,$D3500,"-") -> - | D3500: =IF($F3500="sortie en cours d'année",'Base de données'!$B3500,"-") -> - | E3500: =IF($H3500="entrée en cours d'année",'Base de données'!$B3500,"-") -> - | F3500: =IF(AND(G3500=0,J3500="mouvement"),"sortie en cours d'année","") | G3500: =IF($J3500="mouvement",_xlfn.XLOOKUP('Base de données'!$B3500,$V:$V,$V:$V,0),"") | H3500: =IF(AND(I3500=0,J3500="mouvement"),"entrée en cours d'année","") | I3500: =IF($J3500="mouvement",_xlfn.XLOOKUP('Base de données'!$B3500,$K:$K,$K:$K,0),"") | J3500: =IF(AND(Y3500<>MAX(Y:Y),COUNTIF(K3500:V3500,'Base de données'!$B3500)>0),"mouvement","") | K3500: =IF(K$1>$AE$1,"-",IFERROR(IF(DATEDIF('Base de données'!$A3500,K$1,"d")<>0,"",'Base de données'!$B3500),"")) | L3500: =IF(L$1>$AE$1,"-",IFERROR(IF(DATEDIF('Base de données'!$A3500,L$1,"d")<>0,"",'Base de données'!$B3500),"")) | M3500: =IF(M$1>$AE$1,"-",IFERROR(IF(DATEDIF('Base de données'!$A3500,M$1,"d")<>0,"",'Base de données'!$B3500),"")) | N3500: =IF(N$1>$AE$1,"-",IFERROR(IF(DATEDIF('Base de données'!$A3500,N$1,"d")<>0,"",'Base de données'!$B3500),"")) | O3500: =IF(O$1>$AE$1,"-",IFERROR(IF(DATEDIF('Base de données'!$A3500,O$1,"d")<>0,"",'Base de données'!$B3500),"")) | P3500: =IF(P$1>$AE$1,"-",IFERROR(IF(DATEDIF('Base de données'!$A3500,P$1,"d")<>0,"",'Base de données'!$B3500),"")) | Q3500: =IF(Q$1>$AE$1,"-",IFERROR(IF(DATEDIF('Base de données'!$A3500,Q$1,"d")<>0,"",'Base de données'!$B3500),"")) | R3500: =IF(R$1>$AE$1,"-",IFERROR(IF(DATEDIF('Base de données'!$A3500,R$1,"d")<>0,"",'Base de données'!$B3500),"")) | ... V3500: =IF(V$1>$AE$1,"-",IFERROR(IF(DATEDIF('Base de données'!$A3500,V$1,"d")<>0,"",'Base de données'!$B3500),"")) | X3500: ='Base de données'!$C3500&" "&'Base de données'!$D3500 | Y3500: =COUNTIF('Base de données'!$B:$B,'Base de données'!$B3500) -> 0 | AA3500: {=INDIRECT("'Base de données'!A" & ROW(Y3500))} -> 0 | AB3500: {=INDIRECT("'Base de données'!B" & ROW(Z3500))} -> 0
