Workbook
Name Segment_Région: #N/A

Sheet Accueil
G2: DISCLAIMER : les bases de données sont générées à partir d'une IA (Microsoft Copilot)
G3: Ce fichier est donc un fichier de travail permettant la compréhension et l'usage de formules.
G4: En aucun cas, il ne s'agit de données réelles et/ou confidentielles.
G5: Je vous remercie pour votre compréhension.
A9: Bonjour et bienvenue sur le fichier de démonstration "Suivre des effectifs"
A11: Le fichier se compose de 6 onglets :
A12: 1) | B12: L'onglet "Accueil" sert de page de présentation
A13: 2) | B13: L'onglet "Base de données" contient une base de données qui servira de source à notre démonstration
A14: 3) | B14: L'onglet "Entrées" contient la liste des salariés entrés en cours d'année
A15: 4) | B15: L'onglet "Sorties" contient la liste des salariés sorties en cours d'année
A16: 5) | B16: L'onglet "Entrées & Sorties" contient la liste des salariés entrés ET sorties en cours d'année
A17: 6) | B17: L'onglet "Synthèse" viendra récapituler les mouvements d'effectifs

Sheet Base de données
A1: Mois extraction | B1: Matricule | C1: Nom | D1: Prénom | E1: Sexe | F1: Contrat | G1: Service | H1: ETP | I1: Date_entrée | J1: Âge | K1: CSP | L1: Région
A2: 45658 | B2: GPNP7 | C2: Perret | D2: Agnès | E2: F | F2: Stage | G2: Commerciaux | H2: 1 | I2: 45667 | J2: 32 | K2: Non Cadre | L2: Bretagne
A3: 45658 | B3: DKKLE | C3: Baron | D3: Danielle | E3: F | F3: Alternant | G3: Marketing | H3: 1 | I3: 44294 | J3: 34 | K3: Non Cadre | L3: Île-de-France
A4: 45658 | B4: X43EK | C4: Aubry | D4: Georges | E4: H | F4: CDD | G4: Marketing | H4: 1 | I4: 45672 | J4: 28 | K4: Non Cadre | L4: Nouvelle-Aquitaine
A5: 45658 | B5: IDCZB | C5: Pages | D5: Emmanuel | E5: H | F5: Stage | G5: Commerciaux | H5: 1 | I5: 44164 | J5: 42 | K5: Non Cadre | L5: Nouvelle-Aquitaine
A6: 45658 | B6: WVLRU | C6: Brunet | D6: Charles | E6: H | F6: CDI | G6: Informatique | H6: 0.91 | I6: 44766 | J6: 41 | K6: Cadre | L6: Normandie
A7: 45658 | B7: I3SPC | C7: Boulanger | D7: Martine | E7: F | F7: CDI | G7: RH | H7: 0.91 | I7: 44884 | J7: 58 | K7: Cadre | L7: Île-de-France
A8: 45658 | B8: H1WN8 | C8: Colas | D8: Claudine | E8: F | F8: CDI | G8: Logistique | H8: 0.91 | I8: 45295 | J8: 37 | K8: Non Cadre | L8: Occitanie
A9: 45658 | B9: 61344 | C9: De Oliveira | D9: Benoît | E9: H | F9: CDI | G9: Informatique | H9: 1 | I9: 44378 | J9: 21 | K9: Non Cadre | L9: Île-de-France
A10: 45658 | B10: JHHFN | C10: Pichon | D10: Rémy | E10: H | F10: CDD | G10: Commerciaux | H10: 0.91 | I10: 45255 | J10: 33 | K10: Non Cadre | L10: Bretagne
A11: 45658 | B11: 7SPGI | C11: Rossi | D11: René | E11: H | F11: CDD | G11: Informatique | H11: 1 | I11: 45331 | J11: 42 | K11: Cadre | L11: Bretagne
A12: 45658 | B12: E3HIK | C12: Marin | D12: Éric | E12: H | F12: CDI | G12: RH | H12: 1 | I12: 44626 | J12: 64 | K12: Cadre | L12: Pays de la Loire
A13: 45658 | B13: LPLFA | C13: Étienne | D13: René | E13: H | F13: CDI | G13: Commerciaux | H13: 1 | I13: 45438 | J13: 44 | K13: Cadre | L13: Corse
... A3441: 45992 | B3441: U09KY | C3441: Cohen | D3441: Louis | E3441: H | F3441: CDI | G3441: RH | H3441: 1 | I3441: 45746 | J3441: 29 | K3441: Non Cadre | L3441: Corse

Sheet Entrées
B2: Entrée (en cours d'année)
B4: Matricule | C4: Nom Prénom | D4: Date entrée | E4: Région
B5: {=_xlfn.UNIQUE(SECRET!E:E)} -> Qui est entré ?
B6: -
B7: G45AC | C7: =IF(B7="","-",_xlfn.XLOOKUP($B7,'Base de données'!$B:$B,SECRET!$X:$X,"",0,1)) -> Breton Gabrielle | D7: =IF(B7="","-",_xlfn.XLOOKUP($B7,'Base de données'!$B:$B,'Base de données'!$A:$A,"",0,1)) -> 45689 | E7: =IF(B7="","-",_xlfn.XLOOKUP($B7,'Base de données'!$B:$B,'Base de données'!$L:$L,"",0,1)) -> Auvergne-Rhône-Alpes
B8: QJKEN | C8: =IF(B8="","-",_xlfn.XLOOKUP($B8,'Base de données'!$B:$B,SECRET!$X:$X,"",0,1)) -> Salmon Thibaut | D8: =IF(B8="","-",_xlfn.XLOOKUP($B8,'Base de données'!$B:$B,'Base de données'!$A:$A,"",0,1)) -> 45689 | E8: =IF(B8="","-",_xlfn.XLOOKUP($B8,'Base de données'!$B:$B,'Base de données'!$L:$L,"",0,1)) -> Île-de-France
B9: FUMYO | C9: =IF(B9="","-",_xlfn.XLOOKUP($B9,'Base de données'!$B:$B,SECRET!$X:$X,"",0,1)) -> Marchal Robert | D9: =IF(B9="","-",_xlfn.XLOOKUP($B9,'Base de données'!$B:$B,'Base de données'!$A:$A,"",0,1)) -> 45689 | E9: =IF(B9="","-",_xlfn.XLOOKUP($B9,'Base de données'!$B:$B,'Base de données'!$L:$L,"",0,1)) -> Île-de-France
B10: 0D66F | C10: =IF(B10="","-",_xlfn.XLOOKUP($B10,'Base de données'!$B:$B,SECRET!$X:$X,"",0,1)) -> Maréchal Paulette | D10: =IF(B10="","-",_xlfn.XLOOKUP($B10,'Base de données'!$B:$B,'Base de données'!$A:$A,"",0,1)) -> 45689 | E10: =IF(B10="","-",_xlfn.XLOOKUP($B10,'Base de données'!$B:$B,'Base de données'!$L:$L,"",0,1)) -> Île-de-France
B11: 00EBC | C11: =IF(B11="","-",_xlfn.XLOOKUP($B11,'Base de données'!$B:$B,SECRET!$X:$X,"",0,1)) -> Leconte Vincent | D11: =IF(B11="","-",_xlfn.XLOOKUP($B11,'Base de données'!$B:$B,'Base de données'!$A:$A,"",0,1)) -> 45689 | E11: =IF(B11="","-",_xlfn.XLOOKUP($B11,'Base de données'!$B:$B,'Base de données'!$L:$L,"",0,1)) -> Pays de la Loire
B12: DZOIT | C12: =IF(B12="","-",_xlfn.XLOOKUP($B12,'Base de données'!$B:$B,SECRET!$X:$X,"",0,1)) -> Meunier Marcel | D12: =IF(B12="","-",_xlfn.XLOOKUP($B12,'Base de données'!$B:$B,'Base de données'!$A:$A,"",0,1)) -> 45689 | E12: =IF(B12="","-",_xlfn.XLOOKUP($B12,'Base de données'!$B:$B,'Base de données'!$L:$L,"",0,1)) -> Hauts-de-France
B13: QOX3I | C13: =IF(B13="","-",_xlfn.XLOOKUP($B13,'Base de données'!$B:$B,SECRET!$X:$X,"",0,1)) -> Delmas Marianne | D13: =IF(B13="","-",_xlfn.XLOOKUP($B13,'Base de données'!$B:$B,'Base de données'!$A:$A,"",0,1)) -> 45689 | E13: =IF(B13="","-",_xlfn.XLOOKUP($B13,'Base de données'!$B:$B,'Base de données'!$L:$L,"",0,1)) -> Bourgogne-Franche-Comté
B14: Y221M | C14: =IF(B14="","-",_xlfn.XLOOKUP($B14,'Base de données'!$B:$B,SECRET!$X:$X,"",0,1)) -> Camus Antoinette | D14: =IF(B14="","-",_xlfn.XLOOKUP($B14,'Base de données'!$B:$B,'Base de données'!$A:$A,"",0,1)) -> 45689 | E14: =IF(B14="","-",_xlfn.XLOOKUP($B14,'Base de données'!$B:$B,'Base de données'!$L:$L,"",0,1)) -> Île-de-France
B15: 8ZRIS | C15: =IF(B15="","-",_xlfn.XLOOKUP($B15,'Base de données'!$B:$B,SECRET!$X:$X,"",0,1)) -> Perez Michel | D15: =IF(B15="","-",_xlfn.XLOOKUP($B15,'Base de données'!$B:$B,'Base de données'!$A:$A,"",0,1)) -> 45689 | E15: =IF(B15="","-",_xlfn.XLOOKUP($B15,'Base de données'!$B:$B,'Base de données'!$L:$L,"",0,1)) -> Occitanie
B16: I5UV9 | C16: =IF(B16="","-",_xlfn.XLOOKUP($B16,'Base de données'!$B:$B,SECRET!$X:$X,"",0,1)) -> Leclerc Victoire | D16: =IF(B16="","-",_xlfn.XLOOKUP($B16,'Base de données'!$B:$B,'Base de données'!$A:$A,"",0,1)) -> 45717 | E16: =IF(B16="","-",_xlfn.XLOOKUP($B16,'Base de données'!$B:$B,'Base de données'!$L:$L,"",0,1)) -> Île-de-France
B17: R8VT4 | C17: =IF(B17="","-",_xlfn.XLOOKUP($B17,'Base de données'!$B:$B,SECRET!$X:$X,"",0,1)) -> Bousquet Isabelle | D17: =IF(B17="","-",_xlfn.XLOOKUP($B17,'Base de données'!$B:$B,'Base de données'!$A:$A,"",0,1)) -> 45717 | E17: =IF(B17="","-",_xlfn.XLOOKUP($B17,'Base de données'!$B:$B,'Base de données'!$L:$L,"",0,1)) -> Normandie
B18: T0BCS | C18: =IF(B18="","-",_xlfn.XLOOKUP($B18,'Base de données'!$B:$B,SECRET!$X:$X,"",0,1)) -> Poirier Charles | D18: =IF(B18="","-",_xlfn.XLOOKUP($B18,'Base de données'!$B:$B,'Base de données'!$A:$A,"",0,1)) -> 45717 | E18: =IF(B18="","-",_xlfn.XLOOKUP($B18,'Base de données'!$B:$B,'Base de données'!$L:$L,"",0,1)) -> Île-de-France
... B92: U09KY | C92: =IF(B92="","-",_xlfn.XLOOKUP($B92,'Base de données'!$B:$B,SECRET!$X:$X,"",0,1)) -> Cohen Louis | D92: =IF(B92="","-",_xlfn.XLOOKUP($B92,'Base de données'!$B:$B,'Base de données'!$A:$A,"",0,1)) -> 45992 | E92: =IF(B92="","-",_xlfn.XLOOKUP($B92,'Base de données'!$B:$B,'Base de données'!$L:$L,"",0,1)) -> Corse
B93: 0 | C93: =IF(B93="","-",_xlfn.XLOOKUP($B93,'Base de données'!$B:$B,SECRET!$X:$X,"",0,1)) | D93: =IF(B93="","-",_xlfn.XLOOKUP($B93,'Base de données'!$B:$B,'Base de données'!$A:$A,"",0,1)) | E93: =IF(B93="","-",_xlfn.XLOOKUP($B93,'Base de données'!$B:$B,'Base de données'!$L:$L,"",0,1))
C94: =IF(B94="","-",_xlfn.XLOOKUP($B94,'Base de données'!$B:$B,SECRET!$X:$X,"",0,1)) -> - | D94: =IF(B94="","-",_xlfn.XLOOKUP($B94,'Base de données'!$B:$B,'Base de données'!$A:$A,"",0,1)) -> - | E94: =IF(B94="","-",_xlfn.XLOOKUP($B94,'Base de données'!$B:$B,'Base de données'!$L:$L,"",0,1)) -> -
C95: =IF(B95="","-",_xlfn.XLOOKUP($B95,'Base de données'!$B:$B,SECRET!$X:$X,"",0,1)) -> - | D95: =IF(B95="","-",_xlfn.XLOOKUP($B95,'Base de données'!$B:$B,'Base de données'!$A:$A,"",0,1)) -> - | E95: =IF(B95="","-",_xlfn.XLOOKUP($B95,'Base de données'!$B:$B,'Base de données'!$L:$L,"",0,1)) -> -
C96: =IF(B96="","-",_xlfn.XLOOKUP($B96,'Base de données'!$B:$B,SECRET!$X:$X,"",0,1)) -> - | D96: =IF(B96="","-",_xlfn.XLOOKUP($B96,'Base de données'!$B:$B,'Base de données'!$A:$A,"",0,1)) -> - | E96: =IF(B96="","-",_xlfn.XLOOKUP($B96,'Base de données'!$B:$B,'Base de données'!$L:$L,"",0,1)) -> -
C97: =IF(B97="","-",_xlfn.XLOOKUP($B97,'Base de données'!$B:$B,SECRET!$X:$X,"",0,1)) -> - | D97: =IF(B97="","-",_xlfn.XLOOKUP($B97,'Base de données'!$B:$B,'Base de données'!$A:$A,"",0,1)) -> - | E97: =IF(B97="","-",_xlfn.XLOOKUP($B97,'Base de données'!$B:$B,'Base de données'!$L:$L,"",0,1)) -> -
C98: =IF(B98="","-",_xlfn.XLOOKUP($B98,'Base de données'!$B:$B,SECRET!$X:$X,"",0,1)) -> - | D98: =IF(B98="","-",_xlfn.XLOOKUP($B98,'Base de données'!$B:$B,'Base de données'!$A:$A,"",0,1)) -> - | E98: =IF(B98="","-",_xlfn.XLOOKUP($B98,'Base de données'!$B:$B,'Base de données'!$L:$L,"",0,1)) -> -
C99: =IF(B99="","-",_xlfn.XLOOKUP($B99,'Base de données'!$B:$B,SECRET!$X:$X,"",0,1)) -> - | D99: =IF(B99="","-",_xlfn.XLOOKUP($B99,'Base de données'!$B:$B,'Base de données'!$A:$A,"",0,1)) -> - | E99: =IF(B99="","-",_xlfn.XLOOKUP($B99,'Base de données'!$B:$B,'Base de données'!$L:$L,"",0,1)) -> -
C100: =IF(B100="","-",_xlfn.XLOOKUP($B100,'Base de données'!$B:$B,SECRET!$X:$X,"",0,1)) -> - | D100: =IF(B100="","-",_xlfn.XLOOKUP($B100,'Base de données'!$B:$B,'Base de données'!$A:$A,"",0,1)) -> - | E100: =IF(B100="","-",_xlfn.XLOOKUP($B100,'Base de données'!$B:$B,'Base de données'!$L:$L,"",0,1)) -> -
C101: =IF(B101="","-",_xlfn.XLOOKUP($B101,'Base de données'!$B:$B,SECRET!$X:$X,"",0,1)) -> - | D101: =IF(B101="","-",_xlfn.XLOOKUP($B101,'Base de données'!$B:$B,'Base de données'!$A:$A,"",0,1)) -> - | E101: =IF(B101="","-",_xlfn.XLOOKUP($B101,'Base de données'!$B:$B,'Base de données'!$L:$L,"",0,1)) -> -
C102: =IF(B102="","-",_xlfn.XLOOKUP($B102,'Base de données'!$B:$B,SECRET!$X:$X,"",0,1)) -> - | D102: =IF(B102="","-",_xlfn.XLOOKUP($B102,'Base de données'!$B:$B,'Base de données'!$A:$A,"",0,1)) -> - | E102: =IF(B102="","-",_xlfn.XLOOKUP($B102,'Base de données'!$B:$B,'Base de données'!$L:$L,"",0,1)) -> -
C103: =IF(B103="","-",_xlfn.XLOOKUP($B103,'Base de données'!$B:$B,SECRET!$X:$X,"",0,1)) -> - | D103: =IF(B103="","-",_xlfn.XLOOKUP($B103,'Base de données'!$B:$B,'Base de données'!$A:$A,"",0,1)) -> - | E103: =IF(B103="","-",_xlfn.XLOOKUP($B103,'Base de données'!$B:$B,'Base de données'!$L:$L,"",0,1)) -> -
C104: =IF(B104="","-",_xlfn.XLOOKUP($B104,'Base de données'!$B:$B,SECRET!$X:$X,"",0,1)) -> - | D104: =IF(B104="","-",_xlfn.XLOOKUP($B104,'Base de données'!$B:$B,'Base de données'!$A:$A,"",0,1)) -> - | E104: =IF(B104="","-",_xlfn.XLOOKUP($B104,'Base de données'!$B:$B,'Base de données'!$L:$L,"",0,1)) -> -
C105: =IF(B105="","-",_xlfn.XLOOKUP($B105,'Base de données'!$B:$B,SECRET!$X:$X,"",0,1)) -> - | D105: =IF(B105="","-",_xlfn.XLOOKUP($B105,'Base de données'!$B:$B,'Base de données'!$A:$A,"",0,1)) -> - | E105: =IF(B105="","-",_xlfn.XLOOKUP($B105,'Base de données'!$B:$B,'Base de données'!$L:$L,"",0,1)) -> -
... C150: =IF(B150="","-",_xlfn.XLOOKUP($B150,'Base de données'!$B:$B,SECRET!$X:$X,"",0,1)) -> - | D150: =IF(B150="","-",_xlfn.XLOOKUP($B150,'Base de données'!$B:$B,'Base de données'!$A:$A,"",0,1)) -> - | E150: =IF(B150="","-",_xlfn.XLOOKUP($B150,'Base de données'!$B:$B,'Base de données'!$L:$L,"",0,1)) -> -

Sheet Sorties
B2: Sortie (en cours d'année)
B4: Matricule | C4: Nom Prénom | D4: Date sortie | E4: Région
B5: {=_xlfn.UNIQUE(SECRET!B:B)} -> Qui est sortie ?
B6: -
B7: I3SPC | C7: =IF(B7="","-",_xlfn.XLOOKUP($B7,'Base de données'!$B:$B,SECRET!$X:$X,"",0,1)) -> Boulanger Martine | D7: =IF(B7="","-",_xlfn.XLOOKUP($B7,'Base de données'!$B:$B,'Base de données'!$A:$A,"",0,-1)) -> 45778 | E7: =IF(B7="","-",_xlfn.XLOOKUP($B7,'Base de données'!$B:$B,'Base de données'!$L:$L,"",0,1)) -> Île-de-France
B8: JHHFN | C8: =IF(B8="","-",_xlfn.XLOOKUP($B8,'Base de données'!$B:$B,SECRET!$X:$X,"",0,1)) -> Pichon Rémy | D8: =IF(B8="","-",_xlfn.XLOOKUP($B8,'Base de données'!$B:$B,'Base de données'!$A:$A,"",0,-1)) -> 45658 | E8: =IF(B8="","-",_xlfn.XLOOKUP($B8,'Base de données'!$B:$B,'Base de données'!$L:$L,"",0,1)) -> Bretagne
B9: AQ2RR | C9: =IF(B9="","-",_xlfn.XLOOKUP($B9,'Base de données'!$B:$B,SECRET!$X:$X,"",0,1)) -> Antoine Noémi | D9: =IF(B9="","-",_xlfn.XLOOKUP($B9,'Base de données'!$B:$B,'Base de données'!$A:$A,"",0,-1)) -> 45931 | E9: =IF(B9="","-",_xlfn.XLOOKUP($B9,'Base de données'!$B:$B,'Base de données'!$L:$L,"",0,1)) -> Nouvelle-Aquitaine
B10: JU3RW | C10: =IF(B10="","-",_xlfn.XLOOKUP($B10,'Base de données'!$B:$B,SECRET!$X:$X,"",0,1)) -> Dijoux Laurent | D10: =IF(B10="","-",_xlfn.XLOOKUP($B10,'Base de données'!$B:$B,'Base de données'!$A:$A,"",0,-1)) -> 45689 | E10: =IF(B10="","-",_xlfn.XLOOKUP($B10,'Base de données'!$B:$B,'Base de données'!$L:$L,"",0,1)) -> Provence-Alpes-Côte d’Azur
B11: 1RDZB | C11: =IF(B11="","-",_xlfn.XLOOKUP($B11,'Base de données'!$B:$B,SECRET!$X:$X,"",0,1)) -> Camus Thierry | D11: =IF(B11="","-",_xlfn.XLOOKUP($B11,'Base de données'!$B:$B,'Base de données'!$A:$A,"",0,-1)) -> 45778 | E11: =IF(B11="","-",_xlfn.XLOOKUP($B11,'Base de données'!$B:$B,'Base de données'!$L:$L,"",0,1)) -> Nouvelle-Aquitaine
B12: CUQ5O | C12: =IF(B12="","-",_xlfn.XLOOKUP($B12,'Base de données'!$B:$B,SECRET!$X:$X,"",0,1)) -> Camus Christiane | D12: =IF(B12="","-",_xlfn.XLOOKUP($B12,'Base de données'!$B:$B,'Base de données'!$A:$A,"",0,-1)) -> 45870 | E12: =IF(B12="","-",_xlfn.XLOOKUP($B12,'Base de données'!$B:$B,'Base de données'!$L:$L,"",0,1)) -> Hauts-de-France
B13: NYNY1 | C13: =IF(B13="","-",_xlfn.XLOOKUP($B13,'Base de données'!$B:$B,SECRET!$X:$X,"",0,1)) -> Alexandre Hortense | D13: =IF(B13="","-",_xlfn.XLOOKUP($B13,'Base de données'!$B:$B,'Base de données'!$A:$A,"",0,-1)) -> 45931 | E13: =IF(B13="","-",_xlfn.XLOOKUP($B13,'Base de données'!$B:$B,'Base de données'!$L:$L,"",0,1)) -> Île-de-France
B14: 2UDL1 | C14: =IF(B14="","-",_xlfn.XLOOKUP($B14,'Base de données'!$B:$B,SECRET!$X:$X,"",0,1)) -> Lebreton Zacharie | D14: =IF(B14="","-",_xlfn.XLOOKUP($B14,'Base de données'!$B:$B,'Base de données'!$A:$A,"",0,-1)) -> 45870 | E14: =IF(B14="","-",_xlfn.XLOOKUP($B14,'Base de données'!$B:$B,'Base de données'!$L:$L,"",0,1)) -> Nouvelle-Aquitaine
B15: TY6IH | C15: =IF(B15="","-",_xlfn.XLOOKUP($B15,'Base de données'!$B:$B,SECRET!$X:$X,"",0,1)) -> Da Silva Xavier | D15: =IF(B15="","-",_xlfn.XLOOKUP($B15,'Base de données'!$B:$B,'Base de données'!$A:$A,"",0,-1)) -> 45658 | E15: =IF(B15="","-",_xlfn.XLOOKUP($B15,'Base de données'!$B:$B,'Base de données'!$L:$L,"",0,1)) -> Hauts-de-France
B16: QBERT | C16: =IF(B16="","-",_xlfn.XLOOKUP($B16,'Base de données'!$B:$B,SECRET!$X:$X,"",0,1)) -> Garnier Juliette | D16: =IF(B16="","-",_xlfn.XLOOKUP($B16,'Base de données'!$B:$B,'Base de données'!$A:$A,"",0,-1)) -> 45931 | E16: =IF(B16="","-",_xlfn.XLOOKUP($B16,'Base de données'!$B:$B,'Base de données'!$L:$L,"",0,1)) -> Centre-Val de Loire
B17: P0IIH | C17: =IF(B17="","-",_xlfn.XLOOKUP($B17,'Base de données'!$B:$B,SECRET!$X:$X,"",0,1)) -> Simon Aurore | D17: =IF(B17="","-",_xlfn.XLOOKUP($B17,'Base de données'!$B:$B,'Base de données'!$A:$A,"",0,-1)) -> 45658 | E17: =IF(B17="","-",_xlfn.XLOOKUP($B17,'Base de données'!$B:$B,'Base de données'!$L:$L,"",0,1)) -> Auvergne-Rhône-Alpes
B18: DOGY4 | C18: =IF(B18="","-",_xlfn.XLOOKUP($B18,'Base de données'!$B:$B,SECRET!$X:$X,"",0,1)) -> Turpin Dorothée | D18: =IF(B18="","-",_xlfn.XLOOKUP($B18,'Base de données'!$B:$B,'Base de données'!$A:$A,"",0,-1)) -> 45748 | E18: =IF(B18="","-",_xlfn.XLOOKUP($B18,'Base de données'!$B:$B,'Base de données'!$L:$L,"",0,1)) -> Île-de-France
... B70: 8Y304 | C70: =IF(B70="","-",_xlfn.XLOOKUP($B70,'Base de données'!$B:$B,SECRET!$X:$X,"",0,1)) -> Briand Stéphanie | D70: =IF(B70="","-",_xlfn.XLOOKUP($B70,'Base de données'!$B:$B,'Base de données'!$A:$A,"",0,-1)) -> 45931 | E70: =IF(B70="","-",_xlfn.XLOOKUP($B70,'Base de données'!$B:$B,'Base de données'!$L:$L,"",0,1)) -> Île-de-France
B71: 0 | C71: =IF(B71="","-",_xlfn.XLOOKUP($B71,'Base de données'!$B:$B,SECRET!$X:$X,"",0,1)) | D71: =IF(B71="","-",_xlfn.XLOOKUP($B71,'Base de données'!$B:$B,'Base de données'!$A:$A,"",0,-1)) | E71: =IF(B71="","-",_xlfn.XLOOKUP($B71,'Base de données'!$B:$B,'Base de données'!$L:$L,"",0,1))
C72: =IF(B72="","-",_xlfn.XLOOKUP($B72,'Base de données'!$B:$B,SECRET!$X:$X,"",0,1)) -> - | D72: =IF(B72="","-",_xlfn.XLOOKUP($B72,'Base de données'!$B:$B,'Base de données'!$A:$A,"",0,-1)) -> - | E72: =IF(B72="","-",_xlfn.XLOOKUP($B72,'Base de données'!$B:$B,'Base de données'!$L:$L,"",0,1)) -> -
C73: =IF(B73="","-",_xlfn.XLOOKUP($B73,'Base de données'!$B:$B,SECRET!$X:$X,"",0,1)) -> - | D73: =IF(B73="","-",_xlfn.XLOOKUP($B73,'Base de données'!$B:$B,'Base de données'!$A:$A,"",0,-1)) -> - | E73: =IF(B73="","-",_xlfn.XLOOKUP($B73,'Base de données'!$B:$B,'Base de données'!$L:$L,"",0,1)) -> -
C74: =IF(B74="","-",_xlfn.XLOOKUP($B74,'Base de données'!$B:$B,SECRET!$X:$X,"",0,1)) -> - | D74: =IF(B74="","-",_xlfn.XLOOKUP($B74,'Base de données'!$B:$B,'Base de données'!$A:$A,"",0,-1)) -> - | E74: =IF(B74="","-",_xlfn.XLOOKUP($B74,'Base de données'!$B:$B,'Base de données'!$L:$L,"",0,1)) -> -
C75: =IF(B75="","-",_xlfn.XLOOKUP($B75,'Base de données'!$B:$B,SECRET!$X:$X,"",0,1)) -> - | D75: =IF(B75="","-",_xlfn.XLOOKUP($B75,'Base de données'!$B:$B,'Base de données'!$A:$A,"",0,-1)) -> - | E75: =IF(B75="","-",_xlfn.XLOOKUP($B75,'Base de données'!$B:$B,'Base de données'!$L:$L,"",0,1)) -> -
C76: =IF(B76="","-",_xlfn.XLOOKUP($B76,'Base de données'!$B:$B,SECRET!$X:$X,"",0,1)) -> - | D76: =IF(B76="","-",_xlfn.XLOOKUP($B76,'Base de données'!$B:$B,'Base de données'!$A:$A,"",0,-1)) -> - | E76: =IF(B76="","-",_xlfn.XLOOKUP($B76,'Base de données'!$B:$B,'Base de données'!$L:$L,"",0,1)) -> -
C77: =IF(B77="","-",_xlfn.XLOOKUP($B77,'Base de données'!$B:$B,SECRET!$X:$X,"",0,1)) -> - | D77: =IF(B77="","-",_xlfn.XLOOKUP($B77,'Base de données'!$B:$B,'Base de données'!$A:$A,"",0,-1)) -> - | E77: =IF(B77="","-",_xlfn.XLOOKUP($B77,'Base de données'!$B:$B,'Base de données'!$L:$L,"",0,1)) -> -
C78: =IF(B78="","-",_xlfn.XLOOKUP($B78,'Base de données'!$B:$B,SECRET!$X:$X,"",0,1)) -> - | D78: =IF(B78="","-",_xlfn.XLOOKUP($B78,'Base de données'!$B:$B,'Base de données'!$A:$A,"",0,-1)) -> - | E78: =IF(B78="","-",_xlfn.XLOOKUP($B78,'Base de données'!$B:$B,'Base de données'!$L:$L,"",0,1)) -> -
C79: =IF(B79="","-",_xlfn.XLOOKUP($B79,'Base de données'!$B:$B,SECRET!$X:$X,"",0,1)) -> - | D79: =IF(B79="","-",_xlfn.XLOOKUP($B79,'Base de données'!$B:$B,'Base de données'!$A:$A,"",0,-1)) -> - | E79: =IF(B79="","-",_xlfn.XLOOKUP($B79,'Base de données'!$B:$B,'Base de données'!$L:$L,"",0,1)) -> -
C80: =IF(B80="","-",_xlfn.XLOOKUP($B80,'Base de données'!$B:$B,SECRET!$X:$X,"",0,1)) -> - | D80: =IF(B80="","-",_xlfn.XLOOKUP($B80,'Base de données'!$B:$B,'Base de données'!$A:$A,"",0,-1)) -> - | E80: =IF(B80="","-",_xlfn.XLOOKUP($B80,'Base de données'!$B:$B,'Base de données'!$L:$L,"",0,1)) -> -
C81: =IF(B81="","-",_xlfn.XLOOKUP($B81,'Base de données'!$B:$B,SECRET!$X:$X,"",0,1)) -> - | D81: =IF(B81="","-",_xlfn.XLOOKUP($B81,'Base de données'!$B:$B,'Base de données'!$A:$A,"",0,-1)) -> - | E81: =IF(B81="","-",_xlfn.XLOOKUP($B81,'Base de données'!$B:$B,'Base de données'!$L:$L,"",0,1)) -> -
C82: =IF(B82="","-",_xlfn.XLOOKUP($B82,'Base de données'!$B:$B,SECRET!$X:$X,"",0,1)) -> - | D82: =IF(B82="","-",_xlfn.XLOOKUP($B82,'Base de données'!$B:$B,'Base de données'!$A:$A,"",0,-1)) -> - | E82: =IF(B82="","-",_xlfn.XLOOKUP($B82,'Base de données'!$B:$B,'Base de données'!$L:$L,"",0,1)) -> -
C83: =IF(B83="","-",_xlfn.XLOOKUP($B83,'Base de données'!$B:$B,SECRET!$X:$X,"",0,1)) -> - | D83: =IF(B83="","-",_xlfn.XLOOKUP($B83,'Base de données'!$B:$B,'Base de données'!$A:$A,"",0,-1)) -> - | E83: =IF(B83="","-",_xlfn.XLOOKUP($B83,'Base de données'!$B:$B,'Base de données'!$L:$L,"",0,1)) -> -
... C150: =IF(B150="","-",_xlfn.XLOOKUP($B150,'Base de données'!$B:$B,SECRET!$X:$X,"",0,1)) -> - | D150: =IF(B150="","-",_xlfn.XLOOKUP($B150,'Base de données'!$B:$B,'Base de données'!$A:$A,"",0,-1)) -> - | E150: =IF(B150="","-",_xlfn.XLOOKUP($B150,'Base de données'!$B:$B,'Base de données'!$L:$L,"",0,1)) -> -

Sheet Entrées & Sorties
B2: Entrée ET sortie (en cours d'année)
B4: Matricule | C4: Nom Prénom | D4: Date entrée | E4: Date sortie
B5: {=_xlfn.UNIQUE(SECRET!A:A)} -> Entrée et sortie ?
B6: -
B7: G45AC | C7: =IF(B7="","-",_xlfn.XLOOKUP($B7,'Base de données'!$B:$B,SECRET!$X:$X,"",0,1)) -> Breton Gabrielle | D7: =IF(B7="","-",_xlfn.XLOOKUP($B7,'Base de données'!$B:$B,'Base de données'!$A:$A,"",0,1)) -> 45689 | E7: =IF(B7="","-",_xlfn.XLOOKUP($B7,'Base de données'!$B:$B,'Base de données'!$A:$A,"",0,-1)) -> 45748
B8: DZOIT | C8: =IF(B8="","-",_xlfn.XLOOKUP($B8,'Base de données'!$B:$B,SECRET!$X:$X,"",0,1)) -> Meunier Marcel | D8: =IF(B8="","-",_xlfn.XLOOKUP($B8,'Base de données'!$B:$B,'Base de données'!$A:$A,"",0,1)) -> 45689 | E8: =IF(B8="","-",_xlfn.XLOOKUP($B8,'Base de données'!$B:$B,'Base de données'!$A:$A,"",0,-1)) -> 45839
B9: QOX3I | C9: =IF(B9="","-",_xlfn.XLOOKUP($B9,'Base de données'!$B:$B,SECRET!$X:$X,"",0,1)) -> Delmas Marianne | D9: =IF(B9="","-",_xlfn.XLOOKUP($B9,'Base de données'!$B:$B,'Base de données'!$A:$A,"",0,1)) -> 45689 | E9: =IF(B9="","-",_xlfn.XLOOKUP($B9,'Base de données'!$B:$B,'Base de données'!$A:$A,"",0,-1)) -> 45748
B10: Y221M | C10: =IF(B10="","-",_xlfn.XLOOKUP($B10,'Base de données'!$B:$B,SECRET!$X:$X,"",0,1)) -> Camus Antoinette | D10: =IF(B10="","-",_xlfn.XLOOKUP($B10,'Base de données'!$B:$B,'Base de données'!$A:$A,"",0,1)) -> 45689 | E10: =IF(B10="","-",_xlfn.XLOOKUP($B10,'Base de données'!$B:$B,'Base de données'!$A:$A,"",0,-1)) -> 45809
B11: 8ZRIS | C11: =IF(B11="","-",_xlfn.XLOOKUP($B11,'Base de données'!$B:$B,SECRET!$X:$X,"",0,1)) -> Perez Michel | D11: =IF(B11="","-",_xlfn.XLOOKUP($B11,'Base de données'!$B:$B,'Base de données'!$A:$A,"",0,1)) -> 45689 | E11: =IF(B11="","-",_xlfn.XLOOKUP($B11,'Base de données'!$B:$B,'Base de données'!$A:$A,"",0,-1)) -> 45717
B12: 45NF8 | C12: =IF(B12="","-",_xlfn.XLOOKUP($B12,'Base de données'!$B:$B,SECRET!$X:$X,"",0,1)) -> Dupuy Mathilde | D12: =IF(B12="","-",_xlfn.XLOOKUP($B12,'Base de données'!$B:$B,'Base de données'!$A:$A,"",0,1)) -> 45748 | E12: =IF(B12="","-",_xlfn.XLOOKUP($B12,'Base de données'!$B:$B,'Base de données'!$A:$A,"",0,-1)) -> 45748
B13: 3WN6C | C13: =IF(B13="","-",_xlfn.XLOOKUP($B13,'Base de données'!$B:$B,SECRET!$X:$X,"",0,1)) -> Delorme Marc | D13: =IF(B13="","-",_xlfn.XLOOKUP($B13,'Base de données'!$B:$B,'Base de données'!$A:$A,"",0,1)) -> 45778 | E13: =IF(B13="","-",_xlfn.XLOOKUP($B13,'Base de données'!$B:$B,'Base de données'!$A:$A,"",0,-1)) -> 45778
B14: E7KKO | C14: =IF(B14="","-",_xlfn.XLOOKUP($B14,'Base de données'!$B:$B,SECRET!$X:$X,"",0,1)) -> Charrier François | D14: =IF(B14="","-",_xlfn.XLOOKUP($B14,'Base de données'!$B:$B,'Base de données'!$A:$A,"",0,1)) -> 45809 | E14: =IF(B14="","-",_xlfn.XLOOKUP($B14,'Base de données'!$B:$B,'Base de données'!$A:$A,"",0,-1)) -> 45870
B15: L8YK1 | C15: =IF(B15="","-",_xlfn.XLOOKUP($B15,'Base de données'!$B:$B,SECRET!$X:$X,"",0,1)) -> Tessier Anne | D15: =IF(B15="","-",_xlfn.XLOOKUP($B15,'Base de données'!$B:$B,'Base de données'!$A:$A,"",0,1)) -> 45809 | E15: =IF(B15="","-",_xlfn.XLOOKUP($B15,'Base de données'!$B:$B,'Base de données'!$A:$A,"",0,-1)) -> 45809
B16: PE1OL | C16: =IF(B16="","-",_xlfn.XLOOKUP($B16,'Base de données'!$B:$B,SECRET!$X:$X,"",0,1)) -> Vallée Odette | D16: =IF(B16="","-",_xlfn.XLOOKUP($B16,'Base de données'!$B:$B,'Base de données'!$A:$A,"",0,1)) -> 45839 | E16: =IF(B16="","-",_xlfn.XLOOKUP($B16,'Base de données'!$B:$B,'Base de données'!$A:$A,"",0,-1)) -> 45839
B17: BJWZO | C17: =IF(B17="","-",_xlfn.XLOOKUP($B17,'Base de données'!$B:$B,SECRET!$X:$X,"",0,1)) -> Gros Jacqueline | D17: =IF(B17="","-",_xlfn.XLOOKUP($B17,'Base de données'!$B:$B,'Base de données'!$A:$A,"",0,1)) -> 45870 | E17: =IF(B17="","-",_xlfn.XLOOKUP($B17,'Base de données'!$B:$B,'Base de données'!$A:$A,"",0,-1)) -> 45901
B18: UF9Q6 | C18: =IF(B18="","-",_xlfn.XLOOKUP($B18,'Base de données'!$B:$B,SECRET!$X:$X,"",0,1)) -> Hoareau Théophile | D18: =IF(B18="","-",_xlfn.XLOOKUP($B18,'Base de données'!$B:$B,'Base de données'!$A:$A,"",0,1)) -> 45901 | E18: =IF(B18="","-",_xlfn.XLOOKUP($B18,'Base de données'!$B:$B,'Base de données'!$A:$A,"",0,-1)) -> 45962
B19: 8Y304 | C19: =IF(B19="","-",_xlfn.XLOOKUP($B19,'Base de données'!$B:$B,SECRET!$X:$X,"",0,1)) -> Briand Stéphanie | D19: =IF(B19="","-",_xlfn.XLOOKUP($B19,'Base de données'!$B:$B,'Base de données'!$A:$A,"",0,1)) -> 45931 | E19: =IF(B19="","-",_xlfn.XLOOKUP($B19,'Base de données'!$B:$B,'Base de données'!$A:$A,"",0,-1)) -> 45931
B20: 0 | C20: =IF(B20="","-",_xlfn.XLOOKUP($B20,'Base de données'!$B:$B,SECRET!$X:$X,"",0,1)) | D20: =IF(B20="","-",_xlfn.XLOOKUP($B20,'Base de données'!$B:$B,'Base de données'!$A:$A,"",0,1)) | E20: =IF(B20="","-",_xlfn.XLOOKUP($B20,'Base de données'!$B:$B,'Base de données'!$A:$A,"",0,-1))
C21: =IF(B21="","-",_xlfn.XLOOKUP($B21,'Base de données'!$B:$B,SECRET!$X:$X,"",0,1)) -> - | D21: =IF(B21="","-",_xlfn.XLOOKUP($B21,'Base de données'!$B:$B,'Base de données'!$A:$A,"",0,1)) -> - | E21: =IF(B21="","-",_xlfn.XLOOKUP($B21,'Base de données'!$B:$B,'Base de données'!$A:$A,"",0,-1)) -> -
C22: =IF(B22="","-",_xlfn.XLOOKUP($B22,'Base de données'!$B:$B,SECRET!$X:$X,"",0,1)) -> - | D22: =IF(B22="","-",_xlfn.XLOOKUP($B22,'Base de données'!$B:$B,'Base de données'!$A:$A,"",0,1)) -> - | E22: =IF(B22="","-",_xlfn.XLOOKUP($B22,'Base de données'!$B:$B,'Base de données'!$A:$A,"",0,-1)) -> -
C23: =IF(B23="","-",_xlfn.XLOOKUP($B23,'Base de données'!$B:$B,SECRET!$X:$X,"",0,1)) -> - | D23: =IF(B23="","-",_xlfn.XLOOKUP($B23,'Base de données'!$B:$B,'Base de données'!$A:$A,"",0,1)) -> - | E23: =IF(B23="","-",_xlfn.XLOOKUP($B23,'Base de données'!$B:$B,'Base de données'!$A:$A,"",0,-1)) -> -
C24: =IF(B24="","-",_xlfn.XLOOKUP($B24,'Base de données'!$B:$B,SECRET!$X:$X,"",0,1)) -> - | D24: =IF(B24="","-",_xlfn.XLOOKUP($B24,'Base de données'!$B:$B,'Base de données'!$A:$A,"",0,1)) -> - | E24: =IF(B24="","-",_xlfn.XLOOKUP($B24,'Base de données'!$B:$B,'Base de données'!$A:$A,"",0,-1)) -> -
C25: =IF(B25="","-",_xlfn.XLOOKUP($B25,'Base de données'!$B:$B,SECRET!$X:$X,"",0,1)) -> - | D25: =IF(B25="","-",_xlfn.XLOOKUP($B25,'Base de données'!$B:$B,'Base de données'!$A:$A,"",0,1)) -> - | E25: =IF(B25="","-",_xlfn.XLOOKUP($B25,'Base de données'!$B:$B,'Base de données'!$A:$A,"",0,-1)) -> -
C26: =IF(B26="","-",_xlfn.XLOOKUP($B26,'Base de données'!$B:$B,SECRET!$X:$X,"",0,1)) -> - | D26: =IF(B26="","-",_xlfn.XLOOKUP($B26,'Base de données'!$B:$B,'Base de données'!$A:$A,"",0,1)) -> - | E26: =IF(B26="","-",_xlfn.XLOOKUP($B26,'Base de données'!$B:$B,'Base de données'!$A:$A,"",0,-1)) -> -
C27: =IF(B27="","-",_xlfn.XLOOKUP($B27,'Base de données'!$B:$B,SECRET!$X:$X,"",0,1)) -> - | D27: =IF(B27="","-",_xlfn.XLOOKUP($B27,'Base de données'!$B:$B,'Base de données'!$A:$A,"",0,1)) -> - | E27: =IF(B27="","-",_xlfn.XLOOKUP($B27,'Base de données'!$B:$B,'Base de données'!$A:$A,"",0,-1)) -> -
C28: =IF(B28="","-",_xlfn.XLOOKUP($B28,'Base de données'!$B:$B,SECRET!$X:$X,"",0,1)) -> - | D28: =IF(B28="","-",_xlfn.XLOOKUP($B28,'Base de données'!$B:$B,'Base de données'!$A:$A,"",0,1)) -> - | E28: =IF(B28="","-",_xlfn.XLOOKUP($B28,'Base de données'!$B:$B,'Base de données'!$A:$A,"",0,-1)) -> -
C29: =IF(B29="","-",_xlfn.XLOOKUP($B29,'Base de données'!$B:$B,SECRET!$X:$X,"",0,1)) -> - | D29: =IF(B29="","-",_xlfn.XLOOKUP($B29,'Base de données'!$B:$B,'Base de données'!$A:$A,"",0,1)) -> - | E29: =IF(B29="","-",_xlfn.XLOOKUP($B29,'Base de données'!$B:$B,'Base de données'!$A:$A,"",0,-1)) -> -
C30: =IF(B30="","-",_xlfn.XLOOKUP($B30,'Base de données'!$B:$B,SECRET!$X:$X,"",0,1)) -> - | D30: =IF(B30="","-",_xlfn.XLOOKUP($B30,'Base de données'!$B:$B,'Base de données'!$A:$A,"",0,1)) -> - | E30: =IF(B30="","-",_xlfn.XLOOKUP($B30,'Base de données'!$B:$B,'Base de données'!$A:$A,"",0,-1)) -> -
C31: =IF(B31="","-",_xlfn.XLOOKUP($B31,'Base de données'!$B:$B,SECRET!$X:$X,"",0,1)) -> - | D31: =IF(B31="","-",_xlfn.XLOOKUP($B31,'Base de données'!$B:$B,'Base de données'!$A:$A,"",0,1)) -> - | E31: =IF(B31="","-",_xlfn.XLOOKUP($B31,'Base de données'!$B:$B,'Base de données'!$A:$A,"",0,-1)) -> -
C32: =IF(B32="","-",_xlfn.XLOOKUP($B32,'Base de données'!$B:$B,SECRET!$X:$X,"",0,1)) -> - | D32: =IF(B32="","-",_xlfn.XLOOKUP($B32,'Base de données'!$B:$B,'Base de données'!$A:$A,"",0,1)) -> - | E32: =IF(B32="","-",_xlfn.XLOOKUP($B32,'Base de données'!$B:$B,'Base de données'!$A:$A,"",0,-1)) -> -
... C150: =IF(B150="","-",_xlfn.XLOOKUP($B150,'Base de données'!$B:$B,SECRET!$X:$X,"",0,1)) -> - | D150: =IF(B150="","-",_xlfn.XLOOKUP($B150,'Base de données'!$B:$B,'Base de données'!$A:$A,"",0,1)) -> - | E150: =IF(B150="","-",_xlfn.XLOOKUP($B150,'Base de données'!$B:$B,'Base de données'!$A:$A,"",0,-1)) -> -

Sheet SYNTHESE 
C1: F | D1: H
B2: Evolution des effectifs - HC | C2: Femme | D2: Homme | E2: total
B3: 45658 | C3: =IF(COUNTIFS('Base de données'!$A:$A,$B3,'Base de données'!$E:$E,C$1)=0,"-",COUNTIFS('Base de données'!$A:$A,$B3,'Base de données'!$E:$E,C$1)) -> 131 | D3: =IF(COUNTIFS('Base de données'!$A:$A,$B3,'Base de données'!$E:$E,D$1)=0,"-",COUNTIFS('Base de données'!$A:$A,$B3,'Base de données'!$E:$E,D$1)) -> 147 | E3: =IF(SUM(C3:D3)=0,"-",SUM(C3:D3)) -> 278 | G3: ESSAYEZ PAR VOUS-MÊMES :
B4: 45689 | C4: =IF(COUNTIFS('Base de données'!$A:$A,$B4,'Base de données'!$E:$E,C$1)=0,"-",COUNTIFS('Base de données'!$A:$A,$B4,'Base de données'!$E:$E,C$1)) -> 133 | D4: =IF(COUNTIFS('Base de données'!$A:$A,$B4,'Base de données'!$E:$E,D$1)=0,"-",COUNTIFS('Base de données'!$A:$A,$B4,'Base de données'!$E:$E,D$1)) -> 150 | E4: =IF(SUM(C4:D4)=0,"-",SUM(C4:D4)) -> 283 | G4: Après avoir examiné l'ensemble des tableaux ci-dessous : Réalisez une simulation d'une année incomplète. Dans l'onglet "Base de données" : supprimez les lignes correspondantes aux mois de décembre, novembre et octobre (par exemple). Vous constaterez que les formules s'adaptent automatiquement au dernier mois disponible. Ainsi, le fichier est exploitable dès demain dans n'importe quelle entreprise.
B5: 45717 | C5: =IF(COUNTIFS('Base de données'!$A:$A,$B5,'Base de données'!$E:$E,C$1)=0,"-",COUNTIFS('Base de données'!$A:$A,$B5,'Base de données'!$E:$E,C$1)) -> 132 | D5: =IF(COUNTIFS('Base de données'!$A:$A,$B5,'Base de données'!$E:$E,D$1)=0,"-",COUNTIFS('Base de données'!$A:$A,$B5,'Base de données'!$E:$E,D$1)) -> 150 | E5: =IF(SUM(C5:D5)=0,"-",SUM(C5:D5)) -> 282
B6: 45748 | C6: =IF(COUNTIFS('Base de données'!$A:$A,$B6,'Base de données'!$E:$E,C$1)=0,"-",COUNTIFS('Base de données'!$A:$A,$B6,'Base de données'!$E:$E,C$1)) -> 133 | D6: =IF(COUNTIFS('Base de données'!$A:$A,$B6,'Base de données'!$E:$E,D$1)=0,"-",COUNTIFS('Base de données'!$A:$A,$B6,'Base de données'!$E:$E,D$1)) -> 148 | E6: =IF(SUM(C6:D6)=0,"-",SUM(C6:D6)) -> 281
B7: 45778 | C7: =IF(COUNTIFS('Base de données'!$A:$A,$B7,'Base de données'!$E:$E,C$1)=0,"-",COUNTIFS('Base de données'!$A:$A,$B7,'Base de données'!$E:$E,C$1)) -> 131 | D7: =IF(COUNTIFS('Base de données'!$A:$A,$B7,'Base de données'!$E:$E,D$1)=0,"-",COUNTIFS('Base de données'!$A:$A,$B7,'Base de données'!$E:$E,D$1)) -> 149 | E7: =IF(SUM(C7:D7)=0,"-",SUM(C7:D7)) -> 280
B8: 45809 | C8: =IF(COUNTIFS('Base de données'!$A:$A,$B8,'Base de données'!$E:$E,C$1)=0,"-",COUNTIFS('Base de données'!$A:$A,$B8,'Base de données'!$E:$E,C$1)) -> 133 | D8: =IF(COUNTIFS('Base de données'!$A:$A,$B8,'Base de données'!$E:$E,D$1)=0,"-",COUNTIFS('Base de données'!$A:$A,$B8,'Base de données'!$E:$E,D$1)) -> 149 | E8: =IF(SUM(C8:D8)=0,"-",SUM(C8:D8)) -> 282
B9: 45839 | C9: =IF(COUNTIFS('Base de données'!$A:$A,$B9,'Base de données'!$E:$E,C$1)=0,"-",COUNTIFS('Base de données'!$A:$A,$B9,'Base de données'!$E:$E,C$1)) -> 135 | D9: =IF(COUNTIFS('Base de données'!$A:$A,$B9,'Base de données'!$E:$E,D$1)=0,"-",COUNTIFS('Base de données'!$A:$A,$B9,'Base de données'!$E:$E,D$1)) -> 150 | E9: =IF(SUM(C9:D9)=0,"-",SUM(C9:D9)) -> 285
B10: 45870 | C10: =IF(COUNTIFS('Base de données'!$A:$A,$B10,'Base de données'!$E:$E,C$1)=0,"-",COUNTIFS('Base de données'!$A:$A,$B10,'Base de données'!$E:$E,C$1)) -> 135 | D10: =IF(COUNTIFS('Base de données'!$A:$A,$B10,'Base de données'!$E:$E,D$1)=0,"-",COUNTIFS('Base de données'!$A:$A,$B10,'Base de données'!$E:$E,D$1)) -> 151 | E10: =IF(SUM(C10:D10)=0,"-",SUM(C10:D10)) -> 286
B11: 45901 | C11: =IF(COUNTIFS('Base de données'!$A:$A,$B11,'Base de données'!$E:$E,C$1)=0,"-",COUNTIFS('Base de données'!$A:$A,$B11,'Base de données'!$E:$E,C$1)) -> 141 | D11: =IF(COUNTIFS('Base de données'!$A:$A,$B11,'Base de données'!$E:$E,D$1)=0,"-",COUNTIFS('Base de données'!$A:$A,$B11,'Base de données'!$E:$E,D$1)) -> 149 | E11: =IF(SUM(C11:D11)=0,"-",SUM(C11:D11)) -> 290
B12: 45931 | C12: =IF(COUNTIFS('Base de données'!$A:$A,$B12,'Base de données'!$E:$E,C$1)=0,"-",COUNTIFS('Base de données'!$A:$A,$B12,'Base de données'!$E:$E,C$1)) -> 144 | D12: =IF(COUNTIFS('Base de données'!$A:$A,$B12,'Base de données'!$E:$E,D$1)=0,"-",COUNTIFS('Base de données'!$A:$A,$B12,'Base de données'!$E:$E,D$1)) -> 151 | E12: =IF(SUM(C12:D12)=0,"-",SUM(C12:D12)) -> 295
B13: 45962 | C13: =IF(COUNTIFS('Base de données'!$A:$A,$B13,'Base de données'!$E:$E,C$1)=0,"-",COUNTIFS('Base de données'!$A:$A,$B13,'Base de données'!$E:$E,C$1)) -> 145 | D13: =IF(COUNTIFS('Base de données'!$A:$A,$B13,'Base de données'!$E:$E,D$1)=0,"-",COUNTIFS('Base de données'!$A:$A,$B13,'Base de données'!$E:$E,D$1)) -> 153 | E13: =IF(SUM(C13:D13)=0,"-",SUM(C13:D13)) -> 298
B14: 45992 | C14: =IF(COUNTIFS('Base de données'!$A:$A,$B14,'Base de données'!$E:$E,C$1)=0,"-",COUNTIFS('Base de données'!$A:$A,$B14,'Base de données'!$E:$E,C$1)) -> 146 | D14: =IF(COUNTIFS('Base de données'!$A:$A,$B14,'Base de données'!$E:$E,D$1)=0,"-",COUNTIFS('Base de données'!$A:$A,$B14,'Base de données'!$E:$E,D$1)) -> 154 | E14: =IF(SUM(C14:D14)=0,"-",SUM(C14:D14)) -> 300
B18: Mouvements | C18: 45658 | D18: 45689 | E18: 45717 | F18: 45748 | G18: 45778 | H18: 45809 | I18: 45839 | J18: 45870 | K18: 45901 | L18: 45931 | M18: 45962 | N18: 45992 | O18: TOTAL
B19: Entrée | C19: =COUNTIF($D$56:$D$201,C$18) -> 0 | D19: =COUNTIF($D$56:$D$201,D$18) -> 9 | E19: =COUNTIF($D$56:$D$201,E$18) -> 7 | F19: =COUNTIF($D$56:$D$201,F$18) -> 5 | G19: =COUNTIF($D$56:$D$201,G$18) -> 7 | H19: =COUNTIF($D$56:$D$201,H$18) -> 7 | I19: =COUNTIF($D$56:$D$201,I$18) -> 10 | J19: =COUNTIF($D$56:$D$201,J$18) -> 8 | ... N19: =COUNTIF($D$56:$D$201,N$18) -> 5 | O19: =SUM(C19:N19) -> 86
B20: Sortie | C20: =COUNTIF($I$56:$I$201,C$18) -> 4 | D20: =COUNTIF($I$56:$I$201,D$18) -> 8 | E20: =COUNTIF($I$56:$I$201,E$18) -> 6 | F20: =COUNTIF($I$56:$I$201,F$18) -> 8 | G20: =COUNTIF($I$56:$I$201,G$18) -> 5 | H20: =COUNTIF($I$56:$I$201,H$18) -> 7 | I20: =COUNTIF($I$56:$I$201,I$18) -> 7 | J20: =COUNTIF($I$56:$I$201,J$18) -> 6 | ... N20: =COUNTIF($I$56:$I$201,N$18) -> 0 | O20: =SUM(C20:N20) -> 64
B21: Variation | C21: =C19-C20 -> -4 | D21: =D19-D20 -> 1 | E21: =E19-E20 -> 1 | F21: =F19-F20 -> -3 | G21: =G19-G20 -> 2 | H21: =H19-H20 -> 0 | I21: =I19-I20 -> 3 | J21: =J19-J20 -> 2 | ... N21: =N19-N20 -> 5
B22: * Pour information : les mouvements sont comparés au mois précédent, il n’y a donc aucune entrée en janvier et aucune sortie le dernier mois de l’extraction.
B24: Effectif fin de mois | C24: =E3 -> 278 | D24: =IF(AND(D$19=0,D$20=0),"-",C$24+D$19-C$20) -> 283 | E24: =IF(AND(E$19=0,E$20=0),"-",D$24+E$19-D$20) -> 282 | F24: =IF(AND(F$19=0,F$20=0),"-",E$24+F$19-E$20) -> 281 | G24: =IF(AND(G$19=0,G$20=0),"-",F$24+G$19-F$20) -> 280 | H24: =IF(AND(H$19=0,H$20=0),"-",G$24+H$19-G$20) -> 282 | I24: =IF(AND(I$19=0,I$20=0),"-",H$24+I$19-H$20) -> 285 | J24: =IF(AND(J$19=0,J$20=0),"-",I$24+J$19-I$20) -> 286 | K24: =IF(AND(K$19=0,K$20=0),"-",J$24+K$19-J$20) -> 290 | ... N24: =IF(AND(N$19=0,N$20=0),"-",M$24+N$19-M$20) -> 300
B25: ctrl | C25: =IF(C$24="-","-",C$24-VLOOKUP(C$18,$B$3:$E$14,4,0)) -> 0 | D25: =IF(D$24="-","-",D$24-VLOOKUP(D$18,$B$3:$E$14,4,0)) -> 0 | E25: =IF(E$24="-","-",E$24-VLOOKUP(E$18,$B$3:$E$14,4,0)) -> 0 | F25: =IF(F$24="-","-",F$24-VLOOKUP(F$18,$B$3:$E$14,4,0)) -> 0 | G25: =IF(G$24="-","-",G$24-VLOOKUP(G$18,$B$3:$E$14,4,0)) -> 0 | H25: =IF(H$24="-","-",H$24-VLOOKUP(H$18,$B$3:$E$14,4,0)) -> 0 | I25: =IF(I$24="-","-",I$24-VLOOKUP(I$18,$B$3:$E$14,4,0)) -> 0 | J25: =IF(J$24="-","-",J$24-VLOOKUP(J$18,$B$3:$E$14,4,0)) -> 0 | ... N25: =IF(N$24="-","-",N$24-VLOOKUP(N$18,$B$3:$E$14,4,0)) -> 0
V26: x
B29: Synthèse par région | H29: Région | I29: Île-de-France
C30: Entrée | D30: Sortie | E30: Variation
B31: Auvergne-Rhône-Alpes | C31: =COUNTIF($E$56:$E$201,$B31) -> 4 | D31: =COUNTIF($J$56:$J$201,$B31) -> 3 | E31: =(C31-D31) -> 1 | H31: Étiquettes de lignes | I31: Nombre de Matricule
B32: Bourgogne-Franche-Comté | C32: =COUNTIF($E$56:$E$201,$B32) -> 7 | D32: =COUNTIF($J$56:$J$201,$B32) -> 5 | E32: =(C32-D32) -> 2 | H32: 45658 | I32: 64
B33: Bretagne | C33: =COUNTIF($E$56:$E$201,$B33) -> 3 | D33: =COUNTIF($J$56:$J$201,$B33) -> 4 | E33: =(C33-D33) -> -1 | H33: 45689 | I33: 67
B34: Centre-Val de Loire | C34: =COUNTIF($E$56:$E$201,$B34) -> 6 | D34: =COUNTIF($J$56:$J$201,$B34) -> 5 | E34: =(C34-D34) -> 1 | H34: 45717 | I34: 66
B35: Corse | C35: =COUNTIF($E$56:$E$201,$B35) -> 11 | D35: =COUNTIF($J$56:$J$201,$B35) -> 2 | E35: =(C35-D35) -> 9 | H35: 45748 | I35: 63
B36: Grand Est | C36: =COUNTIF($E$56:$E$201,$B36) -> 4 | D36: =COUNTIF($J$56:$J$201,$B36) -> 2 | E36: =(C36-D36) -> 2 | H36: 45778 | I36: 61
B37: Hauts-de-France | C37: =COUNTIF($E$56:$E$201,$B37) -> 10 | D37: =COUNTIF($J$56:$J$201,$B37) -> 8 | E37: =(C37-D37) -> 2 | H37: 45809 | I37: 61
B38: Île-de-France | C38: =COUNTIF($E$56:$E$201,$B38) -> 20 | D38: =COUNTIF($J$56:$J$201,$B38) -> 20 | E38: =(C38-D38) -> 0 | H38: 45839 | I38: 60
B39: Normandie | C39: =COUNTIF($E$56:$E$201,$B39) -> 3 | D39: =COUNTIF($J$56:$J$201,$B39) -> 1 | E39: =(C39-D39) -> 2 | H39: 45870 | I39: 59
B40: Nouvelle-Aquitaine | C40: =COUNTIF($E$56:$E$201,$B40) -> 2 | D40: =COUNTIF($J$56:$J$201,$B40) -> 6 | E40: =(C40-D40) -> -4 | H40: 45901 | I40: 60
B41: Occitanie | C41: =COUNTIF($E$56:$E$201,$B41) -> 5 | D41: =COUNTIF($J$56:$J$201,$B41) -> 3 | E41: =(C41-D41) -> 2 | H41: 45931 | I41: 62
B42: Pays de la Loire | C42: =COUNTIF($E$56:$E$201,$B42) -> 8 | D42: =COUNTIF($J$56:$J$201,$B42) -> 2 | E42: =(C42-D42) -> 6 | H42: 45962 | I42: 63
B43: Provence-Alpes-Côte d’Azur | C43: =COUNTIF($E$56:$E$201,$B43) -> 3 | D43: =COUNTIF($J$56:$J$201,$B43) -> 3 | E43: =(C43-D43) -> 0 | H43: 45992 | I43: 64
B44: TOTAL | C44: =SUM(C31:C43) -> 86 | D44: =SUM(D31:D43) -> 64 | E44: =(C44-D44) -> 22 | H44: Total général | I44: 750
B46: ctrl | C46: =$C$44-$O$19 -> 0 | D46: =$D$44-$O$20 -> 0 | H46: Choisissez n'importe quelle région, puis comparez l'effectif de janvier à décembre. Vous verrez que les formules sont cohérentes avec le TCD, donc fiables. Si vous supprimez des mois (lors de votre test). Pensez à actualiser le TCD !
B51: Entrée (en cours d'année) | G51: Sortie (en cours d'année) | L51: Entrée ET sortie (en cours d'année)
...

Sheet SECRET
A1: Entrée et sortie ? | B1: Qui est sortie ? | C1: check sortie (n'2) | D1: check sortie (n'1) | E1: Qui est entré ? | F1: Sortie en cours d'année ? | G1: Présent le dernier mois ? | H1: Entrée en cours d'année ? | I1: Présent le premier mois ? | J1: Mouvement durant l'année ? | K1: 45658 | L1: 45689 | M1: 45717 | N1: 45748 | O1: 45778 | P1: 45809 | Q1: 45839 | R1: 45870 | S1: 45901 | T1: 45931 | U1: 45962 | V1: 45992 | X1: Nom Prénom | Y1: Nb de mois présent | AA1: {=INDIRECT("'Base de données'!A" & ROW(Y1))} -> Mois extraction | AB1: {=INDIRECT("'Base de données'!B" & ROW(Z1))} -> Matricule | AD1: (max) | AE1: =MAX(AE3:AE16) -> 45992
A2: =IF(IF(AND($B2<>"-",$B2=$E2),"Entrée et sortie","-")="Entrée et sortie",'Base de données'!$B2,"-") -> - | B2: =_xlfn.XLOOKUP($AB2,$D:$D,$C:$C,"-",0,-1) -> - | C2: =IF($AA2<>$AE$1,$D2,"-") -> - | D2: =IF($F2="sortie en cours d'année",'Base de données'!$B2,"-") -> - | E2: =IF($H2="entrée en cours d'année",'Base de données'!$B2,"-") -> - | F2: =IF(AND(G2=0,J2="mouvement"),"sortie en cours d'année","") | G2: =IF($J2="mouvement",_xlfn.XLOOKUP('Base de données'!$B2,$V:$V,$V:$V,0),"") | H2: =IF(AND(I2=0,J2="mouvement"),"entrée en cours d'année","") | I2: =IF($J2="mouvement",_xlfn.XLOOKUP('Base de données'!$B2,$K:$K,$K:$K,0),"") | J2: =IF(AND(Y2<>MAX(Y:Y),COUNTIF(K2:V2,'Base de données'!$B2)>0),"mouvement","") | K2: =IF(K$1>$AE$1,"-",IFERROR(IF(DATEDIF('Base de données'!$A2,K$1,"d")<>0,"",'Base de données'!$B2),"")) -> GPNP7 | L2: =IF(L$1>$AE$1,"-",IFERROR(IF(DATEDIF('Base de données'!$A2,L$1,"d")<>0,"",'Base de données'!$B2),"")) | M2: =IF(M$1>$AE$1,"-",IFERROR(IF(DATEDIF('Base de données'!$A2,M$1,"d")<>0,"",'Base de données'!$B2),"")) | N2: =IF(N$1>$AE$1,"-",IFERROR(IF(DATEDIF('Base de données'!$A2,N$1,"d")<>0,"",'Base de données'!$B2),"")) | O2: =IF(O$1>$AE$1,"-",IFERROR(IF(DATEDIF('Base de données'!$A2,O$1,"d")<>0,"",'Base de données'!$B2),"")) | P2: =IF(P$1>$AE$1,"-",IFERROR(IF(DATEDIF('Base de données'!$A2,P$1,"d")<>0,"",'Base de données'!$B2),"")) | Q2: =IF(Q$1>$AE$1,"-",IFERROR(IF(DATEDIF('Base de données'!$A2,Q$1,"d")<>0,"",'Base de données'!$B2),"")) | R2: =IF(R$1>$AE$1,"-",IFERROR(IF(DATEDIF('Base de données'!$A2,R$1,"d")<>0,"",'Base de données'!$B2),"")) | ... V2: =IF(V$1>$AE$1,"-",IFERROR(IF(DATEDIF('Base de données'!$A2,V$1,"d")<>0,"",'Base de données'!$B2),"")) | X2: ='Base de données'!$C2&" "&'Base de données'!$D2 -> Perret Agnès | Y2: =COUNTIF('Base de données'!$B:$B,'Base de données'!$B2) -> 12 | AA2: {=INDIRECT("'Base de données'!A" & ROW(Y2))} -> 45658 | AB2: {=INDIRECT("'Base de données'!B" & ROW(Z2))} -> GPNP7
A3: =IF(IF(AND($B3<>"-",$B3=$E3),"Entrée et sortie","-")="Entrée et sortie",'Base de données'!$B3,"-") -> - | B3: =_xlfn.XLOOKUP($AB3,$D:$D,$C:$C,"-",0,-1) -> - | C3: =IF($AA3<>$AE$1,$D3,"-") -> - | D3: =IF($F3="sortie en cours d'année",'Base de données'!$B3,"-") -> - | E3: =IF($H3="entrée en cours d'année",'Base de données'!$B3,"-") -> - | F3: =IF(AND(G3=0,J3="mouvement"),"sortie en cours d'année","") | G3: =IF($J3="mouvement",_xlfn.XLOOKUP('Base de données'!$B3,$V:$V,$V:$V,0),"") | H3: =IF(AND(I3=0,J3="mouvement"),"entrée en cours d'année","") | I3: =IF($J3="mouvement",_xlfn.XLOOKUP('Base de données'!$B3,$K:$K,$K:$K,0),"") | J3: =IF(AND(Y3<>MAX(Y:Y),COUNTIF(K3:V3,'Base de données'!$B3)>0),"mouvement","") | K3: =IF(K$1>$AE$1,"-",IFERROR(IF(DATEDIF('Base de données'!$A3,K$1,"d")<>0,"",'Base de données'!$B3),"")) -> DKKLE | L3: =IF(L$1>$AE$1,"-",IFERROR(IF(DATEDIF('Base de données'!$A3,L$1,"d")<>0,"",'Base de données'!$B3),"")) | M3: =IF(M$1>$AE$1,"-",IFERROR(IF(DATEDIF('Base de données'!$A3,M$1,"d")<>0,"",'Base de données'!$B3),"")) | N3: =IF(N$1>$AE$1,"-",IFERROR(IF(DATEDIF('Base de données'!$A3,N$1,"d")<>0,"",'Base de données'!$B3),"")) | O3: =IF(O$1>$AE$1,"-",IFERROR(IF(DATEDIF('Base de données'!$A3,O$1,"d")<>0,"",'Base de données'!$B3),"")) | P3: =IF(P$1>$AE$1,"-",IFERROR(IF(DATEDIF('Base de données'!$A3,P$1,"d")<>0,"",'Base de données'!$B3),"")) | Q3: =IF(Q$1>$AE$1,"-",IFERROR(IF(DATEDIF('Base de données'!$A3,Q$1,"d")<>0,"",'Base de données'!$B3),"")) | R3: =IF(R$1>$AE$1,"-",IFERROR(IF(DATEDIF('Base de données'!$A3,R$1,"d")<>0,"",'Base de données'!$B3),"")) | ... V3: =IF(V$1>$AE$1,"-",IFERROR(IF(DATEDIF('Base de données'!$A3,V$1,"d")<>0,"",'Base de données'!$B3),"")) | X3: ='Base de données'!$C3&" "&'Base de données'!$D3 -> Baron Danielle | Y3: =COUNTIF('Base de données'!$B:$B,'Base de données'!$B3) -> 12 | AA3: {=INDIRECT("'Base de données'!A" & ROW(Y3))} -> 45658 | AB3: {=INDIRECT("'Base de données'!B" & ROW(Z3))} -> DKKLE | AD3: {=_xlfn.UNIQUE('Base de données'!A:A)} -> Mois extraction
A4: =IF(IF(AND($B4<>"-",$B4=$E4),"Entrée et sortie","-")="Entrée et sortie",'Base de données'!$B4,"-") -> - | B4: =_xlfn.XLOOKUP($AB4,$D:$D,$C:$C,"-",0,-1) -> - | C4: =IF($AA4<>$AE$1,$D4,"-") -> - | D4: =IF($F4="sortie en cours d'année",'Base de données'!$B4,"-") -> - | E4: =IF($H4="entrée en cours d'année",'Base de données'!$B4,"-") -> - | F4: =IF(AND(G4=0,J4="mouvement"),"sortie en cours d'année","") | G4: =IF($J4="mouvement",_xlfn.XLOOKUP('Base de données'!$B4,$V:$V,$V:$V,0),"") | H4: =IF(AND(I4=0,J4="mouvement"),"entrée en cours d'année","") | I4: =IF($J4="mouvement",_xlfn.XLOOKUP('Base de données'!$B4,$K:$K,$K:$K,0),"") | J4: =IF(AND(Y4<>MAX(Y:Y),COUNTIF(K4:V4,'Base de données'!$B4)>0),"mouvement","") | K4: =IF(K$1>$AE$1,"-",IFERROR(IF(DATEDIF('Base de données'!$A4,K$1,"d")<>0,"",'Base de données'!$B4),"")) -> X43EK | L4: =IF(L$1>$AE$1,"-",IFERROR(IF(DATEDIF('Base de données'!$A4,L$1,"d")<>0,"",'Base de données'!$B4),"")) | M4: =IF(M$1>$AE$1,"-",IFERROR(IF(DATEDIF('Base de données'!$A4,M$1,"d")<>0,"",'Base de données'!$B4),"")) | N4: =IF(N$1>$AE$1,"-",IFERROR(IF(DATEDIF('Base de données'!$A4,N$1,"d")<>0,"",'Base de données'!$B4),"")) | O4: =IF(O$1>$AE$1,"-",IFERROR(IF(DATEDIF('Base de données'!$A4,O$1,"d")<>0,"",'Base de données'!$B4),"")) | P4: =IF(P$1>$AE$1,"-",IFERROR(IF(DATEDIF('Base de données'!$A4,P$1,"d")<>0,"",'Base de données'!$B4),"")) | Q4: =IF(Q$1>$AE$1,"-",IFERROR(IF(DATEDIF('Base de données'!$A4,Q$1,"d")<>0,"",'Base de données'!$B4),"")) | R4: =IF(R$1>$AE$1,"-",IFERROR(IF(DATEDIF('Base de données'!$A4,R$1,"d")<>0,"",'Base de données'!$B4),"")) | ... V4: =IF(V$1>$AE$1,"-",IFERROR(IF(DATEDIF('Base de données'!$A4,V$1,"d")<>0,"",'Base de données'!$B4),"")) | X4: ='Base de données'!$C4&" "&'Base de données'!$D4 -> Aubry Georges | Y4: =COUNTIF('Base de données'!$B:$B,'Base de données'!$B4) -> 12 | AA4: {=INDIRECT("'Base de données'!A" & ROW(Y4))} -> 45658 | AB4: {=INDIRECT("'Base de données'!B" & ROW(Z4))} -> X43EK | AD4: 45658 | AE4: =IF(AD4>1900,AD4,"") -> 45658
A5: =IF(IF(AND($B5<>"-",$B5=$E5),"Entrée et sortie","-")="Entrée et sortie",'Base de données'!$B5,"-") -> - | B5: =_xlfn.XLOOKUP($AB5,$D:$D,$C:$C,"-",0,-1) -> - | C5: =IF($AA5<>$AE$1,$D5,"-") -> - | D5: =IF($F5="sortie en cours d'année",'Base de données'!$B5,"-") -> - | E5: =IF($H5="entrée en cours d'année",'Base de données'!$B5,"-") -> - | F5: =IF(AND(G5=0,J5="mouvement"),"sortie en cours d'année","") | G5: =IF($J5="mouvement",_xlfn.XLOOKUP('Base de données'!$B5,$V:$V,$V:$V,0),"") | H5: =IF(AND(I5=0,J5="mouvement"),"entrée en cours d'année","") | I5: =IF($J5="mouvement",_xlfn.XLOOKUP('Base de données'!$B5,$K:$K,$K:$K,0),"") | J5: =IF(AND(Y5<>MAX(Y:Y),COUNTIF(K5:V5,'Base de données'!$B5)>0),"mouvement","") | K5: =IF(K$1>$AE$1,"-",IFERROR(IF(DATEDIF('Base de données'!$A5,K$1,"d")<>0,"",'Base de données'!$B5),"")) -> IDCZB | L5: =IF(L$1>$AE$1,"-",IFERROR(IF(DATEDIF('Base de données'!$A5,L$1,"d")<>0,"",'Base de données'!$B5),"")) | M5: =IF(M$1>$AE$1,"-",IFERROR(IF(DATEDIF('Base de données'!$A5,M$1,"d")<>0,"",'Base de données'!$B5),"")) | N5: =IF(N$1>$AE$1,"-",IFERROR(IF(DATEDIF('Base de données'!$A5,N$1,"d")<>0,"",'Base de données'!$B5),"")) | O5: =IF(O$1>$AE$1,"-",IFERROR(IF(DATEDIF('Base de données'!$A5,O$1,"d")<>0,"",'Base de données'!$B5),"")) | P5: =IF(P$1>$AE$1,"-",IFERROR(IF(DATEDIF('Base de données'!$A5,P$1,"d")<>0,"",'Base de données'!$B5),"")) | Q5: =IF(Q$1>$AE$1,"-",IFERROR(IF(DATEDIF('Base de données'!$A5,Q$1,"d")<>0,"",'Base de données'!$B5),"")) | R5: =IF(R$1>$AE$1,"-",IFERROR(IF(DATEDIF('Base de données'!$A5,R$1,"d")<>0,"",'Base de données'!$B5),"")) | ... V5: =IF(V$1>$AE$1,"-",IFERROR(IF(DATEDIF('Base de données'!$A5,V$1,"d")<>0,"",'Base de données'!$B5),"")) | X5: ='Base de données'!$C5&" "&'Base de données'!$D5 -> Pages Emmanuel | Y5: =COUNTIF('Base de données'!$B:$B,'Base de données'!$B5) -> 12 | AA5: {=INDIRECT("'Base de données'!A" & ROW(Y5))} -> 45658 | AB5: {=INDIRECT("'Base de données'!B" & ROW(Z5))} -> IDCZB | AD5: 45689 | AE5: =IF(AD5>1900,AD5,"") -> 45689
A6: =IF(IF(AND($B6<>"-",$B6=$E6),"Entrée et sortie","-")="Entrée et sortie",'Base de données'!$B6,"-") -> - | B6: =_xlfn.XLOOKUP($AB6,$D:$D,$C:$C,"-",0,-1) -> - | C6: =IF($AA6<>$AE$1,$D6,"-") -> - | D6: =IF($F6="sortie en cours d'année",'Base de données'!$B6,"-") -> - | E6: =IF($H6="entrée en cours d'année",'Base de données'!$B6,"-") -> - | F6: =IF(AND(G6=0,J6="mouvement"),"sortie en cours d'année","") | G6: =IF($J6="mouvement",_xlfn.XLOOKUP('Base de données'!$B6,$V:$V,$V:$V,0),"") | H6: =IF(AND(I6=0,J6="mouvement"),"entrée en cours d'année","") | I6: =IF($J6="mouvement",_xlfn.XLOOKUP('Base de données'!$B6,$K:$K,$K:$K,0),"") | J6: =IF(AND(Y6<>MAX(Y:Y),COUNTIF(K6:V6,'Base de données'!$B6)>0),"mouvement","") | K6: =IF(K$1>$AE$1,"-",IFERROR(IF(DATEDIF('Base de données'!$A6,K$1,"d")<>0,"",'Base de données'!$B6),"")) -> WVLRU | L6: =IF(L$1>$AE$1,"-",IFERROR(IF(DATEDIF('Base de données'!$A6,L$1,"d")<>0,"",'Base de données'!$B6),"")) | M6: =IF(M$1>$AE$1,"-",IFERROR(IF(DATEDIF('Base de données'!$A6,M$1,"d")<>0,"",'Base de données'!$B6),"")) | N6: =IF(N$1>$AE$1,"-",IFERROR(IF(DATEDIF('Base de données'!$A6,N$1,"d")<>0,"",'Base de données'!$B6),"")) | O6: =IF(O$1>$AE$1,"-",IFERROR(IF(DATEDIF('Base de données'!$A6,O$1,"d")<>0,"",'Base de données'!$B6),"")) | P6: =IF(P$1>$AE$1,"-",IFERROR(IF(DATEDIF('Base de données'!$A6,P$1,"d")<>0,"",'Base de données'!$B6),"")) | Q6: =IF(Q$1>$AE$1,"-",IFERROR(IF(DATEDIF('Base de données'!$A6,Q$1,"d")<>0,"",'Base de données'!$B6),"")) | R6: =IF(R$1>$AE$1,"-",IFERROR(IF(DATEDIF('Base de données'!$A6,R$1,"d")<>0,"",'Base de données'!$B6),"")) | ... V6: =IF(V$1>$AE$1,"-",IFERROR(IF(DATEDIF('Base de données'!$A6,V$1,"d")<>0,"",'Base de données'!$B6),"")) | X6: ='Base de données'!$C6&" "&'Base de données'!$D6 -> Brunet Charles | Y6: =COUNTIF('Base de données'!$B:$B,'Base de données'!$B6) -> 12 | AA6: {=INDIRECT("'Base de données'!A" & ROW(Y6))} -> 45658 | AB6: {=INDIRECT("'Base de données'!B" & ROW(Z6))} -> WVLRU | AD6: 45717 | AE6: =IF(AD6>1900,AD6,"") -> 45717
A7: =IF(IF(AND($B7<>"-",$B7=$E7),"Entrée et sortie","-")="Entrée et sortie",'Base de données'!$B7,"-") -> - | B7: =_xlfn.XLOOKUP($AB7,$D:$D,$C:$C,"-",0,-1) -> I3SPC | C7: =IF($AA7<>$AE$1,$D7,"-") -> I3SPC | D7: =IF($F7="sortie en cours d'année",'Base de données'!$B7,"-") -> I3SPC | E7: =IF($H7="entrée en cours d'année",'Base de données'!$B7,"-") -> - | F7: =IF(AND(G7=0,J7="mouvement"),"sortie en cours d'année","") -> sortie en cours d'année | G7: =IF($J7="mouvement",_xlfn.XLOOKUP('Base de données'!$B7,$V:$V,$V:$V,0),"") -> 0 | H7: =IF(AND(I7=0,J7="mouvement"),"entrée en cours d'année","") | I7: =IF($J7="mouvement",_xlfn.XLOOKUP('Base de données'!$B7,$K:$K,$K:$K,0),"") -> I3SPC | J7: =IF(AND(Y7<>MAX(Y:Y),COUNTIF(K7:V7,'Base de données'!$B7)>0),"mouvement","") -> mouvement | K7: =IF(K$1>$AE$1,"-",IFERROR(IF(DATEDIF('Base de données'!$A7,K$1,"d")<>0,"",'Base de données'!$B7),"")) -> I3SPC | L7: =IF(L$1>$AE$1,"-",IFERROR(IF(DATEDIF('Base de données'!$A7,L$1,"d")<>0,"",'Base de données'!$B7),"")) | M7: =IF(M$1>$AE$1,"-",IFERROR(IF(DATEDIF('Base de données'!$A7,M$1,"d")<>0,"",'Base de données'!$B7),"")) | N7: =IF(N$1>$AE$1,"-",IFERROR(IF(DATEDIF('Base de données'!$A7,N$1,"d")<>0,"",'Base de données'!$B7),"")) | O7: =IF(O$1>$AE$1,"-",IFERROR(IF(DATEDIF('Base de données'!$A7,O$1,"d")<>0,"",'Base de données'!$B7),"")) | P7: =IF(P$1>$AE$1,"-",IFERROR(IF(DATEDIF('Base de données'!$A7,P$1,"d")<>0,"",'Base de données'!$B7),"")) | Q7: =IF(Q$1>$AE$1,"-",IFERROR(IF(DATEDIF('Base de données'!$A7,Q$1,"d")<>0,"",'Base de données'!$B7),"")) | R7: =IF(R$1>$AE$1,"-",IFERROR(IF(DATEDIF('Base de données'!$A7,R$1,"d")<>0,"",'Base de données'!$B7),"")) | ... V7: =IF(V$1>$AE$1,"-",IFERROR(IF(DATEDIF('Base de données'!$A7,V$1,"d")<>0,"",'Base de données'!$B7),"")) | X7: ='Base de données'!$C7&" "&'Base de données'!$D7 -> Boulanger Martine | Y7: =COUNTIF('Base de données'!$B:$B,'Base de données'!$B7) -> 5 | AA7: {=INDIRECT("'Base de données'!A" & ROW(Y7))} -> 45658 | AB7: {=INDIRECT("'Base de données'!B" & ROW(Z7))} -> I3SPC | AD7: 45748 | AE7: =IF(AD7>1900,AD7,"") -> 45748
A8: =IF(IF(AND($B8<>"-",$B8=$E8),"Entrée et sortie","-")="Entrée et sortie",'Base de données'!$B8,"-") -> - | B8: =_xlfn.XLOOKUP($AB8,$D:$D,$C:$C,"-",0,-1) -> - | C8: =IF($AA8<>$AE$1,$D8,"-") -> - | D8: =IF($F8="sortie en cours d'année",'Base de données'!$B8,"-") -> - | E8: =IF($H8="entrée en cours d'année",'Base de données'!$B8,"-") -> - | F8: =IF(AND(G8=0,J8="mouvement"),"sortie en cours d'année","") | G8: =IF($J8="mouvement",_xlfn.XLOOKUP('Base de données'!$B8,$V:$V,$V:$V,0),"") | H8: =IF(AND(I8=0,J8="mouvement"),"entrée en cours d'année","") | I8: =IF($J8="mouvement",_xlfn.XLOOKUP('Base de données'!$B8,$K:$K,$K:$K,0),"") | J8: =IF(AND(Y8<>MAX(Y:Y),COUNTIF(K8:V8,'Base de données'!$B8)>0),"mouvement","") | K8: =IF(K$1>$AE$1,"-",IFERROR(IF(DATEDIF('Base de données'!$A8,K$1,"d")<>0,"",'Base de données'!$B8),"")) -> H1WN8 | L8: =IF(L$1>$AE$1,"-",IFERROR(IF(DATEDIF('Base de données'!$A8,L$1,"d")<>0,"",'Base de données'!$B8),"")) | M8: =IF(M$1>$AE$1,"-",IFERROR(IF(DATEDIF('Base de données'!$A8,M$1,"d")<>0,"",'Base de données'!$B8),"")) | N8: =IF(N$1>$AE$1,"-",IFERROR(IF(DATEDIF('Base de données'!$A8,N$1,"d")<>0,"",'Base de données'!$B8),"")) | O8: =IF(O$1>$AE$1,"-",IFERROR(IF(DATEDIF('Base de données'!$A8,O$1,"d")<>0,"",'Base de données'!$B8),"")) | P8: =IF(P$1>$AE$1,"-",IFERROR(IF(DATEDIF('Base de données'!$A8,P$1,"d")<>0,"",'Base de données'!$B8),"")) | Q8: =IF(Q$1>$AE$1,"-",IFERROR(IF(DATEDIF('Base de données'!$A8,Q$1,"d")<>0,"",'Base de données'!$B8),"")) | R8: =IF(R$1>$AE$1,"-",IFERROR(IF(DATEDIF('Base de données'!$A8,R$1,"d")<>0,"",'Base de données'!$B8),"")) | ... V8: =IF(V$1>$AE$1,"-",IFERROR(IF(DATEDIF('Base de données'!$A8,V$1,"d")<>0,"",'Base de données'!$B8),"")) | X8: ='Base de données'!$C8&" "&'Base de données'!$D8 -> Colas Claudine | Y8: =COUNTIF('Base de données'!$B:$B,'Base de données'!$B8) -> 12 | AA8: {=INDIRECT("'Base de données'!A" & ROW(Y8))} -> 45658 | AB8: {=INDIRECT("'Base de données'!B" & ROW(Z8))} -> H1WN8 | AD8: 45778 | AE8: =IF(AD8>1900,AD8,"") -> 45778
A9: =IF(IF(AND($B9<>"-",$B9=$E9),"Entrée et sortie","-")="Entrée et sortie",'Base de données'!$B9,"-") -> - | B9: =_xlfn.XLOOKUP($AB9,$D:$D,$C:$C,"-",0,-1) -> - | C9: =IF($AA9<>$AE$1,$D9,"-") -> - | D9: =IF($F9="sortie en cours d'année",'Base de données'!$B9,"-") -> - | E9: =IF($H9="entrée en cours d'année",'Base de données'!$B9,"-") -> - | F9: =IF(AND(G9=0,J9="mouvement"),"sortie en cours d'année","") | G9: =IF($J9="mouvement",_xlfn.XLOOKUP('Base de données'!$B9,$V:$V,$V:$V,0),"") | H9: =IF(AND(I9=0,J9="mouvement"),"entrée en cours d'année","") | I9: =IF($J9="mouvement",_xlfn.XLOOKUP('Base de données'!$B9,$K:$K,$K:$K,0),"") | J9: =IF(AND(Y9<>MAX(Y:Y),COUNTIF(K9:V9,'Base de données'!$B9)>0),"mouvement","") | K9: =IF(K$1>$AE$1,"-",IFERROR(IF(DATEDIF('Base de données'!$A9,K$1,"d")<>0,"",'Base de données'!$B9),"")) -> 61344 | L9: =IF(L$1>$AE$1,"-",IFERROR(IF(DATEDIF('Base de données'!$A9,L$1,"d")<>0,"",'Base de données'!$B9),"")) | M9: =IF(M$1>$AE$1,"-",IFERROR(IF(DATEDIF('Base de données'!$A9,M$1,"d")<>0,"",'Base de données'!$B9),"")) | N9: =IF(N$1>$AE$1,"-",IFERROR(IF(DATEDIF('Base de données'!$A9,N$1,"d")<>0,"",'Base de données'!$B9),"")) | O9: =IF(O$1>$AE$1,"-",IFERROR(IF(DATEDIF('Base de données'!$A9,O$1,"d")<>0,"",'Base de données'!$B9),"")) | P9: =IF(P$1>$AE$1,"-",IFERROR(IF(DATEDIF('Base de données'!$A9,P$1,"d")<>0,"",'Base de données'!$B9),"")) | Q9: =IF(Q$1>$AE$1,"-",IFERROR(IF(DATEDIF('Base de données'!$A9,Q$1,"d")<>0,"",'Base de données'!$B9),"")) | R9: =IF(R$1>$AE$1,"-",IFERROR(IF(DATEDIF('Base de données'!$A9,R$1,"d")<>0,"",'Base de données'!$B9),"")) | ... V9: =IF(V$1>$AE$1,"-",IFERROR(IF(DATEDIF('Base de données'!$A9,V$1,"d")<>0,"",'Base de données'!$B9),"")) | X9: ='Base de données'!$C9&" "&'Base de données'!$D9 -> De Oliveira Benoît | Y9: =COUNTIF('Base de données'!$B:$B,'Base de données'!$B9) -> 12 | AA9: {=INDIRECT("'Base de données'!A" & ROW(Y9))} -> 45658 | AB9: {=INDIRECT("'Base de données'!B" & ROW(Z9))} -> 61344 | AD9: 45809 | AE9: =IF(AD9>1900,AD9,"") -> 45809
A10: =IF(IF(AND($B10<>"-",$B10=$E10),"Entrée et sortie","-")="Entrée et sortie",'Base de données'!$B10,"-") -> - | B10: =_xlfn.XLOOKUP($AB10,$D:$D,$C:$C,"-",0,-1) -> JHHFN | C10: =IF($AA10<>$AE$1,$D10,"-") -> JHHFN | D10: =IF($F10="sortie en cours d'année",'Base de données'!$B10,"-") -> JHHFN | E10: =IF($H10="entrée en cours d'année",'Base de données'!$B10,"-") -> - | F10: =IF(AND(G10=0,J10="mouvement"),"sortie en cours d'année","") -> sortie en cours d'année | G10: =IF($J10="mouvement",_xlfn.XLOOKUP('Base de données'!$B10,$V:$V,$V:$V,0),"") -> 0 | H10: =IF(AND(I10=0,J10="mouvement"),"entrée en cours d'année","") | I10: =IF($J10="mouvement",_xlfn.XLOOKUP('Base de données'!$B10,$K:$K,$K:$K,0),"") -> JHHFN | J10: =IF(AND(Y10<>MAX(Y:Y),COUNTIF(K10:V10,'Base de données'!$B10)>0),"mouvement","") -> mouvement | K10: =IF(K$1>$AE$1,"-",IFERROR(IF(DATEDIF('Base de données'!$A10,K$1,"d")<>0,"",'Base de données'!$B10),"")) -> JHHFN | L10: =IF(L$1>$AE$1,"-",IFERROR(IF(DATEDIF('Base de données'!$A10,L$1,"d")<>0,"",'Base de données'!$B10),"")) | M10: =IF(M$1>$AE$1,"-",IFERROR(IF(DATEDIF('Base de données'!$A10,M$1,"d")<>0,"",'Base de données'!$B10),"")) | N10: =IF(N$1>$AE$1,"-",IFERROR(IF(DATEDIF('Base de données'!$A10,N$1,"d")<>0,"",'Base de données'!$B10),"")) | O10: =IF(O$1>$AE$1,"-",IFERROR(IF(DATEDIF('Base de données'!$A10,O$1,"d")<>0,"",'Base de données'!$B10),"")) | P10: =IF(P$1>$AE$1,"-",IFERROR(IF(DATEDIF('Base de données'!$A10,P$1,"d")<>0,"",'Base de données'!$B10),"")) | Q10: =IF(Q$1>$AE$1,"-",IFERROR(IF(DATEDIF('Base de données'!$A10,Q$1,"d")<>0,"",'Base de données'!$B10),"")) | R10: =IF(R$1>$AE$1,"-",IFERROR(IF(DATEDIF('Base de données'!$A10,R$1,"d")<>0,"",'Base de données'!$B10),"")) | ... V10: =IF(V$1>$AE$1,"-",IFERROR(IF(DATEDIF('Base de données'!$A10,V$1,"d")<>0,"",'Base de données'!$B10),"")) | X10: ='Base de données'!$C10&" "&'Base de données'!$D10 -> Pichon Rémy | Y10: =COUNTIF('Base de données'!$B:$B,'Base de données'!$B10) -> 1 | AA10: {=INDIRECT("'Base de données'!A" & ROW(Y10))} -> 45658 | AB10: {=INDIRECT("'Base de données'!B" & ROW(Z10))} -> JHHFN | AD10: 45839 | AE10: =IF(AD10>1900,AD10,"") -> 45839
