Workbook

Sheet Accueil
G2: DISCLAIMER : les bases de données sont générées à partir d'une IA (Microsoft Copilot)
G3: Ce fichier est donc un fichier de travail permettant la compréhension et l'usage de formules.
G4: En aucun cas, il ne s'agit de données réelles et/ou confidentielles.
G5: Je vous remercie pour votre compréhension.
A9: Bonjour et bienvenue sur le fichier d'exercices "Recherche V_H_X "
A11: Le fichier se compose de 4 onglets :
A12: 1) | B12: L'onglet "Accueil" sert de page de présentation
A13: 2) | B13: L'onglet "Formules" recense les principales formules des exercices
A14: 3) | B14: L'onglet "Base de données" contient une base de données ainsi que des exercices
A15: 4) | B15: L'onglet "Exercices" est un emplacement pour répondre aux questions

Sheet Formules
C2: FORMULES | D2: DESCRIPTIONS | E2: USAGES
C3: =rechercheV (valeur cherchée ? ; dans quel tableau ? ; choisir le nombre de colonne à sauter ; 0) | D3: Permet de rechercher une valeur Verticalement dans un tableau (uniquement de gauche à droite) | E3: Utile pour chercher une information précise (par exemple un type de contrat) lorsque vous avez une liste de matricules
C5: =rechercheH (valeur cherchée ? ; dans quel tableau ? ; choisir le nombre de ligne à sauter ; 0) | D5: Permet de rechercher une valeur Horizontalement dans un tableau (uniquement de haut en bas) | E5: Utile pour chercher une information dans un budget car celui-ci est établi sur 12 mois (généralement de façon horizontale)
C7: =rechercheX (valeur cherchée ? ; dans quel colonne ? ; colonne renvoyée ; valeur si non trouvée ; 0 ; mode de correspondance) | D7: Est version améliorée de la rechercheV car la X permet de chercher des données de droite à gauche (dans les deux sens) de notre colonne. Ce qui n'est pas le cas de la rechercheV | E7: A utiliser dans 99% des cas. En maitrisant la rechercheX, il est peu probable que vous repassiez à la rechercheV (car jugée plus rigide)
C8: *0 = on indique à la formule que l'on souhaite un résultat exact et non approximatif à notre demande. Ce "0" est primordial ! A indiquer systématiquement.
C9: Le mode de correspondance : 1 = chercher de haut en bas. -1 = chercher de bas en haut. Dans 99% des cas, utiliser le 1 (haut en bas)
D12: Matricule (en votre possession) | E12: Contrat (information que vous cherchez)
C13: Cas de figure d'utilisation de la rechercheV : | D13: GPNP7 | E13: ?
D17: Mois concerné (celui que vous voulez chercher dans le budget) | E17: Budget prévu (information que vous cherchez)
C18: Cas de figure d'utilisation de la rechercheH : | D18: 45901 | E18: ?
C20: Toutes les formules ci-dessus seront illustrées dans l'onglet "Exercices"

Sheet Base de données
A1: Matricule | B1: Nom | C1: Prénom | D1: Sexe | E1: Date_entrée | F1: Contrat | G1: Service | O1: x
A2: GPNP7 | B2: Perret | C2: Agnès | D2: F | E2: 45667 | F2: Stage | G2: Commerciaux | J2: 🧮 Exercices
A3: DKKLE | B3: Baron | C3: Danielle | D3: F | E3: 44294 | F3: Alternant | G3: Marketing | I3: 1 | J3: Quels sont les types de contrats des matricules suivants : 1N0T3 / 2UDL1 / IDCZB
A4: X43EK | B4: Aubry | C4: Georges | D4: H | E4: 45672 | F4: CDD | G4: Marketing | I4: 2 | J4: Quel est le delta de septembre à novembre 2025 ?
A5: IDCZB | B5: Pages | C5: Emmanuel | D5: H | E5: 44164 | F5: Stage | G5: Commerciaux | I5: 3 | J5: Quels sont les matricules des salariés rentrés le 02/04/2023 ; 19/03/2022 ; 20/05/2024 ?
A6: WVLRU | B6: Brunet | C6: Charles | D6: H | E6: 44766 | F6: CDI | G6: Informatique
A7: I3SPC | B7: Boulanger | C7: Martine | D7: F | E7: 44884 | F7: CDI | G7: RH
A8: H1WN8 | B8: Colas | C8: Claudine | D8: F | E8: 45295 | F8: CDI | G8: Logistique | J8: BUDGET 2025
A9: 61344 | B9: De Oliveira | C9: Benoît | D9: H | E9: 44378 | F9: CDI | G9: Informatique | J9: mois | K9: 45658 | L9: 45689 | M9: 45717 | N9: 45748 | O9: 45778 | P9: 45809 | Q9: 45839 | R9: 45870 | S9: 45901 | T9: 45931 | U9: 45962 | V9: 45992
A10: JHHFN | B10: Pichon | C10: Rémy | D10: H | E10: 45255 | F10: CDD | G10: Commerciaux | J10: budget | K10: 9704 | L10: 9904 | M10: 9952 | N10: 9779 | O10: 9859 | P10: 10887 | Q10: 9823 | R10: 11397 | S10: 10055 | T10: 9779 | U10: 10475 | V10: 9619
A11: 7SPGI | B11: Rossi | C11: René | D11: H | E11: 45331 | F11: CDD | G11: Informatique | J11: dépensé | K11: 9768 | L11: 11019 | M11: 9968 | N11: 9548 | O11: 11299 | P11: 10279 | Q11: 9747 | R11: 11468 | S11: 9809 | T11: 9607 | U11: 9645 | V11: 9600
A12: E3HIK | B12: Marin | C12: Éric | D12: H | E12: 44626 | F12: CDI | G12: RH | J12: delta | K12: =K10-K11 -> -64 | L12: =L10-L11 -> -1115 | M12: =M10-M11 -> -16 | N12: =N10-N11 -> 231 | O12: =O10-O11 -> -1440 | P12: =P10-P11 -> 608 | Q12: =Q10-Q11 -> 76 | R12: =R10-R11 -> -71 | ... V12: =V10-V11 -> 19
A13: LPLFA | B13: Étienne | C13: René | D13: H | E13: 45438 | F13: CDI | G13: Commerciaux
A14: ZDPI3 | B14: Martin | C14: Jeannine | D14: F | E14: 45643 | F14: Alternant | G14: Commerciaux
A15: 1N0T3 | B15: Lenoir | C15: Benjamin | D15: H | E15: 44501 | F15: CDI | G15: Achat
A16: Y1YI7 | B16: Roussel | C16: Monique | D16: F | E16: 44344 | F16: CDD | G16: Informatique
A17: AQ2RR | B17: Antoine | C17: Noémi | D17: F | E17: 45482 | F17: CDI | G17: Informatique
A18: U3BKH | B18: Chevalier | C18: Roland | D18: H | E18: 45417 | F18: CDI | G18: Commerciaux
A19: JU3RW | B19: Dijoux | C19: Laurent | D19: H | E19: 45140 | F19: CDI | G19: Informatique
A20: HLXBT | B20: Gautier | C20: Noémi | D20: F | E20: 44101 | F20: CDI | G20: Marketing
A21: XLFAU | B21: Laine | C21: Marine | D21: F | E21: 45808 | F21: Alternant | G21: Marketing
A22: NAMYB | B22: Da Costa | C22: Maggie | D22: F | E22: 44315 | F22: CDI | G22: Logistique
A23: K1I44 | B23: Neveu | C23: Geneviève | D23: F | E23: 44129 | F23: CDI | G23: Finance
A24: GERRB | B24: Fontaine | C24: Arthur | D24: H | E24: 44891 | F24: CDI | G24: Commerciaux
... A50: IC5XE | B50: Germain | C50: Margot | D50: F | E50: 45620 | F50: CDI | G50: Informatique

Sheet Exercices
C2: EXERCICES A REALISER AVEC DES FORMULES - HORS TCD
C3: * l'intérêt de réaliser ces exercices avec des formules, est de vous faire travailler les mécanismes d'Excel. Notamment l'usage et l'importance des $
C5: 🧮 Exercices
B6: 1 | C6: Quels sont les types de contrats des matricules suivants : 1N0T3 / 2UDL1 / IDCZB
B7: 2 | C7: Quel est le delta de septembre à novembre 2025 ?
B8: 3 | C8: Quels sont les matricules des salariés rentrés le 02/04/2023 ; 19/03/2022 ; 20/05/2024 ?
B11: FORMULE : | C11: =rechercheV
B12: 1 | C12: Quels sont les types de contrats des matricules suivants : 1N0T3 / 2UDL1 / IDCZB
C14: 1N0T3 | D14: =VLOOKUP($C14,'Base de données'!$A$2:$F$50,6,0) -> CDI | E14: Il est primordial de mettre des $ dans votre formule lorsque vous sélectionnez votre tableau !
C15: 2UDL1 | D15: =VLOOKUP($C15,'Base de données'!$A$2:$F$50,6,0) -> CDD | E15: Sinon, lorsque vous tirerez les formules, celui-ci se déplacera... Et faussera vos résultats
C16: IDCZB | D16: =VLOOKUP($C16,'Base de données'!$A$2:$F$50,6,0) -> Stage
D17: Ici dans la formule :
C18: - | D18: Je demande de chercher mon matricule
C19: - | D19: Dans le tableau que j'ai sélectionné
C20: - | D20: De sauter 6 colonnes entre ma colonne "matricule" et ma colonne "contrat"
C21: - | D21: ;0 = car je veux un résultat exact et non approximatif
B24: FORMULE : | C24: =rechercheH
B25: 2 | C25: Quel est le delta de septembre à novembre 2025 ?
C27: 45901 | D27: =HLOOKUP($C27,'Base de données'!$K$9:$V$12,4,0) -> 246 | E27: Comme la rechercheV :
C28: 45931 | D28: =HLOOKUP($C28,'Base de données'!$K$9:$V$12,4,0) -> 172 | E28: Vous devez impérativement mettre des $ dans votre formule lorsque sélectionnez votre tableau
C29: 45962 | D29: =HLOOKUP($C29,'Base de données'!$K$9:$V$12,4,0) -> 830
D30: Ici dans la formule :
C31: - | D31: Je demande de chercher mon mois
C32: - | D32: Dans le tableau que j'ai sélectionné
C33: - | D33: De sauter 4 lignes entre ma ligne "mois" et ma ligne "delta"
C34: - | D34: ;0 = car je veux un résultat exact et non approximatif
B37: FORMULE : | C37: =rechercheX
B38: 3 | C38: Quels sont les matricules des salariés rentrés le 02/04/2023 ; 19/03/2022 ; 20/05/2024 ?
C40: 45018 | D40: =_xlfn.XLOOKUP($C40,'Base de données'!$E:$E,'Base de données'!$A:$A,"",0,1) -> Y670G | E40: L'importance des $ se fait également à la sélection des colonnes !
C41: 44639 | D41: =_xlfn.XLOOKUP($C41,'Base de données'!$E:$E,'Base de données'!$A:$A,"",0,1) -> 2TAA0
C42: 45432 | D42: =_xlfn.XLOOKUP($C42,'Base de données'!$E:$E,'Base de données'!$A:$A,"",0,1) -> DH91K
D43: Ici dans la formule :
C44: - | D44: Je demande de chercher ma valeur (02/04/2023)
C45: - | D45: Dans la colonne E (Date_entrée)
C46: - | D46: De me renvoyer le résultat trouvé dans la colonne A (Matricule)
C47: - | D47: Si la formule ne trouve rien, alors le "" = ne rien indiquer
C48: - | D48: ;0 = car je veux un résultat exact et non approximatif
C49: - | D49: ;1 = car je veux qu'il me recherche ceci de la première ligne à la dernière ligne du tableau (de haut en bas)
D51: La recherche X est pratique car:
C52: - | D52: Je peux faire une recherche de droite à gauche (ce qui n'est pas le cas de la rechercheV)
...
